BEGIN:VCALENDAR
VERSION:2.0
PRODID:-//vivat - ECPv4.9.14//NONSGML v1.0//EN
CALSCALE:GREGORIAN
METHOD:PUBLISH
X-WR-CALNAME:vivat
X-ORIGINAL-URL:https://vivatselvmordsforebygging.net
X-WR-CALDESC:Events for vivat
BEGIN:VTIMEZONE
TZID:Europe/Oslo
BEGIN:DAYLIGHT
TZOFFSETFROM:+0100
TZOFFSETTO:+0200
TZNAME:CEST
DTSTART:20220327T010000
END:DAYLIGHT
BEGIN:STANDARD
TZOFFSETFROM:+0200
TZOFFSETTO:+0100
TZNAME:CET
DTSTART:20221030T010000
END:STANDARD
END:VTIMEZONE
BEGIN:VEVENT
DTSTART;VALUE=DATE:20221206
DTEND;VALUE=DATE:20221208
DTSTAMP:20260422T172030
CREATED:20220830T103403Z
LAST-MODIFIED:20220830T103403Z
UID:9310-1670284800-1670457599@vivatselvmordsforebygging.net
SUMMARY:Sandvika\, Førstehjelp ved selvmordsfare
DESCRIPTION:Bærum kommune\, Psykisk helse og rus arrangerer kurset Førstehjelp ved selvmordsfare. \nKurset er lukket. \nKontaktperson er Camilla Weedon\, epost: camillaweedon@gmail.com \n
URL:https://vivatselvmordsforebygging.net/event/sandvika-forstehjelp-ved-selvmordsfare-4/
LOCATION:Sandvika\, Norge
CATEGORIES:Kurs,Førstehjelp ved selvmordsfare,Øst,Lukket kurs
GEO:60.472024;8.468946
END:VEVENT
BEGIN:VEVENT
DTSTART;VALUE=DATE:20221206
DTEND;VALUE=DATE:20221208
DTSTAMP:20260422T172030
CREATED:20220913T085320Z
LAST-MODIFIED:20220913T085320Z
UID:9366-1670284800-1670457599@vivatselvmordsforebygging.net
SUMMARY:Stokke\, Førstehjelp ved selvmordsfare
DESCRIPTION:Sandefjord kommune arrangerer kurset Førstehjelp ved selvmordsfare. \nKurset er i utgangspunktet lukket\, med ved ledige plasser kan andre gis plass. \nInvitasjon 6-7.12.22 \nKontaktperson: Harald Heggernes\, epost:  harald.heggernes@sandefjord.kommune.no \n  \n
URL:https://vivatselvmordsforebygging.net/event/stokke-forstehjelp-ved-selvmordsfare-3/
LOCATION:Sandefjord\, Storgata 20\, Sandefjord\, Vestfold\, 3210\, Norge
CATEGORIES:Kurs,Førstehjelp ved selvmordsfare,Sør,Åpent/delvis åpent kurs,Lukket kurs
GEO:59.1260689;10.221326
X-APPLE-STRUCTURED-LOCATION;VALUE=URI;X-ADDRESS=Sandefjord Storgata 20 Sandefjord Vestfold 3210 Norge;X-APPLE-RADIUS=500;X-TITLE=Storgata 20:geo:10.221326,59.1260689
END:VEVENT
BEGIN:VEVENT
DTSTART;VALUE=DATE:20221206
DTEND;VALUE=DATE:20221208
DTSTAMP:20260422T172030
CREATED:20221109T130052Z
LAST-MODIFIED:20221109T130052Z
UID:9570-1670284800-1670457599@vivatselvmordsforebygging.net
SUMMARY:Stavanger\, Førstehjelp ved selvmordsfare
DESCRIPTION:A2G kompetanse arrangerer kurset Førstehjelp ved selvmordsfare. \nKurset er lukket. \nKontaktperson er Pål Andersen\, epost: Pal.Andersen@a2g.no \n  \n
URL:https://vivatselvmordsforebygging.net/event/stavanger-forstehjelp-ved-selvmordsfare-25/
LOCATION:Stavanger\, Rogaland\, 4000\, Norge
CATEGORIES:Kurs,Førstehjelp ved selvmordsfare,Vest,Lukket kurs
GEO:58.9562814;5.7377252
END:VEVENT
BEGIN:VEVENT
DTSTART;VALUE=DATE:20221207
DTEND;VALUE=DATE:20221209
DTSTAMP:20260422T172030
CREATED:20221104T132541Z
LAST-MODIFIED:20221104T132541Z
UID:9558-1670371200-1670543999@vivatselvmordsforebygging.net
SUMMARY:Bergen\, Førstehjelp ved selvmordsfare
DESCRIPTION:Sjøforsvaret arrangerer kurset Førstehjelp ved selvmordsfare. \nKurset er primært for Sjøforsvarets personell\, men ved ledig plass\, er det åpent for andre. \nKontaktperson er Hans Kenneth Sundsbø\, epost: hsundsbo@mil.no \n
URL:https://vivatselvmordsforebygging.net/event/bergen-forstehjelp-ved-selvmordsfare-110/
LOCATION:Haakonsvern\, Mathopen\, Bergen\, Hordaland\, 5173\, Norge
CATEGORIES:Kurs,Førstehjelp ved selvmordsfare,Vest,Lukket kurs
GEO:60.3380604;5.2093597
X-APPLE-STRUCTURED-LOCATION;VALUE=URI;X-ADDRESS=Haakonsvern Mathopen Bergen Hordaland 5173 Norge;X-APPLE-RADIUS=500;X-TITLE=Mathopen:geo:5.2093597,60.3380604
END:VEVENT
END:VCALENDAR