BEGIN:VCALENDAR
VERSION:2.0
PRODID:-//vivat - ECPv4.9.14//NONSGML v1.0//EN
CALSCALE:GREGORIAN
METHOD:PUBLISH
X-WR-CALNAME:vivat
X-ORIGINAL-URL:https://vivatselvmordsforebygging.net
X-WR-CALDESC:Events for vivat
BEGIN:VTIMEZONE
TZID:Europe/Oslo
BEGIN:DAYLIGHT
TZOFFSETFROM:+0100
TZOFFSETTO:+0200
TZNAME:CEST
DTSTART:20230326T010000
END:DAYLIGHT
BEGIN:STANDARD
TZOFFSETFROM:+0200
TZOFFSETTO:+0100
TZNAME:CET
DTSTART:20231029T010000
END:STANDARD
END:VTIMEZONE
BEGIN:VEVENT
DTSTART;VALUE=DATE:20230123
DTEND;VALUE=DATE:20230125
DTSTAMP:20260422T160211
CREATED:20221031T121535Z
LAST-MODIFIED:20221031T121535Z
UID:9547-1674432000-1674604799@vivatselvmordsforebygging.net
SUMMARY:Bergen\, Førstehjelp ved selvmordsfare
DESCRIPTION:Bergen kompetansesenter for læringsmiljø arrangerer kurset Førstehjelp ved selvmordsfare. \nKurset er for ansatte\, og lukket for andre deltakere. \nKontaktperson er Tine Hammerich\, epost: tine.hammerich@bergen.kommune.no \n  \n
URL:https://vivatselvmordsforebygging.net/event/bergen-forstehjelp-ved-selvmordsfare-109/
LOCATION:Bergen\, Norge
CATEGORIES:Kurs,Førstehjelp ved selvmordsfare,Vest,Lukket kurs
GEO:60.472024;8.468946
END:VEVENT
BEGIN:VEVENT
DTSTART;VALUE=DATE:20230124
DTEND;VALUE=DATE:20230126
DTSTAMP:20260422T160211
CREATED:20230102T093039Z
LAST-MODIFIED:20230102T093039Z
UID:9736-1674518400-1674691199@vivatselvmordsforebygging.net
SUMMARY:Terningmoen\, Førstehjelp ved selvmordfare
DESCRIPTION:Forsvaret arrangerer kurset Førstehjelp ved selvmordsfare. \nKurset er lukket. \nKontaktperson er Lars Erichsen\, epost: lars.erichsen@hotmail.com \n
URL:https://vivatselvmordsforebygging.net/event/terningmoen-forstehjelp-ved-selvmordfare/
LOCATION:Terningmoen\, Norge
CATEGORIES:Kurs,Førstehjelp ved selvmordsfare,Øst,Lukket kurs
GEO:60.472024;8.468946
END:VEVENT
BEGIN:VEVENT
DTSTART;VALUE=DATE:20230124
DTEND;VALUE=DATE:20230125
DTSTAMP:20260422T160211
CREATED:20230102T111749Z
LAST-MODIFIED:20230109T121716Z
UID:9746-1674518400-1674604799@vivatselvmordsforebygging.net
SUMMARY:Mosjøen\, Oppmerksom på selvmordstanker
DESCRIPTION:Nordland fylkeskommune arrangerer kurset Oppmerksom på selvmordstanker på Mosjøen videregående skole. \nKurset er for ansatte ved skolen. \nKontaktperson er Torunn Blokhus\, epost: torunn.blokhus@sbnett.no \n
URL:https://vivatselvmordsforebygging.net/event/mosjoen-oppmerksom-pa-selvmordstanker/
LOCATION:Mosjøen\, Norge
CATEGORIES:Kurs,Oppmerksom på selvmordstanker,Nord,Lukket kurs
GEO:60.472024;8.468946
END:VEVENT
BEGIN:VEVENT
DTSTART;VALUE=DATE:20230124
DTEND;VALUE=DATE:20230125
DTSTAMP:20260422T160211
CREATED:20230105T094000Z
LAST-MODIFIED:20230105T094000Z
UID:9751-1674518400-1674604799@vivatselvmordsforebygging.net
SUMMARY:Sortland\, Oppmerksom på selvmordstanker
DESCRIPTION:Forsvaret arrangerer kurset Oppmerksom på selvmordstanker. \nKurset er for personell i Kystvakta\, og lukket for andre deltakere. \nKontaktperson er Knut Helge K. Moe\, epost: kmoe@mil.no \n
URL:https://vivatselvmordsforebygging.net/event/sortland-oppmerksom-pa-selvmordstanker-23/
LOCATION:Sortland\, Norge
CATEGORIES:Kurs,Oppmerksom på selvmordstanker,Nord,Lukket kurs
END:VEVENT
BEGIN:VEVENT
DTSTART;VALUE=DATE:20230124
DTEND;VALUE=DATE:20230125
DTSTAMP:20260422T160211
CREATED:20230112T142547Z
LAST-MODIFIED:20230112T142607Z
UID:9813-1674518400-1674604799@vivatselvmordsforebygging.net
SUMMARY:Oslo\, Oppmerksom på selvmordstanker
DESCRIPTION:VID Oslo arrangerer kurset Oppmerksom på selvmordstanker \nKurset er lukket. \nKontaktperson er Elisabeth Nilsen Aas\, epost: elisabeth.aas@vid.no \n
URL:https://vivatselvmordsforebygging.net/event/oslo-oppmerksom-pa-selvmordstanker-44/
LOCATION:Oslo\, Norge
CATEGORIES:Kurs,Oppmerksom på selvmordstanker,Øst,Lukket kurs
GEO:60.472024;8.468946
END:VEVENT
END:VCALENDAR