BEGIN:VCALENDAR
VERSION:2.0
PRODID:-//vivat - ECPv4.9.14//NONSGML v1.0//EN
CALSCALE:GREGORIAN
METHOD:PUBLISH
X-WR-CALNAME:vivat
X-ORIGINAL-URL:https://vivatselvmordsforebygging.net
X-WR-CALDESC:Events for vivat
BEGIN:VTIMEZONE
TZID:Europe/Oslo
BEGIN:DAYLIGHT
TZOFFSETFROM:+0100
TZOFFSETTO:+0200
TZNAME:CEST
DTSTART:20230326T010000
END:DAYLIGHT
BEGIN:STANDARD
TZOFFSETFROM:+0200
TZOFFSETTO:+0100
TZNAME:CET
DTSTART:20231029T010000
END:STANDARD
END:VTIMEZONE
BEGIN:VEVENT
DTSTART;VALUE=DATE:20230208
DTEND;VALUE=DATE:20230210
DTSTAMP:20260422T143459
CREATED:20230118T132107Z
LAST-MODIFIED:20230118T132147Z
UID:9833-1675814400-1675987199@vivatselvmordsforebygging.net
SUMMARY:Hitra\, Førstehjelp ved selvmordsfare
DESCRIPTION:Hitra og Frøya kommune arrangerer kurset Førstehjelp ved selvmordsfare. \nKurset er for kommuneansatte\, og lukket for andre deltakere. \nKontaktperson er Eva Måsøval Antonsen\, epost: Eva.Masoval.Antonsen@hitra.kommune.no \n
URL:https://vivatselvmordsforebygging.net/event/hitra-forstehjelp-ved-selvmordsfare-3/
LOCATION:Hitra\, Norge
CATEGORIES:Kurs,Førstehjelp ved selvmordsfare,Midt,Lukket kurs
END:VEVENT
BEGIN:VEVENT
DTSTART;VALUE=DATE:20230209
DTEND;VALUE=DATE:20230211
DTSTAMP:20260422T143459
CREATED:20221121T121209Z
LAST-MODIFIED:20221121T121209Z
UID:9601-1675900800-1676073599@vivatselvmordsforebygging.net
SUMMARY:Drammen\, Førstehjelp ved selvmordsfare
DESCRIPTION:Drammen kommune arrangerer kurset Førstehjelp ved selvmordsfare. \nKurset er for ansatte i kommunen\, og lukket for andre deltakere. \nInvitasjon og påmelding \nKontaktperson er Envor M. Bjørgo Skårdalsmo\, epost: envor.skardalsmo@drammen.kommune.no \n
URL:https://vivatselvmordsforebygging.net/event/drammen-forstehjelp-ved-selvmordsfare-16/
LOCATION:Drammen\, Norge
CATEGORIES:Kurs,Førstehjelp ved selvmordsfare,Øst,Lukket kurs
GEO:60.472024;8.468946
END:VEVENT
BEGIN:VEVENT
DTSTART;VALUE=DATE:20230209
DTEND;VALUE=DATE:20230211
DTSTAMP:20260422T143459
CREATED:20221125T134304Z
LAST-MODIFIED:20221125T134304Z
UID:9642-1675900800-1676073599@vivatselvmordsforebygging.net
SUMMARY:Tromsø\, Førstehjelp ved selvmordsfare
DESCRIPTION:UiT Norges arktiske universitet arrangerer kurset Førstehjelp ved selvmordsfare. \nKurset er for psykologistudenter\, og lukket for andre deltakere. \nKontaktperson er Ingvild Nordnes Myrbakk\, epost: ingvild.n.myrbakk@uit.no \n
URL:https://vivatselvmordsforebygging.net/event/tromso-forstehjelp-ved-selvmordsfare-77/
LOCATION:Tromsø\, Norge
CATEGORIES:Kurs,Førstehjelp ved selvmordsfare,Nord,Lukket kurs
GEO:60.472024;8.468946
END:VEVENT
BEGIN:VEVENT
DTSTART;VALUE=DATE:20230209
DTEND;VALUE=DATE:20230211
DTSTAMP:20260422T143459
CREATED:20230105T155505Z
LAST-MODIFIED:20230105T155505Z
UID:9765-1675900800-1676073599@vivatselvmordsforebygging.net
SUMMARY:Skien\, Førstehjelp ved selvmordsfare
DESCRIPTION:Vestfold og Telemark fylkeskommune arrangerer kurset Førstehjelp ved selvmordsfare. \nKurset er lukket. \nKontaktperson er Elin Anne Gunleiksrud\, epost: elin.gunleiksrud@vtfk.no \n
URL:https://vivatselvmordsforebygging.net/event/skien-forstehjelp-ved-selvmordsfare-14/
LOCATION:Skien\, Norge
CATEGORIES:Kurs,Førstehjelp ved selvmordsfare,Øst,Lukket kurs
GEO:60.472024;8.468946
END:VEVENT
BEGIN:VEVENT
DTSTART;VALUE=DATE:20230209
DTEND;VALUE=DATE:20230211
DTSTAMP:20260422T143459
CREATED:20230109T125818Z
LAST-MODIFIED:20230109T125818Z
UID:9780-1675900800-1676073599@vivatselvmordsforebygging.net
SUMMARY:Trondheim\, Førstehjelp ved selvmordsfare
DESCRIPTION:St. Olavs Hospital arrangerer kurset Førstehjelp ved selvmordsfare. \nKurset er for AMK-sentralen og ambulansetjenesten ved St. Olavs. \nKontaktperson er Kristin Dragsten\, epost: KristinDragsten@hotmail.com \n
URL:https://vivatselvmordsforebygging.net/event/trondheim-forstehjelp-ved-selvmordsfare-66/
LOCATION:Trondheim\, Trondheim\, Sør-Trøndelag\, 7000\, Norge
CATEGORIES:Kurs,Førstehjelp ved selvmordsfare,Midt,Lukket kurs
GEO:63.427569;10.393207
END:VEVENT
BEGIN:VEVENT
DTSTART;VALUE=DATE:20230209
DTEND;VALUE=DATE:20230211
DTSTAMP:20260422T143459
CREATED:20230110T082012Z
LAST-MODIFIED:20230110T082012Z
UID:9784-1675900800-1676073599@vivatselvmordsforebygging.net
SUMMARY:Bergen\, Førstehjelp ved selvmordsfare
DESCRIPTION:Bergen kommune arrangerer kurset Førstehjelp ved selvmordsfare. \nKurset er lukket. \nKontaktperson er Andreas Heldal\, epost: andreas.heldal@bergen.kommune.no \n
URL:https://vivatselvmordsforebygging.net/event/bergen-forstehjelp-ved-selvmordsfare-114/
LOCATION:Bergen\, Norge
CATEGORIES:Kurs,Førstehjelp ved selvmordsfare,Vest,Lukket kurs
GEO:60.472024;8.468946
END:VEVENT
END:VCALENDAR