BEGIN:VCALENDAR
VERSION:2.0
PRODID:-//vivat - ECPv4.9.14//NONSGML v1.0//EN
CALSCALE:GREGORIAN
METHOD:PUBLISH
X-WR-CALNAME:vivat
X-ORIGINAL-URL:https://vivatselvmordsforebygging.net
X-WR-CALDESC:Events for vivat
BEGIN:VTIMEZONE
TZID:Europe/Oslo
BEGIN:DAYLIGHT
TZOFFSETFROM:+0100
TZOFFSETTO:+0200
TZNAME:CEST
DTSTART:20230326T010000
END:DAYLIGHT
BEGIN:STANDARD
TZOFFSETFROM:+0200
TZOFFSETTO:+0100
TZNAME:CET
DTSTART:20231029T010000
END:STANDARD
END:VTIMEZONE
BEGIN:VEVENT
DTSTART;VALUE=DATE:20230220
DTEND;VALUE=DATE:20230222
DTSTAMP:20260422T143459
CREATED:20221208T102507Z
LAST-MODIFIED:20221208T102507Z
UID:9696-1676851200-1677023999@vivatselvmordsforebygging.net
SUMMARY:Drammen\, Førstehjelp ved selvmordsfare
DESCRIPTION:Drammen kommune arrangerer kurset Førstehjelp ved selvmordsfare. \nKurset er for ansatte i kommunen\, og lukket for andre deltakere. \nKontaktperson er Envor M. Bjørgo Skårsdalsmo\, \nepost: Envor.Madeleine.Bjorgo.Skardalsmo@drammen.kommune.no \n
URL:https://vivatselvmordsforebygging.net/event/drammen-forstehjelp-ved-selvmordsfare-17/
LOCATION:Drammen\, Norge
CATEGORIES:Kurs,Førstehjelp ved selvmordsfare,Øst,Lukket kurs
GEO:60.472024;8.468946
END:VEVENT
BEGIN:VEVENT
DTSTART;VALUE=DATE:20230220
DTEND;VALUE=DATE:20230222
DTSTAMP:20260422T143459
CREATED:20230123T134050Z
LAST-MODIFIED:20230123T134450Z
UID:9838-1676851200-1677023999@vivatselvmordsforebygging.net
SUMMARY:Lakselv\, Førstehjelp ved selvmordsfare
DESCRIPTION:Porsanger kommune arrangerer kurset Førstehjelp ved selvmordsfare. \nKurset er åpent for alle å melde seg på. \nInvitasjon \nLink til påmelding \nKontaktperson er Anneli Naukarinnen\, epost: anneli.naukarinnen@porsanger.kommune.no \n  \n
URL:https://vivatselvmordsforebygging.net/event/lakselv-forstehjelp-ved-selvmordsfare-5/
LOCATION:Lakselv\, lakselv\, Finnmark\, 9700\, Norge
CATEGORIES:Kurs,Førstehjelp ved selvmordsfare,Nord,Åpent/delvis åpent kurs
GEO:70.0513264;24.9717819
END:VEVENT
END:VCALENDAR