BEGIN:VCALENDAR
VERSION:2.0
PRODID:-//vivat - ECPv4.9.14//NONSGML v1.0//EN
CALSCALE:GREGORIAN
METHOD:PUBLISH
X-WR-CALNAME:vivat
X-ORIGINAL-URL:https://vivatselvmordsforebygging.net
X-WR-CALDESC:Events for vivat
BEGIN:VTIMEZONE
TZID:Europe/Oslo
BEGIN:DAYLIGHT
TZOFFSETFROM:+0100
TZOFFSETTO:+0200
TZNAME:CEST
DTSTART:20230326T010000
END:DAYLIGHT
BEGIN:STANDARD
TZOFFSETFROM:+0200
TZOFFSETTO:+0100
TZNAME:CET
DTSTART:20231029T010000
END:STANDARD
END:VTIMEZONE
BEGIN:VEVENT
DTSTART;VALUE=DATE:20230302
DTEND;VALUE=DATE:20230304
DTSTAMP:20260422T130736
CREATED:20230127T132236Z
LAST-MODIFIED:20230127T132236Z
UID:9860-1677715200-1677887999@vivatselvmordsforebygging.net
SUMMARY:Tromsø\, Førstehjelp ved selvmordsfare
DESCRIPTION:Tromsø kommune arrangerer kurset Førstehjelp ved selvmordsfare. \nKurset er i utgangspunktet først og fremst for lærere\, men det er mulig for andre å melde seg på\, send epost. \nKontaktperson: Arja Mubanga-Bjørn\, epost: Arja.Bjorn@tromso.kommune.no \n
URL:https://vivatselvmordsforebygging.net/event/tromso-forstehjelp-ved-selvmordsfare-79/
LOCATION:Tromsø\, Norge
CATEGORIES:Kurs,Førstehjelp ved selvmordsfare,Nord,Lukket kurs
GEO:60.472024;8.468946
END:VEVENT
BEGIN:VEVENT
DTSTART;VALUE=DATE:20230302
DTEND;VALUE=DATE:20230304
DTSTAMP:20260422T130737
CREATED:20230201T132950Z
LAST-MODIFIED:20230201T132950Z
UID:9884-1677715200-1677887999@vivatselvmordsforebygging.net
SUMMARY:Stord\, Førstehjelp ved selvmordsfare
DESCRIPTION:Kurset Førstehjelp ved selvmordsfare arrangeres på Stord. \nDette er et prosjektsamarbeid mellom RVTS Sør\, RVTS Vest og UDI. \nKurset er for Mottak for enslige mindreårige\, ansatte og samarbeidspartnere. \nLukket kurs. \nKontaktperson er Gunnar Eide\, epost: gunnar.eide@rvtssor.no \n  \n
URL:https://vivatselvmordsforebygging.net/event/stord-forstehjelp-ved-selvmordsfare-4/
LOCATION:Stord
CATEGORIES:Kurs,Førstehjelp ved selvmordsfare,Vest,Lukket kurs
END:VEVENT
BEGIN:VEVENT
DTSTART;VALUE=DATE:20230302
DTEND;VALUE=DATE:20230303
DTSTAMP:20260422T130737
CREATED:20230214T093348Z
LAST-MODIFIED:20230214T093348Z
UID:9924-1677715200-1677801599@vivatselvmordsforebygging.net
SUMMARY:Oslo\, Oppmerksom på selvmordstanker
DESCRIPTION:Universitetet i Oslo\, Teologisk fakultet arrangerer kurset Oppmerksom på selvmordstanker. \nKurset er for studenter ved fakultetet\, og lukket for andre deltakere. \nKontaktperson er Elisabeth Nilsen Aas\, epost: elisabeth.aas@vid.no \n
URL:https://vivatselvmordsforebygging.net/event/oslo-oppmerksom-pa-selvmordstanker-46/
LOCATION:Oslo\, Norge
CATEGORIES:Kurs,Oppmerksom på selvmordstanker,Øst,Lukket kurs
GEO:60.472024;8.468946
END:VEVENT
END:VCALENDAR