BEGIN:VCALENDAR
VERSION:2.0
PRODID:-//vivat - ECPv4.9.14//NONSGML v1.0//EN
CALSCALE:GREGORIAN
METHOD:PUBLISH
X-WR-CALNAME:vivat
X-ORIGINAL-URL:https://vivatselvmordsforebygging.net
X-WR-CALDESC:Events for vivat
BEGIN:VTIMEZONE
TZID:Europe/Oslo
BEGIN:DAYLIGHT
TZOFFSETFROM:+0100
TZOFFSETTO:+0200
TZNAME:CEST
DTSTART:20230326T010000
END:DAYLIGHT
BEGIN:STANDARD
TZOFFSETFROM:+0200
TZOFFSETTO:+0100
TZNAME:CET
DTSTART:20231029T010000
END:STANDARD
END:VTIMEZONE
BEGIN:VEVENT
DTSTART;VALUE=DATE:20230307
DTEND;VALUE=DATE:20230309
DTSTAMP:20260422T130429
CREATED:20220830T103742Z
LAST-MODIFIED:20220830T103742Z
UID:9318-1678147200-1678319999@vivatselvmordsforebygging.net
SUMMARY:Sandvika\, Førstehjelp ved selvmordsfare
DESCRIPTION:Bærum kommune\, Psykisk helse og rus arrangerer kurset Førstehjelp ved selvmordsfare. \nKurset er lukket. \nKontaktperson er Camilla Weedon\, epost: camillaweedon@gmail.com \n
URL:https://vivatselvmordsforebygging.net/event/sandvika-forstehjelp-ved-selvmordsfare-7/
LOCATION:Sandvika\, Norge
CATEGORIES:Kurs,Førstehjelp ved selvmordsfare,Øst,Lukket kurs
GEO:60.472024;8.468946
END:VEVENT
BEGIN:VEVENT
DTSTART;VALUE=DATE:20230307
DTEND;VALUE=DATE:20230309
DTSTAMP:20260422T130429
CREATED:20230209T141309Z
LAST-MODIFIED:20230209T141309Z
UID:9902-1678147200-1678319999@vivatselvmordsforebygging.net
SUMMARY:Flekkefjord\, Førstehjelp ved selvmordsfare
DESCRIPTION:Flekkefjord kommune\, enhet for helse og livsmestring arrangerer kurset Førstehjelp ved selvmordsfare. \nKurset er for ansatte i kommunen\, og lukket for andre deltakere. \nKontaktperson er Veronica Thele\, epost: Veronica.thele@flekkefjord.kommune.no \n
URL:https://vivatselvmordsforebygging.net/event/flekkefjord-forstehjelp-ved-selvmordsfare-4/
LOCATION:Flekkefjord\, Vest-Agder\, 4400\, Norge
CATEGORIES:Kurs,Førstehjelp ved selvmordsfare,Vest,Lukket kurs
GEO:58.3131215;6.6518632
END:VEVENT
BEGIN:VEVENT
DTSTART;VALUE=DATE:20230308
DTEND;VALUE=DATE:20230310
DTSTAMP:20260422T130429
CREATED:20221208T072642Z
LAST-MODIFIED:20221208T072642Z
UID:9691-1678233600-1678406399@vivatselvmordsforebygging.net
SUMMARY:Sandefjord\, Førstehjelp ved selvmordsfare
DESCRIPTION:Sandefjord kommune arrangerer kurset Førstehjelp ved selvmordsfare. \nKurset er for kommunalt ansatte og lokale samarbeidsparter. Kurset er lukket. \nVed ledig kapasitet kan personer utenfor målgruppe få plass. \nKontaktperson er Harald Heggernes\, epost: Harald.Heggernes@sandefjord.kommune.no \n
URL:https://vivatselvmordsforebygging.net/event/sandefjord-forstehjelp-ved-selvmordsfare-17/
LOCATION:Stokke i Sandefjord\, Norge
CATEGORIES:Kurs,Førstehjelp ved selvmordsfare,Sør,Åpent/delvis åpent kurs
GEO:60.472024;8.468946
END:VEVENT
BEGIN:VEVENT
DTSTART;VALUE=DATE:20230308
DTEND;VALUE=DATE:20230310
DTSTAMP:20260422T130429
CREATED:20221222T114731Z
LAST-MODIFIED:20221222T114731Z
UID:9714-1678233600-1678406399@vivatselvmordsforebygging.net
SUMMARY:Vennesla\, Førstehjelp ved selvmordsfare
DESCRIPTION:RVTS Sør arrangerer kurset Førstehjelp ved selvmordsfare. \nKurset er for ansatte ved Loland Behandlingsenter. \nKontaktperson er Øyvind Dåsvatn\, epost: oyvind.dasvatn@rvtssor.no \n
URL:https://vivatselvmordsforebygging.net/event/vennesla-forstehjelp-ved-selvmordsfare-4/
LOCATION:Vennesla\, Norge
CATEGORIES:Kurs,Førstehjelp ved selvmordsfare,Sør,Lukket kurs
GEO:60.472024;8.468946
END:VEVENT
END:VCALENDAR