BEGIN:VCALENDAR
VERSION:2.0
PRODID:-//vivat - ECPv4.9.14//NONSGML v1.0//EN
CALSCALE:GREGORIAN
METHOD:PUBLISH
X-WR-CALNAME:vivat
X-ORIGINAL-URL:https://vivatselvmordsforebygging.net
X-WR-CALDESC:Events for vivat
BEGIN:VTIMEZONE
TZID:Europe/Oslo
BEGIN:DAYLIGHT
TZOFFSETFROM:+0100
TZOFFSETTO:+0200
TZNAME:CEST
DTSTART:20230326T010000
END:DAYLIGHT
BEGIN:STANDARD
TZOFFSETFROM:+0200
TZOFFSETTO:+0100
TZNAME:CET
DTSTART:20231029T010000
END:STANDARD
END:VTIMEZONE
BEGIN:VEVENT
DTSTART;VALUE=DATE:20230321
DTEND;VALUE=DATE:20230323
DTSTAMP:20260422T130429
CREATED:20220830T103852Z
LAST-MODIFIED:20220830T103852Z
UID:9320-1679356800-1679529599@vivatselvmordsforebygging.net
SUMMARY:Sandvika\, Førstehjelp ved selvmordsfare
DESCRIPTION:Bærum kommune\, Psykisk helse og rus arrangerer kurset Førstehjelp ved selvmordsfare. \nKurset er lukket. \nKontaktperson er Camilla Weedon\, epost: camillaweedon@gmail.com \n
URL:https://vivatselvmordsforebygging.net/event/sandvika-forstehjelp-ved-selvmordsfare-8/
LOCATION:Sandvika\, Norge
CATEGORIES:Kurs,Førstehjelp ved selvmordsfare,Øst,Lukket kurs
GEO:60.472024;8.468946
END:VEVENT
BEGIN:VEVENT
DTSTART;VALUE=DATE:20230321
DTEND;VALUE=DATE:20230323
DTSTAMP:20260422T130429
CREATED:20221222T114935Z
LAST-MODIFIED:20221222T114935Z
UID:9717-1679356800-1679529599@vivatselvmordsforebygging.net
SUMMARY:Porsgrunn\, Førstehjelp ved selvmordsfare
DESCRIPTION:RVTS Sør arrangerer kurset Førstehjelp ved selvmordsfare. \nKurset er for ansatte ved Porsgrunn flyktningmottak\, og lukket for andre deltakere. \nKontaktperson er Øyvind Dåsvatn\, epost: oyvind.dasvatn@rvtssor.no \n
URL:https://vivatselvmordsforebygging.net/event/porsgrunn-forstehjelp-ved-selvmordsfare-3/
LOCATION:Porsgrunn\, Telemark\, 3900\, Norge
CATEGORIES:Kurs,Førstehjelp ved selvmordsfare,Sør,Lukket kurs
GEO:59.1874344;9.6015399
END:VEVENT
BEGIN:VEVENT
DTSTART;VALUE=DATE:20230321
DTEND;VALUE=DATE:20230323
DTSTAMP:20260422T130429
CREATED:20230310T140703Z
LAST-MODIFIED:20230310T140703Z
UID:9959-1679356800-1679529599@vivatselvmordsforebygging.net
SUMMARY:Stavanger\, Førstehjelp ved selvmordsfare
DESCRIPTION:Kurset Førstehjelp ved selvmordsfare arrangeres i Stavanger. \nKurset er for ansatte i Politiet og Forsvaret\, og er lukket for andre deltakere. \nKontaktperson er Torhild Levik\, epost: torhild.levik@gmail.com \n
URL:https://vivatselvmordsforebygging.net/event/stavanger-forstehjelp-ved-selvmordsfare-27/
LOCATION:Stavanger\, Norge
CATEGORIES:Kurs,Førstehjelp ved selvmordsfare,Vest,Lukket kurs
GEO:60.472024;8.468946
END:VEVENT
BEGIN:VEVENT
DTSTART;VALUE=DATE:20230322
DTEND;VALUE=DATE:20230324
DTSTAMP:20260422T130429
CREATED:20230201T112200Z
LAST-MODIFIED:20230201T112200Z
UID:9880-1679443200-1679615999@vivatselvmordsforebygging.net
SUMMARY:Karasjok\, Førstehjelp ved selvmordsfare
DESCRIPTION:Porsanger kommune arrangerer kurset Førstehjelp ved selvmordsfare. \nKurset er for ansatte i Karasjok kommune\, SANKS og Sametinget. \nVed ledige plasser kan andre delta. \nInvitasjon \nKontaktperson er Anneli Naukarinnen\, epost: anneli.naukkarinen@porsanger.kommune.no \n
URL:https://vivatselvmordsforebygging.net/event/karasjok-forstehjelp-ved-selvmordsfare-2/
LOCATION:Karasjok\, Norge
CATEGORIES:Kurs,Førstehjelp ved selvmordsfare,Nord
END:VEVENT
BEGIN:VEVENT
DTSTART;VALUE=DATE:20230322
DTEND;VALUE=DATE:20230323
DTSTAMP:20260422T130429
CREATED:20230213T123702Z
LAST-MODIFIED:20230213T123702Z
UID:9914-1679443200-1679529599@vivatselvmordsforebygging.net
SUMMARY:Bergen\, Oppmerksom på selvmordstanker
DESCRIPTION:VID Bergen arrangerer kurset Oppmerksom på selvmordstanker. \nKurset er lukket. \nKontaktperson er Kristin Lødøen Hope\, epost: kristin.hope@vid.no \n
URL:https://vivatselvmordsforebygging.net/event/bergen-oppmerksom-pa-selvmordstanker-28/
LOCATION:Bergen\, Norge
CATEGORIES:Kurs,Oppmerksom på selvmordstanker,Vest,Lukket kurs
GEO:60.472024;8.468946
END:VEVENT
BEGIN:VEVENT
DTSTART;VALUE=DATE:20230322
DTEND;VALUE=DATE:20230323
DTSTAMP:20260422T130429
CREATED:20230310T124011Z
LAST-MODIFIED:20230310T124011Z
UID:9944-1679443200-1679529599@vivatselvmordsforebygging.net
SUMMARY:Nittedal\, FriskOpp
DESCRIPTION:Nittedal kommune arrangerer kurset FriskOpp. \nKurset er lukket. \nKontaktperson er Hilde Engebretsen\, epost: Hilde.Engebretsen@nittedal.kommune.no \n
URL:https://vivatselvmordsforebygging.net/event/nittedal-friskopp/
LOCATION:Nittedal\, Akershus\, 1480\, Norge
CATEGORIES:Kurs,FriskOpp,Øst,Lukket kurs
GEO:60.0247146;10.942563
END:VEVENT
BEGIN:VEVENT
DTSTART;VALUE=DATE:20230322
DTEND;VALUE=DATE:20230324
DTSTAMP:20260422T130429
CREATED:20230310T142453Z
LAST-MODIFIED:20230310T142453Z
UID:9961-1679443200-1679615999@vivatselvmordsforebygging.net
SUMMARY:Skotterud\, Førstehjelp ved selvmordsfare
DESCRIPTION:Psykisk helse- og rustjeneste Eidskog kommune arrangerer kurset Førstehjelp ved selvmordsfare. \nKurset er for ansatte i kommunen\, og lukket for andre deltakere. \nKontaktperson er Ola Robertsen\, epost: ola.robertsen@eidskog \n
URL:https://vivatselvmordsforebygging.net/event/skotterud-forstehjelp-ved-selvmordsfare/
LOCATION:Skotterud\, Norge
CATEGORIES:Kurs,Førstehjelp ved selvmordsfare,Øst,Lukket kurs
END:VEVENT
END:VCALENDAR