BEGIN:VCALENDAR
VERSION:2.0
PRODID:-//vivat - ECPv4.9.14//NONSGML v1.0//EN
CALSCALE:GREGORIAN
METHOD:PUBLISH
X-WR-CALNAME:vivat
X-ORIGINAL-URL:https://vivatselvmordsforebygging.net
X-WR-CALDESC:Events for vivat
BEGIN:VTIMEZONE
TZID:Europe/Oslo
BEGIN:DAYLIGHT
TZOFFSETFROM:+0100
TZOFFSETTO:+0200
TZNAME:CEST
DTSTART:20230326T010000
END:DAYLIGHT
BEGIN:STANDARD
TZOFFSETFROM:+0200
TZOFFSETTO:+0100
TZNAME:CET
DTSTART:20231029T010000
END:STANDARD
END:VTIMEZONE
BEGIN:VEVENT
DTSTART;VALUE=DATE:20230329
DTEND;VALUE=DATE:20230331
DTSTAMP:20260422T114825
CREATED:20230310T125646Z
LAST-MODIFIED:20230310T125646Z
UID:9946-1680048000-1680220799@vivatselvmordsforebygging.net
SUMMARY:Bergen\, Førstehjelp ved selvmordsfare
DESCRIPTION:Crux Bergen arrangerer kurset Førstehjelp ved selvmordsfare. \nKurset er lukket. \nKontaktperson er Stig Arne Jensen\, Crux \n
URL:https://vivatselvmordsforebygging.net/event/bergen-forstehjelp-ved-selvmordsfare-120/
LOCATION:Bergen\, Norge
CATEGORIES:Kurs,Førstehjelp ved selvmordsfare,Vest,Lukket kurs
GEO:60.472024;8.468946
END:VEVENT
BEGIN:VEVENT
DTSTART;VALUE=DATE:20230329
DTEND;VALUE=DATE:20230330
DTSTAMP:20260422T114825
CREATED:20230314T093947Z
LAST-MODIFIED:20230314T093947Z
UID:9972-1680048000-1680134399@vivatselvmordsforebygging.net
SUMMARY:Sessvollmoen\, Oppmerksom på selvmordstanker
DESCRIPTION:Forsvaret arrangerer kurset Oppmerksom på selvmordstanker på Sessvollmoen. \nKurset er lukket. \nKontaktperson er Lars Erichsen\, epost: laerichsen@mil.no \n
URL:https://vivatselvmordsforebygging.net/event/sessvollmoen-oppmerksom-pa-selvmordstanker-4/
LOCATION:Sessvollmoen\, 2058\, Norge
CATEGORIES:Kurs,Oppmerksom på selvmordstanker,Øst,Lukket kurs
GEO:35.0204237;-97.9727427
END:VEVENT
BEGIN:VEVENT
DTSTART;TZID=Europe/Oslo:20230329T084500
DTEND;TZID=Europe/Oslo:20230329T123000
DTSTAMP:20260422T114825
CREATED:20230322T110641Z
LAST-MODIFIED:20230322T111725Z
UID:10008-1680079500-1680093000@vivatselvmordsforebygging.net
SUMMARY:Lillestrøm\, Oppmerksom på selvmordstanker
DESCRIPTION:Vivat arrangerer kurset Oppmerksom på selvmordstanker. \nKurset er åpent for alle å melde seg på. \nInvitasjon og påmelding \nKontaktperson er Anette Seierstad Skrindo\, epost: Anette.Seierstad.Skrindo@unn.no \n
URL:https://vivatselvmordsforebygging.net/event/lillestrom-oppmerksom-pa-selvmordstanker/
LOCATION:Scandic Lillestrøm\, Stillverksveien 23\, 2004 Lillestrøm\, Stillverksveien 23\, Lillestrøm\, 2004\, Norge
CATEGORIES:Kurs,Oppmerksom på selvmordstanker,Øst,Åpent/delvis åpent kurs
END:VEVENT
END:VCALENDAR