BEGIN:VCALENDAR
VERSION:2.0
PRODID:-//vivat - ECPv4.9.14//NONSGML v1.0//EN
CALSCALE:GREGORIAN
METHOD:PUBLISH
X-WR-CALNAME:vivat
X-ORIGINAL-URL:https://vivatselvmordsforebygging.net
X-WR-CALDESC:Events for vivat
BEGIN:VTIMEZONE
TZID:Europe/Oslo
BEGIN:DAYLIGHT
TZOFFSETFROM:+0100
TZOFFSETTO:+0200
TZNAME:CEST
DTSTART:20230326T010000
END:DAYLIGHT
BEGIN:STANDARD
TZOFFSETFROM:+0200
TZOFFSETTO:+0100
TZNAME:CET
DTSTART:20231029T010000
END:STANDARD
END:VTIMEZONE
BEGIN:VEVENT
DTSTART;VALUE=DATE:20230415
DTEND;VALUE=DATE:20230417
DTSTAMP:20260422T115943
CREATED:20230209T142010Z
LAST-MODIFIED:20230209T142010Z
UID:9904-1681516800-1681689599@vivatselvmordsforebygging.net
SUMMARY:Lyngdal\, Førstehjelp ved selvmordsfare
DESCRIPTION:Mental Helse Agder arrangerer kurset Førstehjelp ved selvmordsfare. \nKurset er lukket. \nKontaktperson er Veronica Thele\, epost: Veronica.thele@flekkefjord.kommune.no \n
URL:https://vivatselvmordsforebygging.net/event/lyngdal-forstehjelp-ved-selvmordsfare-5/
LOCATION:Lyngdal\, Vest-Agder\, 4580\, Norge
CATEGORIES:Kurs,Førstehjelp ved selvmordsfare,Vest
GEO:58.1527374;7.0782372
END:VEVENT
END:VCALENDAR