BEGIN:VCALENDAR
VERSION:2.0
PRODID:-//vivat - ECPv4.9.14//NONSGML v1.0//EN
CALSCALE:GREGORIAN
METHOD:PUBLISH
X-WR-CALNAME:vivat
X-ORIGINAL-URL:https://vivatselvmordsforebygging.net
X-WR-CALDESC:Events for vivat
BEGIN:VTIMEZONE
TZID:Europe/Oslo
BEGIN:DAYLIGHT
TZOFFSETFROM:+0100
TZOFFSETTO:+0200
TZNAME:CEST
DTSTART:20230326T010000
END:DAYLIGHT
BEGIN:STANDARD
TZOFFSETFROM:+0200
TZOFFSETTO:+0100
TZNAME:CET
DTSTART:20231029T010000
END:STANDARD
END:VTIMEZONE
BEGIN:VEVENT
DTSTART;VALUE=DATE:20230418
DTEND;VALUE=DATE:20230420
DTSTAMP:20260422T114953
CREATED:20230317T114710Z
LAST-MODIFIED:20230317T114710Z
UID:9990-1681776000-1681948799@vivatselvmordsforebygging.net
SUMMARY:Trondheim\, Førstehjelp ved selvmordsfare
DESCRIPTION:Trondheim kommune arrangerer kurset Førstehjelp ved selvmordsfare. \nKurset er lukket. \nKontaktperson er Johan Mork\, epost: johanmork@hotmail.com \n
URL:https://vivatselvmordsforebygging.net/event/trondheim-forstehjelp-ved-selvmordsfare-69/
LOCATION:Trondheim\, Trondheim\, Sør-Trøndelag\, 7000\, Norge
CATEGORIES:Kurs,Førstehjelp ved selvmordsfare,Midt,Lukket kurs
GEO:63.427569;10.393207
END:VEVENT
BEGIN:VEVENT
DTSTART;VALUE=DATE:20230418
DTEND;VALUE=DATE:20230420
DTSTAMP:20260422T114953
CREATED:20230320T112547Z
LAST-MODIFIED:20230320T112636Z
UID:10004-1681776000-1681948799@vivatselvmordsforebygging.net
SUMMARY:Ulsteinsvik\, Førstehjelp ved selvmordsfare
DESCRIPTION:DPS og samarbeidende kommuner på Sunnmøre arrangerer kurset Førstehjelp ved selvmordsfare\, på Folkehøgskolen i Ulsteinsvik. \nKurset er lukket. \nKontaktperson er Ingrid Olavsdotter Nesland\, epost: ing-nes@online.no \n  \n
URL:https://vivatselvmordsforebygging.net/event/ulsteinsvik-forstehjelp-ved-selvmordsfare/
LOCATION:Ulsteinsvik\, Sør-Trøndelag\, Norge
CATEGORIES:Kurs,Førstehjelp ved selvmordsfare,Vest,Lukket kurs
END:VEVENT
BEGIN:VEVENT
DTSTART;VALUE=DATE:20230418
DTEND;VALUE=DATE:20230420
DTSTAMP:20260422T114953
CREATED:20230413T090026Z
LAST-MODIFIED:20230413T090026Z
UID:10045-1681776000-1681948799@vivatselvmordsforebygging.net
SUMMARY:Bergen\, Førstehjelp ved selvmordsfare
DESCRIPTION:Bergen kommune arrangerer kurset Førstehjelp ved selvmordsfare. \nKurset er for  etat for psykisk helse og rustjenester\, og lukket for andre deltakere. \nKontaktperson er Robert Helle\, epost: andreas.heldal@gmail.com \n
URL:https://vivatselvmordsforebygging.net/event/bergen-forstehjelp-ved-selvmordsfare-121/
LOCATION:Bergen\, Sør-Trøndelag\, Norge
CATEGORIES:Kurs,Førstehjelp ved selvmordsfare,Vest,Lukket kurs
GEO:60.472024;8.468946
END:VEVENT
BEGIN:VEVENT
DTSTART;VALUE=DATE:20230419
DTEND;VALUE=DATE:20230421
DTSTAMP:20260422T114953
CREATED:20230111T144326Z
LAST-MODIFIED:20230111T144401Z
UID:9792-1681862400-1682035199@vivatselvmordsforebygging.net
SUMMARY:Trondheim\, Førstehjelp ved selvmordsfare
DESCRIPTION:RVTS Midt arrangerer kurset Førstehjelp ved selvmordsfare. \nKurset er åpent for alle å melde seg på. \nInvitasjon og påmelding \nKontaktperson er Rune Nilsen\, epost: runeonilsen@gmail.com \n
URL:https://vivatselvmordsforebygging.net/event/trondheim-forstehjelp-ved-selvmordsfare-68/
LOCATION:Trondheim\, Trondheim\, Sør-Trøndelag\, 7000\, Norge
CATEGORIES:Kurs,Førstehjelp ved selvmordsfare,Midt,Åpent/delvis åpent kurs
GEO:63.427569;10.393207
END:VEVENT
BEGIN:VEVENT
DTSTART;VALUE=DATE:20230419
DTEND;VALUE=DATE:20230421
DTSTAMP:20260422T114953
CREATED:20230203T084346Z
LAST-MODIFIED:20230203T102405Z
UID:9889-1681862400-1682035199@vivatselvmordsforebygging.net
SUMMARY:Grimstad\, Førstehjelp ved selvmordsfare
DESCRIPTION:Grimstad kommune arrangerer kurset Førstehjelp ved selvmordsfare. \nKurset er for ansatte i kommunen. \nKontaktperson er Øyvind Dåsvatn\, epost: oyvind.dasvatn@rvtssor.no \n
URL:https://vivatselvmordsforebygging.net/event/grimstad-forstehjelp-ved-selvmordsfare/
LOCATION:Grimstad\, Sør-Trøndelag\, Norge
CATEGORIES:Kurs,Førstehjelp ved selvmordsfare,Sør,Lukket kurs
GEO:60.472024;8.468946
END:VEVENT
BEGIN:VEVENT
DTSTART;VALUE=DATE:20230419
DTEND;VALUE=DATE:20230421
DTSTAMP:20260422T114953
CREATED:20230203T131100Z
LAST-MODIFIED:20230203T131100Z
UID:9894-1681862400-1682035199@vivatselvmordsforebygging.net
SUMMARY:Dale i Sunnfjord\, Førstehjelp ved selvmordsfare
DESCRIPTION:Kommunene Fjaler og Askvoll arrangerer kurset Førstehjelp ved selvmordsfare. \nKurset er lukket. \nKontaktperson er Håvard Yndestad\, epost: havard.yndestad@askvoll.kommune.no \n
URL:https://vivatselvmordsforebygging.net/event/dale-i-sunnfjord-forstehjelp-ved-selvmordsfare/
LOCATION:Dale i Sunnfjord\, Sør-Trøndelag\, Norge
CATEGORIES:Kurs,Førstehjelp ved selvmordsfare,Øst,Vest
END:VEVENT
BEGIN:VEVENT
DTSTART;VALUE=DATE:20230419
DTEND;VALUE=DATE:20230421
DTSTAMP:20260422T114953
CREATED:20230314T094120Z
LAST-MODIFIED:20230314T094120Z
UID:9974-1681862400-1682035199@vivatselvmordsforebygging.net
SUMMARY:Sessvollmoen\, Førstehjelp ved selvmordsfare
DESCRIPTION:Forsvaret arrangerer kurset Førstehjelp ved selvmordsfare på Ørlandet Flystasjon. \nKurset er lukket. \nKontaktperson er Lars Erichsen\, epost: laerichsen@mil.no \n
URL:https://vivatselvmordsforebygging.net/event/sessvollmoen-forstehjelp-ved-selvmordsfare-6/
LOCATION:Sessvollmoen\, Sør-Trøndelag\, 2058\, Norge
CATEGORIES:Kurs,Førstehjelp ved selvmordsfare,Øst,Lukket kurs
GEO:35.0204237;-97.9727427
END:VEVENT
BEGIN:VEVENT
DTSTART;VALUE=DATE:20230419
DTEND;VALUE=DATE:20230420
DTSTAMP:20260422T114953
CREATED:20230323T124511Z
LAST-MODIFIED:20230323T124511Z
UID:10020-1681862400-1681948799@vivatselvmordsforebygging.net
SUMMARY:Tromsø\, Oppmerksom på selvmordstanker
DESCRIPTION:Universitetet i Tromsø arrangerer kurset Oppmerksom på selvmordstanker. \nKurset er for studenter på Master i Helsesykepleie\, og er lukket for andre deltakere. \nKontaktperson er Liv Eli Gaup\, epost: liv.eli.gaup@unn.no \n
URL:https://vivatselvmordsforebygging.net/event/tromso-oppmerksom-pa-selvmordstanker-44/
LOCATION:Tromsø\, Sør-Trøndelag\, Norge
CATEGORIES:Kurs,Oppmerksom på selvmordstanker,Nord,Lukket kurs
GEO:60.472024;8.468946
END:VEVENT
BEGIN:VEVENT
DTSTART;VALUE=DATE:20230419
DTEND;VALUE=DATE:20230420
DTSTAMP:20260422T114953
CREATED:20230323T124702Z
LAST-MODIFIED:20230323T124702Z
UID:10022-1681862400-1681948799@vivatselvmordsforebygging.net
SUMMARY:Alta\, Oppmerksom på selvmordstanker
DESCRIPTION:Universitetet i Tromsø arrangerer kurset Oppmerksom på selvmordstanker. \nKurset er for studenter på Master i Helsesykepleie\, og er lukket for andre deltakere. \nKontaktperson er Anneli Naukkarinen\, epost: anneli.naukkarinen@porsanger.kommune.no \n
URL:https://vivatselvmordsforebygging.net/event/alta-oppmerksom-pa-selvmordstanker-3/
LOCATION:Alta\, Finnmark\, 9500\, Norge
CATEGORIES:Kurs,Oppmerksom på selvmordstanker,Nord,Lukket kurs
GEO:59.9208539;10.7751841
END:VEVENT
BEGIN:VEVENT
DTSTART;VALUE=DATE:20230419
DTEND;VALUE=DATE:20230420
DTSTAMP:20260422T114953
CREATED:20230323T124805Z
LAST-MODIFIED:20230323T124805Z
UID:10024-1681862400-1681948799@vivatselvmordsforebygging.net
SUMMARY:Harstad\, Oppmerksom på selvmordstanker
DESCRIPTION:Universitetet i Tromsø arrangerer kurset Oppmerksom på selvmordstanker. \nKurset er for studenter på Master i Helsesykepleie\, og er lukket for andre deltakere. \n
URL:https://vivatselvmordsforebygging.net/event/harstad-oppmerksom-pa-selvmordstanker-6/
LOCATION:Harstad\, Sør-Trøndelag\, Norge
CATEGORIES:Kurs,Oppmerksom på selvmordstanker,Nord,Lukket kurs
GEO:60.472024;8.468946
END:VEVENT
END:VCALENDAR