BEGIN:VCALENDAR
VERSION:2.0
PRODID:-//vivat - ECPv4.9.14//NONSGML v1.0//EN
CALSCALE:GREGORIAN
METHOD:PUBLISH
X-WR-CALNAME:vivat
X-ORIGINAL-URL:https://vivatselvmordsforebygging.net
X-WR-CALDESC:Events for vivat
BEGIN:VTIMEZONE
TZID:Europe/Oslo
BEGIN:DAYLIGHT
TZOFFSETFROM:+0100
TZOFFSETTO:+0200
TZNAME:CEST
DTSTART:20230326T010000
END:DAYLIGHT
BEGIN:STANDARD
TZOFFSETFROM:+0200
TZOFFSETTO:+0100
TZNAME:CET
DTSTART:20231029T010000
END:STANDARD
END:VTIMEZONE
BEGIN:VEVENT
DTSTART;VALUE=DATE:20230419
DTEND;VALUE=DATE:20230421
DTSTAMP:20260422T115657
CREATED:20230111T144326Z
LAST-MODIFIED:20230111T144401Z
UID:9792-1681862400-1682035199@vivatselvmordsforebygging.net
SUMMARY:Trondheim\, Førstehjelp ved selvmordsfare
DESCRIPTION:RVTS Midt arrangerer kurset Førstehjelp ved selvmordsfare. \nKurset er åpent for alle å melde seg på. \nInvitasjon og påmelding \nKontaktperson er Rune Nilsen\, epost: runeonilsen@gmail.com \n
URL:https://vivatselvmordsforebygging.net/event/trondheim-forstehjelp-ved-selvmordsfare-68/
LOCATION:Trondheim\, Trondheim\, Sør-Trøndelag\, 7000\, Norge
CATEGORIES:Kurs,Førstehjelp ved selvmordsfare,Midt,Åpent/delvis åpent kurs
GEO:63.427569;10.393207
END:VEVENT
BEGIN:VEVENT
DTSTART;VALUE=DATE:20230419
DTEND;VALUE=DATE:20230421
DTSTAMP:20260422T115657
CREATED:20230203T084346Z
LAST-MODIFIED:20230203T102405Z
UID:9889-1681862400-1682035199@vivatselvmordsforebygging.net
SUMMARY:Grimstad\, Førstehjelp ved selvmordsfare
DESCRIPTION:Grimstad kommune arrangerer kurset Førstehjelp ved selvmordsfare. \nKurset er for ansatte i kommunen. \nKontaktperson er Øyvind Dåsvatn\, epost: oyvind.dasvatn@rvtssor.no \n
URL:https://vivatselvmordsforebygging.net/event/grimstad-forstehjelp-ved-selvmordsfare/
LOCATION:Grimstad\, Sør-Trøndelag\, Norge
CATEGORIES:Kurs,Førstehjelp ved selvmordsfare,Sør,Lukket kurs
GEO:60.472024;8.468946
END:VEVENT
BEGIN:VEVENT
DTSTART;VALUE=DATE:20230419
DTEND;VALUE=DATE:20230421
DTSTAMP:20260422T115657
CREATED:20230203T131100Z
LAST-MODIFIED:20230203T131100Z
UID:9894-1681862400-1682035199@vivatselvmordsforebygging.net
SUMMARY:Dale i Sunnfjord\, Førstehjelp ved selvmordsfare
DESCRIPTION:Kommunene Fjaler og Askvoll arrangerer kurset Førstehjelp ved selvmordsfare. \nKurset er lukket. \nKontaktperson er Håvard Yndestad\, epost: havard.yndestad@askvoll.kommune.no \n
URL:https://vivatselvmordsforebygging.net/event/dale-i-sunnfjord-forstehjelp-ved-selvmordsfare/
LOCATION:Dale i Sunnfjord\, Sør-Trøndelag\, Norge
CATEGORIES:Kurs,Førstehjelp ved selvmordsfare,Øst,Vest
END:VEVENT
BEGIN:VEVENT
DTSTART;VALUE=DATE:20230419
DTEND;VALUE=DATE:20230421
DTSTAMP:20260422T115657
CREATED:20230314T094120Z
LAST-MODIFIED:20230314T094120Z
UID:9974-1681862400-1682035199@vivatselvmordsforebygging.net
SUMMARY:Sessvollmoen\, Førstehjelp ved selvmordsfare
DESCRIPTION:Forsvaret arrangerer kurset Førstehjelp ved selvmordsfare på Ørlandet Flystasjon. \nKurset er lukket. \nKontaktperson er Lars Erichsen\, epost: laerichsen@mil.no \n
URL:https://vivatselvmordsforebygging.net/event/sessvollmoen-forstehjelp-ved-selvmordsfare-6/
LOCATION:Sessvollmoen\, Sør-Trøndelag\, 2058\, Norge
CATEGORIES:Kurs,Førstehjelp ved selvmordsfare,Øst,Lukket kurs
GEO:35.0204237;-97.9727427
END:VEVENT
BEGIN:VEVENT
DTSTART;VALUE=DATE:20230420
DTEND;VALUE=DATE:20230422
DTSTAMP:20260422T115657
CREATED:20230127T132344Z
LAST-MODIFIED:20230127T132344Z
UID:9862-1681948800-1682121599@vivatselvmordsforebygging.net
SUMMARY:Tromsø\, Førstehjelp ved selvmordsfare
DESCRIPTION:Tromsø kommune arrangerer kurset Førstehjelp ved selvmordsfare. \nKurset er i utgangspunktet først og fremst for lærere\, men det er mulig for andre å melde seg på\, send epost. \nKontaktperson: Arja Mubanga-Bjørn\, epost: Arja.Bjorn@tromso.kommune.no \n
URL:https://vivatselvmordsforebygging.net/event/tromso-forstehjelp-ved-selvmordsfare-80/
LOCATION:Tromsø\, Sør-Trøndelag\, Norge
CATEGORIES:Kurs,Førstehjelp ved selvmordsfare,Nord,Lukket kurs
GEO:60.472024;8.468946
END:VEVENT
BEGIN:VEVENT
DTSTART;VALUE=DATE:20230420
DTEND;VALUE=DATE:20230422
DTSTAMP:20260422T115657
CREATED:20230310T121458Z
LAST-MODIFIED:20230310T121458Z
UID:9941-1681948800-1682121599@vivatselvmordsforebygging.net
SUMMARY:Bergen\, Førstehjelp ved selvmordsfare
DESCRIPTION:Mennesket i Fokus arrangerer kurset Førstehjelp ved selvmordsfare. \nKurset er åpnet for alle å melde seg på. \nInvitasjon og påmelding \nKontaktperson er Randi T. Nordvik\, epost: randi@mennesketifokus.no \n
URL:https://vivatselvmordsforebygging.net/event/bergen-forstehjelp-ved-selvmordsfare-119/
LOCATION:Bergen\, Sør-Trøndelag\, Norge
CATEGORIES:Kurs,Førstehjelp ved selvmordsfare,Vest,Åpent/delvis åpent kurs
GEO:60.472024;8.468946
END:VEVENT
BEGIN:VEVENT
DTSTART;VALUE=DATE:20230420
DTEND;VALUE=DATE:20230422
DTSTAMP:20260422T115657
CREATED:20230310T140051Z
LAST-MODIFIED:20230314T080124Z
UID:9956-1681948800-1682121599@vivatselvmordsforebygging.net
SUMMARY:Oslo\, Førstehjelp ved selvmordsfare
DESCRIPTION:Podium Oslo arrangerer kurset Førstehjelp ved selvmordsfare. \nKurset er lukket. \nKontaktperson er Silje Gjeitrem Henriksen\, epost: Silje.Henriksen@podium.no \n
URL:https://vivatselvmordsforebygging.net/event/oslo-forstehjelp-ved-selvmordsfare-105/
LOCATION:Nydalen\, Sør-Trøndelag\, Norge
CATEGORIES:Kurs,Førstehjelp ved selvmordsfare,Øst,Lukket kurs
END:VEVENT
BEGIN:VEVENT
DTSTART;VALUE=DATE:20230420
DTEND;VALUE=DATE:20230422
DTSTAMP:20260422T115657
CREATED:20230316T120530Z
LAST-MODIFIED:20230316T120530Z
UID:9986-1681948800-1682121599@vivatselvmordsforebygging.net
SUMMARY:Salten\, Førstehjelp ved selvmordsfare
DESCRIPTION:Krisesenteret i Salten arrangerer kurset Førstehjelp ved selvmordsfare. \nKurset er lukket. \nKontaktperson er Torunn Blokhus\, epost: torunn.blokhus@sbnett.no \n
URL:https://vivatselvmordsforebygging.net/event/salten-forstehjelp-ved-selvmordsfare/
LOCATION:Salten\, Sør-Trøndelag\, Norge
CATEGORIES:Kurs,Førstehjelp ved selvmordsfare,Nord,Lukket kurs
END:VEVENT
BEGIN:VEVENT
DTSTART;VALUE=DATE:20230420
DTEND;VALUE=DATE:20230421
DTSTAMP:20260422T115657
CREATED:20230320T091025Z
LAST-MODIFIED:20230320T091025Z
UID:10000-1681948800-1682035199@vivatselvmordsforebygging.net
SUMMARY:Bardufoss\, Oppmerksom på selvmordstanker
DESCRIPTION:Forsvaret arrangerer kurset Oppmerksom på selvmordstanker. \nKurset er for Trenregimentet og Brigade Nord\, og er lukket for andre deltakere. \nKontaktperson er Anita Samuelsen\, epost: anitasamuelsen@gmail.com \n
URL:https://vivatselvmordsforebygging.net/event/bardufoss-oppmerksom-pa-selvmordstanker-10/
LOCATION:Bardufoss\, Sør-Trøndelag\, Norge
CATEGORIES:Kurs,Oppmerksom på selvmordstanker,Nord,Lukket kurs
END:VEVENT
BEGIN:VEVENT
DTSTART;TZID=Europe/Oslo:20230420T080000
DTEND;TZID=Europe/Oslo:20230420T170000
DTSTAMP:20260422T115657
CREATED:20230320T090420Z
LAST-MODIFIED:20230320T090420Z
UID:9996-1681977600-1682010000@vivatselvmordsforebygging.net
SUMMARY:Setermoen\, Oppmerksom på selvmordstanker
DESCRIPTION:Forsvaret arrangerer kurset Oppmerksom på selvmordstanker på Setermoen Leir. \nKurset er lukket. \nKontaktperson er Elisabeth Løvlien\, epost: elisabethlovlien@gmail.com \n
URL:https://vivatselvmordsforebygging.net/event/setermoen-oppmerksom-pa-selvmordstanker-9/
LOCATION:Setermoen\, Sør-Trøndelag
CATEGORIES:Kurs,Oppmerksom på selvmordstanker,Nord,Lukket kurs
END:VEVENT
END:VCALENDAR