BEGIN:VCALENDAR
VERSION:2.0
PRODID:-//vivat - ECPv4.9.14//NONSGML v1.0//EN
CALSCALE:GREGORIAN
METHOD:PUBLISH
X-WR-CALNAME:vivat
X-ORIGINAL-URL:https://vivatselvmordsforebygging.net
X-WR-CALDESC:Events for vivat
BEGIN:VTIMEZONE
TZID:Europe/Oslo
BEGIN:DAYLIGHT
TZOFFSETFROM:+0100
TZOFFSETTO:+0200
TZNAME:CEST
DTSTART:20230326T010000
END:DAYLIGHT
BEGIN:STANDARD
TZOFFSETFROM:+0200
TZOFFSETTO:+0100
TZNAME:CET
DTSTART:20231029T010000
END:STANDARD
END:VTIMEZONE
BEGIN:VEVENT
DTSTART;VALUE=DATE:20230502
DTEND;VALUE=DATE:20230504
DTSTAMP:20260422T101418
CREATED:20230314T094313Z
LAST-MODIFIED:20230314T094313Z
UID:9976-1682985600-1683158399@vivatselvmordsforebygging.net
SUMMARY:Ørlandet\, Førstehjelp ved selvmordsfare
DESCRIPTION:Forsvaret arrangerer kurset Førstehjelp ved selvmordsfare på Ørlandet Flystasjon. \nKurset er lukket. \nKontaktperson er Lars Erichsen\, epost: laerichsen@mil.no \n
URL:https://vivatselvmordsforebygging.net/event/orlandet-forstehjelp-ved-selvmordsfare-3/
LOCATION:Ørlandet Flystasjon
CATEGORIES:Kurs,Førstehjelp ved selvmordsfare,Øst,Lukket kurs
END:VEVENT
BEGIN:VEVENT
DTSTART;VALUE=DATE:20230502
DTEND;VALUE=DATE:20230504
DTSTAMP:20260422T101418
CREATED:20230412T113005Z
LAST-MODIFIED:20230412T113005Z
UID:10036-1682985600-1683158399@vivatselvmordsforebygging.net
SUMMARY:Trondheim\, Førstehjelp ved selvmordsfare
DESCRIPTION:Trondheim kommune arrangerer kurset Førstehjelp ved selvmordsfare. \nKurset er for Rusenheten\, og lukket for andre deltakere. \nKontaktperson er Anita Mian. \n
URL:https://vivatselvmordsforebygging.net/event/trondheim-forstehjelp-ved-selvmordsfare-71/
LOCATION:Trondheim\, Trondheim\, Sør-Trøndelag\, 7000\, Norge
CATEGORIES:Kurs,Førstehjelp ved selvmordsfare,Midt,Lukket kurs
GEO:63.427569;10.393207
END:VEVENT
BEGIN:VEVENT
DTSTART;VALUE=DATE:20230503
DTEND;VALUE=DATE:20230505
DTSTAMP:20260422T101418
CREATED:20230310T135010Z
LAST-MODIFIED:20230310T135010Z
UID:9950-1683072000-1683244799@vivatselvmordsforebygging.net
SUMMARY:Rælingen\, Førstehjelp ved selvmordsfare
DESCRIPTION:Øvre Rælingen kirke arrangerer kurset Førstehjelp ved selvmordsfare. \nKurset er åpnet for alle å melde seg på. \nKontaktperson er: \nDiakon i Rælingen\nLeder for omsorgs- og frivillighetsarbeidet i kirken \nKarin Kverneland Oyenuga \nkarin.oyenuga@ralingen.kirken.no \nJobbmobil: 96 74 58 78 \n
URL:https://vivatselvmordsforebygging.net/event/raelingen-forstehjelp-ved-selvmordsfare/
LOCATION:Rælingen\, Norge
CATEGORIES:Kurs,Førstehjelp ved selvmordsfare,Øst,Åpent/delvis åpent kurs
END:VEVENT
BEGIN:VEVENT
DTSTART;VALUE=DATE:20230503
DTEND;VALUE=DATE:20230504
DTSTAMP:20260422T101418
CREATED:20230328T083239Z
LAST-MODIFIED:20230328T083239Z
UID:10027-1683072000-1683158399@vivatselvmordsforebygging.net
SUMMARY:Tromsø\, Oppmerksom på selvmordstanker
DESCRIPTION:Norges arktiske universitet arrangerer kurset Oppmerksom på selvmordstanker. \nKurset er for psykologistudenter\, og lukket for andre deltakere. \nKontaktperson er Ingvild Myrbakk\, epost: ingvild.n.myrbakk@uit.no \n
URL:https://vivatselvmordsforebygging.net/event/tromso-oppmerksom-pa-selvmordstanker-45/
LOCATION:Tromsø\, Norge
CATEGORIES:Kurs,Oppmerksom på selvmordstanker,Nord,Lukket kurs
GEO:60.472024;8.468946
END:VEVENT
BEGIN:VEVENT
DTSTART;VALUE=DATE:20230503
DTEND;VALUE=DATE:20230505
DTSTAMP:20260422T101418
CREATED:20230413T131618Z
LAST-MODIFIED:20230413T131618Z
UID:10049-1683072000-1683244799@vivatselvmordsforebygging.net
SUMMARY:Kjevik\, Førstehjelp ved selvmordsfare
DESCRIPTION:Luftforsvarets skolesenter arrangerer kurset Førstehjelp ved selvmordsfare. \nKurset er for unge instruktører  og tillitsvalgte. \nKontaktperson er Jarle Blix\, epost: jarle_blix@yahoo.no \n
URL:https://vivatselvmordsforebygging.net/event/kjevik-forstehjelp-ved-selvmordsfare-2/
LOCATION:Kjevik\, Norge
CATEGORIES:Kurs,Førstehjelp ved selvmordsfare,Sør,Lukket kurs
GEO:60.472024;8.468946
END:VEVENT
END:VCALENDAR