BEGIN:VCALENDAR
VERSION:2.0
PRODID:-//vivat - ECPv4.9.14//NONSGML v1.0//EN
CALSCALE:GREGORIAN
METHOD:PUBLISH
X-WR-CALNAME:vivat
X-ORIGINAL-URL:https://vivatselvmordsforebygging.net
X-WR-CALDESC:Events for vivat
BEGIN:VTIMEZONE
TZID:Europe/Oslo
BEGIN:DAYLIGHT
TZOFFSETFROM:+0100
TZOFFSETTO:+0200
TZNAME:CEST
DTSTART:20230326T010000
END:DAYLIGHT
BEGIN:STANDARD
TZOFFSETFROM:+0200
TZOFFSETTO:+0100
TZNAME:CET
DTSTART:20231029T010000
END:STANDARD
END:VTIMEZONE
BEGIN:VEVENT
DTSTART;VALUE=DATE:20230524
DTEND;VALUE=DATE:20230526
DTSTAMP:20260422T101342
CREATED:20230203T131210Z
LAST-MODIFIED:20230203T131210Z
UID:9897-1684886400-1685059199@vivatselvmordsforebygging.net
SUMMARY:Dale i Sunnfjord\, Førstehjelp ved selvmordsfare
DESCRIPTION:Kommunene Fjaler og Askvoll arrangerer kurset Førstehjelp ved selvmordsfare. \nKurset er lukket. \nKontaktperson er Håvard Yndestad\, epost: havard.yndestad@askvoll.kommune.no \n
URL:https://vivatselvmordsforebygging.net/event/dale-i-sunnfjord-forstehjelp-ved-selvmordsfare-2/
LOCATION:Dale i Sunnfjord\, Norge
CATEGORIES:Kurs,Førstehjelp ved selvmordsfare,Vest,Lukket kurs
END:VEVENT
BEGIN:VEVENT
DTSTART;VALUE=DATE:20230524
DTEND;VALUE=DATE:20230525
DTSTAMP:20260422T101342
CREATED:20230314T094700Z
LAST-MODIFIED:20230314T094700Z
UID:9980-1684886400-1684972799@vivatselvmordsforebygging.net
SUMMARY:Jørstadmoen\, Oppmerksom på selvmordstanker
DESCRIPTION:Forsvaret arrangerer kurset Oppmerksom på selvmordstanker på Ørlandet Flystasjon. \nKurset er lukket. \nKontaktperson er Lars Erichsen\, epost: laerichsen@mil.no \n
URL:https://vivatselvmordsforebygging.net/event/jorstadmoen-oppmerksom-pa-selvmordstanker-2/
LOCATION:Jørstadmoen\, Norge
CATEGORIES:Kurs,Oppmerksom på selvmordstanker,Øst,Lukket kurs
GEO:60.472024;8.468946
END:VEVENT
BEGIN:VEVENT
DTSTART;VALUE=DATE:20230524
DTEND;VALUE=DATE:20230525
DTSTAMP:20260422T101342
CREATED:20230504T085844Z
LAST-MODIFIED:20230504T085844Z
UID:10082-1684886400-1684972799@vivatselvmordsforebygging.net
SUMMARY:Frøya\, Oppmerksom på selvmordstanker
DESCRIPTION:Frøya kommune arrangerer kurset Oppmerksom på selvmordstanker. \nKurset er lukket. \nKontaktperson er Peggy Marit Krogh\, epost: Peggy.Marit.Krogh@hitra.kommune.no \n
URL:https://vivatselvmordsforebygging.net/event/froya-oppmerksom-pa-selvmordstanker/
LOCATION:Frøya\, Norge
CATEGORIES:Kurs,Oppmerksom på selvmordstanker,Midt,Lukket kurs
GEO:60.472024;8.468946
END:VEVENT
BEGIN:VEVENT
DTSTART;VALUE=DATE:20230524
DTEND;VALUE=DATE:20230525
DTSTAMP:20260422T101342
CREATED:20230504T090841Z
LAST-MODIFIED:20230504T090841Z
UID:10087-1684886400-1684972799@vivatselvmordsforebygging.net
SUMMARY:Sanderud\, Oppmerksom på selvmordstanker
DESCRIPTION:Sykehuset Innlandet arrangerer kurset Oppmerksom på selvmordstanker. \nKurset er lukket. \nKontaktperson er Nina Danielsen\, epost: ninadanielsen@gmail.com \n
URL:https://vivatselvmordsforebygging.net/event/sanderud-oppmerksom-pa-selvmordstanker/
LOCATION:Sanderud\, Norge
CATEGORIES:Kurs,Oppmerksom på selvmordstanker,Øst,Lukket kurs
END:VEVENT
BEGIN:VEVENT
DTSTART;VALUE=DATE:20230524
DTEND;VALUE=DATE:20230525
DTSTAMP:20260422T101342
CREATED:20230515T103149Z
LAST-MODIFIED:20230515T103149Z
UID:10145-1684886400-1684972799@vivatselvmordsforebygging.net
SUMMARY:Ramsund\, Oppmerksom på selvmordstanker
DESCRIPTION:Forsvaret arrangerer kurset Oppmerksom på selvmordstanker. \nKurset for tillitsvalgte\, og er lukket for andre deltakere. \n
URL:https://vivatselvmordsforebygging.net/event/ramsund-oppmerksom-pa-selvmordstanker-3/
LOCATION:Ramsund\, Norge
CATEGORIES:Kurs,Oppmerksom på selvmordstanker,Nord,Lukket kurs
GEO:60.472024;8.468946
END:VEVENT
END:VCALENDAR