BEGIN:VCALENDAR
VERSION:2.0
PRODID:-//vivat - ECPv4.9.14//NONSGML v1.0//EN
CALSCALE:GREGORIAN
METHOD:PUBLISH
X-WR-CALNAME:vivat
X-ORIGINAL-URL:https://vivatselvmordsforebygging.net
X-WR-CALDESC:Events for vivat
BEGIN:VTIMEZONE
TZID:Europe/Oslo
BEGIN:DAYLIGHT
TZOFFSETFROM:+0100
TZOFFSETTO:+0200
TZNAME:CEST
DTSTART:20230326T010000
END:DAYLIGHT
BEGIN:STANDARD
TZOFFSETFROM:+0200
TZOFFSETTO:+0100
TZNAME:CET
DTSTART:20231029T010000
END:STANDARD
END:VTIMEZONE
BEGIN:VEVENT
DTSTART;VALUE=DATE:20230524
DTEND;VALUE=DATE:20230526
DTSTAMP:20260422T103109
CREATED:20230203T131210Z
LAST-MODIFIED:20230203T131210Z
UID:9897-1684886400-1685059199@vivatselvmordsforebygging.net
SUMMARY:Dale i Sunnfjord\, Førstehjelp ved selvmordsfare
DESCRIPTION:Kommunene Fjaler og Askvoll arrangerer kurset Førstehjelp ved selvmordsfare. \nKurset er lukket. \nKontaktperson er Håvard Yndestad\, epost: havard.yndestad@askvoll.kommune.no \n
URL:https://vivatselvmordsforebygging.net/event/dale-i-sunnfjord-forstehjelp-ved-selvmordsfare-2/
LOCATION:Dale i Sunnfjord\, Norge
CATEGORIES:Kurs,Førstehjelp ved selvmordsfare,Vest,Lukket kurs
END:VEVENT
BEGIN:VEVENT
DTSTART;VALUE=DATE:20230525
DTEND;VALUE=DATE:20230526
DTSTAMP:20260422T103109
CREATED:20230504T091040Z
LAST-MODIFIED:20230504T091040Z
UID:10090-1684972800-1685059199@vivatselvmordsforebygging.net
SUMMARY:Reinsvoll\, Oppmerksom på selvmordstanker
DESCRIPTION:Sykehuset Innlandet arrangerer kurset Oppmerksom på selvmordstanker. \nKurset er lukket. \nKontaktperson er Nina Danielsen\, epost: ninadanielsen@gmail.com \n
URL:https://vivatselvmordsforebygging.net/event/reinsvoll-oppmerksom-pa-selvmordstanker/
LOCATION:Reinsvoll\, Norge
CATEGORIES:Kurs,Oppmerksom på selvmordstanker,Øst,Lukket kurs
END:VEVENT
END:VCALENDAR