BEGIN:VCALENDAR
VERSION:2.0
PRODID:-//vivat - ECPv4.9.14//NONSGML v1.0//EN
CALSCALE:GREGORIAN
METHOD:PUBLISH
X-WR-CALNAME:vivat
X-ORIGINAL-URL:https://vivatselvmordsforebygging.net
X-WR-CALDESC:Events for vivat
BEGIN:VTIMEZONE
TZID:Europe/Oslo
BEGIN:DAYLIGHT
TZOFFSETFROM:+0100
TZOFFSETTO:+0200
TZNAME:CEST
DTSTART:20230326T010000
END:DAYLIGHT
BEGIN:STANDARD
TZOFFSETFROM:+0200
TZOFFSETTO:+0100
TZNAME:CET
DTSTART:20231029T010000
END:STANDARD
END:VTIMEZONE
BEGIN:VEVENT
DTSTART;VALUE=DATE:20230530
DTEND;VALUE=DATE:20230601
DTSTAMP:20260422T085547
CREATED:20220830T104010Z
LAST-MODIFIED:20230504T103054Z
UID:9322-1685404800-1685577599@vivatselvmordsforebygging.net
SUMMARY:Sandvika\, Førstehjelp ved selvmordsfare
DESCRIPTION:Bærum kommune\, Psykisk helse og rus arrangerer kurset Førstehjelp ved selvmordsfare. \nKurset er lukket. \nKontaktperson er Camilla Weedon\, epost: camillaweedon@gmail.com \n
URL:https://vivatselvmordsforebygging.net/event/sandvika-forstehjelp-ved-selvmordsfare-9/
LOCATION:Sandvika\, Norge
CATEGORIES:Kurs,Førstehjelp ved selvmordsfare,Øst,Lukket kurs
GEO:60.472024;8.468946
END:VEVENT
BEGIN:VEVENT
DTSTART;VALUE=DATE:20230531
DTEND;VALUE=DATE:20230602
DTSTAMP:20260422T085547
CREATED:20230201T110747Z
LAST-MODIFIED:20230201T110747Z
UID:9873-1685491200-1685663999@vivatselvmordsforebygging.net
SUMMARY:Asker\, Førstehjelp ved selvmordsfare
DESCRIPTION:Asker kommune arrangerer kurset Førstehjelp ved selvmordsfare. \nKurset er åpent for alle å melde seg på. \nKontaktpersoner er:  Vivi-Ann Rype\, mobil: 92024108 eller Wenche Rudsengen\, mobil: 48 89 55 91 epost: Wenche.rudsengen@asker.kommune.no\, \n
URL:https://vivatselvmordsforebygging.net/event/asker-forstehjelp-ved-selvmordsfare-10/
LOCATION:asker\, Lensmannslia 4\, Asker\, 1386\, Norge
CATEGORIES:Kurs,Førstehjelp ved selvmordsfare,Øst,Åpent/delvis åpent kurs
END:VEVENT
BEGIN:VEVENT
DTSTART;VALUE=DATE:20230531
DTEND;VALUE=DATE:20230602
DTSTAMP:20260422T085547
CREATED:20230426T123752Z
LAST-MODIFIED:20230426T123752Z
UID:10074-1685491200-1685663999@vivatselvmordsforebygging.net
SUMMARY:Stavanger\, Førstehjelp ved selvmordsfare
DESCRIPTION:Stavanger kommune arrangerer kurset Førstehjelp ved selvmordsfare. \nKurset er lukket. \nKontaktperson er Elaine Fagerland\, epost: elaine.fagerland@stavanger.kommune.no \n
URL:https://vivatselvmordsforebygging.net/event/stavanger-forstehjelp-ved-selvmordsfare-30/
LOCATION:Stavanger\, Norge
CATEGORIES:Kurs,Førstehjelp ved selvmordsfare,Vest,Lukket kurs
GEO:60.472024;8.468946
END:VEVENT
BEGIN:VEVENT
DTSTART;VALUE=DATE:20230531
DTEND;VALUE=DATE:20230602
DTSTAMP:20260422T085547
CREATED:20230512T084747Z
LAST-MODIFIED:20230512T084747Z
UID:10140-1685491200-1685663999@vivatselvmordsforebygging.net
SUMMARY:Oslo\, Førstehjelp ved selvmordsfare
DESCRIPTION:RVTS Øst arrangerer kurset Førstehjelp ved selvmordsfare. \nKurset er åpent for alle å melde seg på. \nPåmelding og invitasjon \n
URL:https://vivatselvmordsforebygging.net/event/oslo-forstehjelp-ved-selvmordsfare-109/
LOCATION:RVTS Øst\, Norge
CATEGORIES:Kurs,Førstehjelp ved selvmordsfare,Øst,Åpent/delvis åpent kurs
END:VEVENT
BEGIN:VEVENT
DTSTART;VALUE=DATE:20230531
DTEND;VALUE=DATE:20230602
DTSTAMP:20260422T085547
CREATED:20230524T104302Z
LAST-MODIFIED:20230524T104302Z
UID:10160-1685491200-1685663999@vivatselvmordsforebygging.net
SUMMARY:Tromsø\, Førstehjelp ved selvmordsfare
DESCRIPTION:Universitetssykehuset Nord-Norge\, Psykisk helse og rusklinikken arrangerer kurset Førstehjelp ved selvmordsfare. \nKurset er for ansatte\, og lukket for andre deltakere. Kurset er fulltegnet. \nKontaktperson er Julie Nøstvold\, epost: julie.nostvold@unn.no \n
URL:https://vivatselvmordsforebygging.net/event/tromso-forstehjelp-ved-selvmordsfare-82/
LOCATION:Tromsø\, Norge
CATEGORIES:Kurs,Førstehjelp ved selvmordsfare,Nord,Lukket kurs
GEO:60.472024;8.468946
END:VEVENT
END:VCALENDAR