BEGIN:VCALENDAR
VERSION:2.0
PRODID:-//vivat - ECPv4.9.14//NONSGML v1.0//EN
CALSCALE:GREGORIAN
METHOD:PUBLISH
X-WR-CALNAME:vivat
X-ORIGINAL-URL:https://vivatselvmordsforebygging.net
X-WR-CALDESC:Events for vivat
BEGIN:VTIMEZONE
TZID:Europe/Oslo
BEGIN:DAYLIGHT
TZOFFSETFROM:+0100
TZOFFSETTO:+0200
TZNAME:CEST
DTSTART:20230326T010000
END:DAYLIGHT
BEGIN:STANDARD
TZOFFSETFROM:+0200
TZOFFSETTO:+0100
TZNAME:CET
DTSTART:20231029T010000
END:STANDARD
END:VTIMEZONE
BEGIN:VEVENT
DTSTART;VALUE=DATE:20230606
DTEND;VALUE=DATE:20230608
DTSTAMP:20260422T085321
CREATED:20230317T114828Z
LAST-MODIFIED:20230317T114828Z
UID:9992-1686009600-1686182399@vivatselvmordsforebygging.net
SUMMARY:Trondheim\, Førstehjelp ved selvmordsfare
DESCRIPTION:Trondheim kommune arrangerer kurset Førstehjelp ved selvmordsfare. \nKurset er lukket. \nKontaktperson er Johan Mork\, epost: johanmork@hotmail.com \n
URL:https://vivatselvmordsforebygging.net/event/trondheim-forstehjelp-ved-selvmordsfare-70/
LOCATION:Trondheim\, Trondheim\, Sør-Trøndelag\, 7000\, Norge
CATEGORIES:Kurs,Førstehjelp ved selvmordsfare,Midt,Lukket kurs
GEO:63.427569;10.393207
END:VEVENT
BEGIN:VEVENT
DTSTART;VALUE=DATE:20230607
DTEND;VALUE=DATE:20230609
DTSTAMP:20260422T085321
CREATED:20221208T073147Z
LAST-MODIFIED:20221208T095534Z
UID:9693-1686096000-1686268799@vivatselvmordsforebygging.net
SUMMARY:Sandefjord\, Førstehjelp ved selvmordsfare
DESCRIPTION:Sykehuset i Vestfold HF og Sandefjord kommune arrangerer kurset Førstehjelp ved selvmordsfare. \nKurset er for ansatte i Sykehuset i Vestfold HF\, kommunalt ansatte i Sandefjord kommune og lokale samarbeidspartnere. \nKurset er lukket. Ved ledig kapasitet kan personer utenfor målgruppe få plass. \nKontaktperson er Harald Heggernes\, epost: harald.heggernes@sandefjord.kommune.no \n
URL:https://vivatselvmordsforebygging.net/event/sandefjord-forstehjelp-ved-selvmordsfare-18/
LOCATION:Stokke i Sandefjord\, Sør-Trøndelag\, Norge
CATEGORIES:Kurs,Førstehjelp ved selvmordsfare,Sør,Åpent/delvis åpent kurs
GEO:60.472024;8.468946
END:VEVENT
BEGIN:VEVENT
DTSTART;VALUE=DATE:20230607
DTEND;VALUE=DATE:20230609
DTSTAMP:20260422T085321
CREATED:20230419T112051Z
LAST-MODIFIED:20230504T075518Z
UID:10056-1686096000-1686268799@vivatselvmordsforebygging.net
SUMMARY:Tromsø\, Førstehjelp ved selvmordsfare
DESCRIPTION:RVTS Nord arrangerer kurset Førstehjelp ved selvmordsfare. \nKurset er for åpnet for alle å melde seg på. \nPåmeldingslink \nKontaktperson er Christian Eidissen Myrland\, epost: Christian.Eidissen.Myrland@unn.no \n
URL:https://vivatselvmordsforebygging.net/event/tromso-forstehjelp-ved-selvmordsfare-81/
LOCATION:Tromsø\, Sør-Trøndelag\, Norge
CATEGORIES:Kurs,Førstehjelp ved selvmordsfare,Nord,Åpent/delvis åpent kurs
GEO:60.472024;8.468946
END:VEVENT
BEGIN:VEVENT
DTSTART;VALUE=DATE:20230607
DTEND;VALUE=DATE:20230608
DTSTAMP:20260422T085321
CREATED:20230504T090137Z
LAST-MODIFIED:20230504T090137Z
UID:10085-1686096000-1686182399@vivatselvmordsforebygging.net
SUMMARY:Fillan\, Oppmerksom på selvmordstanker
DESCRIPTION:Hitra kommune arrangerer kurset Oppmerksom på selvmordstanker. \nKurset er for kommunalt ansatte\, og lukket for andre deltakere. \nKontaktperson er Peggy Marit Krogh\, epost: Peggy.Marit.Krogh@hitra.kommune.no \n
URL:https://vivatselvmordsforebygging.net/event/fillan-oppmerksom-pa-selvmordstanker/
LOCATION:Hitra\, Sør-Trøndelag\, Norge
CATEGORIES:Kurs,Oppmerksom på selvmordstanker,Midt,Lukket kurs
END:VEVENT
BEGIN:VEVENT
DTSTART;VALUE=DATE:20230607
DTEND;VALUE=DATE:20230609
DTSTAMP:20260422T085321
CREATED:20230522T102930Z
LAST-MODIFIED:20230522T102930Z
UID:10158-1686096000-1686268799@vivatselvmordsforebygging.net
SUMMARY:Oslo\, Førstehjelp ved selvmordsfare
DESCRIPTION:OsloMet arrangerer kurset Førstehjelp ved selvmordsfare. \nKurset er for paramedisinstudenter\, og lukket for andre deltakere. \nKontaktperson er Frøydis Nåheim\, epost: frona@oslomet.no \n
URL:https://vivatselvmordsforebygging.net/event/oslo-forstehjelp-ved-selvmordsfare-110/
LOCATION:Oslo\, Sør-Trøndelag\, Norge
CATEGORIES:Kurs,Førstehjelp ved selvmordsfare,Øst,Lukket kurs
GEO:60.472024;8.468946
END:VEVENT
BEGIN:VEVENT
DTSTART;VALUE=DATE:20230607
DTEND;VALUE=DATE:20230609
DTSTAMP:20260422T085321
CREATED:20230524T105151Z
LAST-MODIFIED:20230524T105151Z
UID:10162-1686096000-1686268799@vivatselvmordsforebygging.net
SUMMARY:Havøysund\, Førstehjelp ved selvmordsfare
DESCRIPTION:Troms og Finnmark fylkeskommune dekker utgifter for kommunalt ansatte til kurs i Førstehjelp ved selvmordsfare. Kurset er åpent for ansatte i kommuner i Finnmark. \nKurset er fulltegnet. \nKontaktperson er Anne Amundsen\, epost: anne.amundsen@unn.no \n
URL:https://vivatselvmordsforebygging.net/event/havoysund-forstehjelp-ved-selvmordsfare/
LOCATION:Havøysund\, Sør-Trøndelag\, Norge
CATEGORIES:Kurs,Førstehjelp ved selvmordsfare,Nord,Åpent/delvis åpent kurs
END:VEVENT
END:VCALENDAR