BEGIN:VCALENDAR
VERSION:2.0
PRODID:-//vivat - ECPv4.9.14//NONSGML v1.0//EN
CALSCALE:GREGORIAN
METHOD:PUBLISH
X-WR-CALNAME:vivat
X-ORIGINAL-URL:https://vivatselvmordsforebygging.net
X-WR-CALDESC:Events for vivat
BEGIN:VTIMEZONE
TZID:Europe/Oslo
BEGIN:DAYLIGHT
TZOFFSETFROM:+0100
TZOFFSETTO:+0200
TZNAME:CEST
DTSTART:20230326T010000
END:DAYLIGHT
BEGIN:STANDARD
TZOFFSETFROM:+0200
TZOFFSETTO:+0100
TZNAME:CET
DTSTART:20231029T010000
END:STANDARD
END:VTIMEZONE
BEGIN:VEVENT
DTSTART;VALUE=DATE:20230612
DTEND;VALUE=DATE:20230614
DTSTAMP:20260422T085444
CREATED:20230509T102532Z
LAST-MODIFIED:20230509T104935Z
UID:10124-1686528000-1686700799@vivatselvmordsforebygging.net
SUMMARY:Molde\, Førstehjelp ved selvmordsfare
DESCRIPTION:Molde kommune arrangerer kurset Førstehjelp ved selvmordsfare. \nKurset er åpent\, men er fulltegnet nå. \nInvitasjon – Førstehjelp ved selvmordsfare \nKontaktperson er Annett Eidem Røsok\, epost: annett.eidem.rosok@molde.kommune.no \n
URL:https://vivatselvmordsforebygging.net/event/molde-forstehjelp-ved-selvmordsfare-14/
LOCATION:Molde\, Molde\, Molde\, 6400\, Norge
CATEGORIES:Kurs,Førstehjelp ved selvmordsfare,Midt,Åpent/delvis åpent kurs
GEO:62.7484101;7.1268681
END:VEVENT
BEGIN:VEVENT
DTSTART;VALUE=DATE:20230612
DTEND;VALUE=DATE:20230614
DTSTAMP:20260422T085444
CREATED:20230609T105112Z
LAST-MODIFIED:20230609T105112Z
UID:10213-1686528000-1686700799@vivatselvmordsforebygging.net
SUMMARY:Lillestrøm\, Førstehjelp ved selvmordsfare
DESCRIPTION:Kriminalomsorgens høgskole og utdanningssenter – KRUS arrangerer kurset Førstehjelp ved selvmordsfare. \nKurset er for aspiranter ved studiet\, Høgskolekandidat i straffegjennomføring\, og er lukket for andre deltakere. \nKontaktperson er Vidar Skogvoll\, epost: vidar.skogvoll@krus.no \n
URL:https://vivatselvmordsforebygging.net/event/lillestrom-forstehjelp-ved-selvmordsfare-11/
LOCATION:Lillestrøm\, Molde
CATEGORIES:Kurs,Førstehjelp ved selvmordsfare,Øst,Lukket kurs
END:VEVENT
BEGIN:VEVENT
DTSTART;VALUE=DATE:20230613
DTEND;VALUE=DATE:20230615
DTSTAMP:20260422T085444
CREATED:20230427T103616Z
LAST-MODIFIED:20230427T103616Z
UID:10078-1686614400-1686787199@vivatselvmordsforebygging.net
SUMMARY:Harstad\, Førstehjelp ved selvmordsfare
DESCRIPTION:Harstad kommune arrangerer kurset Førstehjelp ved selvmordsfare. \nKurset er for ansatte i kommunen\, og lukket for andre deltakere. \nKontaktperson er Anja Therese C Sandvik\, epost: Anja.Sandvik@harstad.kommune.no \n
URL:https://vivatselvmordsforebygging.net/event/harstad-forstehjelp-ved-selvmordsfare-16/
LOCATION:Harstad\, Molde\, Norge
CATEGORIES:Kurs,Førstehjelp ved selvmordsfare,Nord,Lukket kurs
GEO:60.472024;8.468946
END:VEVENT
BEGIN:VEVENT
DTSTART;VALUE=DATE:20230613
DTEND;VALUE=DATE:20230615
DTSTAMP:20260422T085444
CREATED:20230509T113349Z
LAST-MODIFIED:20230509T113349Z
UID:10129-1686614400-1686787199@vivatselvmordsforebygging.net
SUMMARY:Saltdal\, Førstehjelp ved selvmordsfare
DESCRIPTION:Kurset Førstehjelp ved selvmordsfare arrangeres i Saltdal. \nKurset er lukket. \nKontaktperson er Lillian Haukland\, epost: Lillian.Sofie.Haukland@nordlandssykehuset.no \n
URL:https://vivatselvmordsforebygging.net/event/saltdal-forstehjelp-ved-selvmordsfare/
LOCATION:Saltdal\, Molde\, Norge
CATEGORIES:Kurs,Førstehjelp ved selvmordsfare,Nord,Lukket kurs
GEO:60.472024;8.468946
END:VEVENT
BEGIN:VEVENT
DTSTART;VALUE=DATE:20230613
DTEND;VALUE=DATE:20230615
DTSTAMP:20260422T085444
CREATED:20230512T083545Z
LAST-MODIFIED:20230512T083545Z
UID:10136-1686614400-1686787199@vivatselvmordsforebygging.net
SUMMARY:Os\, Førstehjelp ved selvmordsfare
DESCRIPTION:Bjørnafjorden kommune arrangerer kurset Førstehjelp ved selvmordsfare. \nKurset er lukket. \nKontaktperson er Randi T. Nordvik\, epost: randi@mennesketifokus.no \n
URL:https://vivatselvmordsforebygging.net/event/os-forstehjelp-ved-selvmordsfare-2/
LOCATION:Os\, Molde\, Norge
CATEGORIES:Kurs,Førstehjelp ved selvmordsfare,Vest,Lukket kurs
END:VEVENT
BEGIN:VEVENT
DTSTART;VALUE=DATE:20230613
DTEND;VALUE=DATE:20230615
DTSTAMP:20260422T085444
CREATED:20230516T073748Z
LAST-MODIFIED:20230516T073748Z
UID:10147-1686614400-1686787199@vivatselvmordsforebygging.net
SUMMARY:Porsgrunn\, Førstehjelp ved selvmordsfare
DESCRIPTION:Røde Kors Porsgrunn/Sandefjord arrangerer kurset Førstehjelp ved selvmordsfare. \nKurset er lukket. \nKontaktperson er Linda Glomsrud\, epost: linda_glomsrud@hotmail.com \n
URL:https://vivatselvmordsforebygging.net/event/porsgrunn-forstehjelp-ved-selvmordsfare-4/
LOCATION:Porsgrunn\, Telemark\, 3900\, Norge
CATEGORIES:Kurs,Førstehjelp ved selvmordsfare,Sør,Lukket kurs
GEO:59.1874344;9.6015399
END:VEVENT
BEGIN:VEVENT
DTSTART;VALUE=DATE:20230613
DTEND;VALUE=DATE:20230614
DTSTAMP:20260422T085444
CREATED:20230530T081528Z
LAST-MODIFIED:20230530T081528Z
UID:10175-1686614400-1686700799@vivatselvmordsforebygging.net
SUMMARY:Trondheim\, Oppmerksom på selvmordstanker
DESCRIPTION:Luftkrigsskolen arrangerer kurset Oppmerksom på selvmordstanker. \nKurset er lukket. \nKontaktperson er Hilde Ivarrud\, epost: hivarrud@ntebb.no \n
URL:https://vivatselvmordsforebygging.net/event/trondheim-oppmerksom-pa-selvmordstanker-38/
LOCATION:Trondheim\, Trondheim\, Sør-Trøndelag\, 7000\, Norge
CATEGORIES:Kurs,Oppmerksom på selvmordstanker,Midt,Lukket kurs
GEO:63.427569;10.393207
END:VEVENT
END:VCALENDAR