BEGIN:VCALENDAR
VERSION:2.0
PRODID:-//vivat - ECPv4.9.14//NONSGML v1.0//EN
CALSCALE:GREGORIAN
METHOD:PUBLISH
X-WR-CALNAME:vivat
X-ORIGINAL-URL:https://vivatselvmordsforebygging.net
X-WR-CALDESC:Events for vivat
BEGIN:VTIMEZONE
TZID:Europe/Oslo
BEGIN:DAYLIGHT
TZOFFSETFROM:+0100
TZOFFSETTO:+0200
TZNAME:CEST
DTSTART:20230326T010000
END:DAYLIGHT
BEGIN:STANDARD
TZOFFSETFROM:+0200
TZOFFSETTO:+0100
TZNAME:CET
DTSTART:20231029T010000
END:STANDARD
END:VTIMEZONE
BEGIN:VEVENT
DTSTART;VALUE=DATE:20230620
DTEND;VALUE=DATE:20230621
DTSTAMP:20260422T085444
CREATED:20230509T082349Z
LAST-MODIFIED:20230509T082349Z
UID:10118-1687219200-1687305599@vivatselvmordsforebygging.net
SUMMARY:Tromsø\, Oppmerksom på selvmordstanker
DESCRIPTION:Statsforvalteren i Troms og Finnmark arrangerer kurset Oppmerksom på selvmordstanker. \nKurset er lukket. \nKontaktperson er Marit Elverland\, epost: Marit.Elverland@unn.no \n
URL:https://vivatselvmordsforebygging.net/event/tromso-oppmerksom-pa-selvmordstanker-49/
LOCATION:Tromsø\, Norge
CATEGORIES:Kurs,Oppmerksom på selvmordstanker,Nord,Lukket kurs
GEO:60.472024;8.468946
END:VEVENT
BEGIN:VEVENT
DTSTART;VALUE=DATE:20230620
DTEND;VALUE=DATE:20230621
DTSTAMP:20260422T085444
CREATED:20230530T081728Z
LAST-MODIFIED:20230530T081728Z
UID:10177-1687219200-1687305599@vivatselvmordsforebygging.net
SUMMARY:Trondheim\, Oppmerksom på selvmordstanker
DESCRIPTION:Luftkrigsskolen arrangerer kurset Oppmerksom på selvmordstanker. \nKurset er lukket. \nKontaktperson er Hilde Ivarrud\, epost: hivarrud@ntebb.no \n
URL:https://vivatselvmordsforebygging.net/event/trondheim-oppmerksom-pa-selvmordstanker-39/
LOCATION:Trondheim\, Trondheim\, Sør-Trøndelag\, 7000\, Norge
CATEGORIES:Kurs,Oppmerksom på selvmordstanker,Midt,Lukket kurs
GEO:63.427569;10.393207
END:VEVENT
BEGIN:VEVENT
DTSTART;VALUE=DATE:20230620
DTEND;VALUE=DATE:20230621
DTSTAMP:20260422T085444
CREATED:20230601T085214Z
LAST-MODIFIED:20230601T085214Z
UID:10189-1687219200-1687305599@vivatselvmordsforebygging.net
SUMMARY:Kirkenes\, Oppmerksom på selvmordstanker
DESCRIPTION:Garnisonen i Sør-Varanger arrangerer kurset Oppmerksom på selvmordstanker. \nKurset er for ansatte og soldater\, og er lukket for andre deltakere. \nKontaktperson er Jon-Erik Bråthen\, epost: jonbrathen@mil.no \n  \n
URL:https://vivatselvmordsforebygging.net/event/kirkenes-oppmerksom-pa-selvmordstanker-3/
LOCATION:Kirkenes
CATEGORIES:Kurs,Oppmerksom på selvmordstanker,Nord,Lukket kurs
END:VEVENT
BEGIN:VEVENT
DTSTART;VALUE=DATE:20230620
DTEND;VALUE=DATE:20230621
DTSTAMP:20260422T085444
CREATED:20230608T110114Z
LAST-MODIFIED:20230608T110114Z
UID:10197-1687219200-1687305599@vivatselvmordsforebygging.net
SUMMARY:Stavanger\, Oppmerksom på selvmordstanker
DESCRIPTION:Forsvaret arrangerer kurset Oppmerksom på selvmordstanker. \nKurset er lukket. \nKontaktperson er Tom-Are Larsen-Svenning\, epost: tomsvenning@gmail.com \n
URL:https://vivatselvmordsforebygging.net/event/stavanger-oppmerksom-pa-selvmordstanker-11/
LOCATION:Stavanger\, Norge
CATEGORIES:Kurs,Oppmerksom på selvmordstanker,Vest,Lukket kurs
GEO:60.472024;8.468946
END:VEVENT
END:VCALENDAR