BEGIN:VCALENDAR
VERSION:2.0
PRODID:-//vivat - ECPv4.9.14//NONSGML v1.0//EN
CALSCALE:GREGORIAN
METHOD:PUBLISH
X-WR-CALNAME:vivat
X-ORIGINAL-URL:https://vivatselvmordsforebygging.net
X-WR-CALDESC:Events for vivat
BEGIN:VTIMEZONE
TZID:Europe/Oslo
BEGIN:DAYLIGHT
TZOFFSETFROM:+0100
TZOFFSETTO:+0200
TZNAME:CEST
DTSTART:20230326T010000
END:DAYLIGHT
BEGIN:STANDARD
TZOFFSETFROM:+0200
TZOFFSETTO:+0100
TZNAME:CET
DTSTART:20231029T010000
END:STANDARD
END:VTIMEZONE
BEGIN:VEVENT
DTSTART;VALUE=DATE:20230905
DTEND;VALUE=DATE:20230907
DTSTAMP:20260420T045359
CREATED:20230609T110356Z
LAST-MODIFIED:20230609T110356Z
UID:10221-1693872000-1694044799@vivatselvmordsforebygging.net
SUMMARY:Åna\, Førstehjelp ved selvmordsfare
DESCRIPTION:Kriminalomsorgens høgskole og utdanningssenter – KRUS arrangerer kurset Førstehjelp ved selvmordsfare. \nKurset er for aspiranter ved studiet Høgskolekandidat i straffegjennomføring\, og er lukket for andre deltakere. \nKontaktperson er Vidar Skogvoll\, epost: vidar.skogvoll@krus.no \n
URL:https://vivatselvmordsforebygging.net/event/ana-forstehjelp-ved-selvmordsfare/
LOCATION:Åna\, Norge
CATEGORIES:Kurs,Førstehjelp ved selvmordsfare,Vest,Lukket kurs
END:VEVENT
BEGIN:VEVENT
DTSTART;VALUE=DATE:20230905
DTEND;VALUE=DATE:20230906
DTSTAMP:20260420T045359
CREATED:20230809T073650Z
LAST-MODIFIED:20230809T073650Z
UID:10303-1693872000-1693958399@vivatselvmordsforebygging.net
SUMMARY:Sessvollmoen\, Oppmerksom på selvmordstanker
DESCRIPTION:Forsvaret arrangerer kurset Oppmerksom på selvmordstanker. \nKurset er lukket. \nKontaktperson er Lars Erichsen\, epost: laerichsen@mil.no \n
URL:https://vivatselvmordsforebygging.net/event/sessvollmoen-oppmerksom-pa-selvmordstanker-6/
LOCATION:Sessvollmoen\, 2058\, Norge
CATEGORIES:Kurs,Oppmerksom på selvmordstanker,Øst,Lukket kurs
GEO:35.0204237;-97.9727427
END:VEVENT
BEGIN:VEVENT
DTSTART;VALUE=DATE:20230905
DTEND;VALUE=DATE:20230906
DTSTAMP:20260420T045359
CREATED:20230816T084816Z
LAST-MODIFIED:20230816T084816Z
UID:10329-1693872000-1693958399@vivatselvmordsforebygging.net
SUMMARY:Sandnessjøen\, Oppmerksom på selvmordstanker
DESCRIPTION:Sandnessjøen videregående skole arrangerer kurset Oppmerksom på selvmordstanker. \nKurset er lukket. \nKontaktperson er Lill-Esther Nilsen\, epost: Lill.Esther.Nilsen@rana.kommune.no \n
URL:https://vivatselvmordsforebygging.net/event/sandnessjoen-oppmerksom-pa-selvmordstanker-2/
LOCATION:Sandnessjøen\, Nordland\, 8800\, Norge
CATEGORIES:Kurs,Førstehjelp ved selvmordsfare,Nord,Lukket kurs
GEO:65.9394383;12.548266
END:VEVENT
END:VCALENDAR