BEGIN:VCALENDAR
VERSION:2.0
PRODID:-//vivat - ECPv4.9.14//NONSGML v1.0//EN
CALSCALE:GREGORIAN
METHOD:PUBLISH
X-WR-CALNAME:vivat
X-ORIGINAL-URL:https://vivatselvmordsforebygging.net
X-WR-CALDESC:Events for vivat
BEGIN:VTIMEZONE
TZID:Europe/Oslo
BEGIN:DAYLIGHT
TZOFFSETFROM:+0100
TZOFFSETTO:+0200
TZNAME:CEST
DTSTART:20230326T010000
END:DAYLIGHT
BEGIN:STANDARD
TZOFFSETFROM:+0200
TZOFFSETTO:+0100
TZNAME:CET
DTSTART:20231029T010000
END:STANDARD
END:VTIMEZONE
BEGIN:VEVENT
DTSTART;VALUE=DATE:20230913
DTEND;VALUE=DATE:20230915
DTSTAMP:20260420T045516
CREATED:20230524T105430Z
LAST-MODIFIED:20230524T105430Z
UID:10165-1694563200-1694735999@vivatselvmordsforebygging.net
SUMMARY:Silsand\, Førstehjelp ved selvmordsfare
DESCRIPTION:DPS Silsand arrangerer kurset Førstehjelp ved selvmordsfare. \nKurset er for ansatte\, og lukket for andre deltakere. \nKontaktperson er Julie Nøstvold\, epost: julie.nostvold@unn.no \n
URL:https://vivatselvmordsforebygging.net/event/silsand-forstehjelp-ved-selvmordsfare-6/
LOCATION:Silsand\, Troms\, 9303\, Norge
CATEGORIES:Kurs,Førstehjelp ved selvmordsfare,Nord,Lukket kurs
GEO:69.2683077;17.6787919
END:VEVENT
BEGIN:VEVENT
DTSTART;VALUE=DATE:20230913
DTEND;VALUE=DATE:20230915
DTSTAMP:20260420T045516
CREATED:20230621T085952Z
LAST-MODIFIED:20230621T085952Z
UID:10259-1694563200-1694735999@vivatselvmordsforebygging.net
SUMMARY:Odda\, Førstehjelp ved selvmordsfare
DESCRIPTION:Ullensvang kommune arrangerer kurset Førstehjelp ved selvmordsfare. \nKurset er lukket. \nKontaktperson er Rolf-Eivind Vinjevoll Monsen\, epost: romonsen@mil.no \n
URL:https://vivatselvmordsforebygging.net/event/odda-forstehjelp-ved-selvmordsfare/
LOCATION:Odda\, Troms\, Norge
CATEGORIES:Kurs,Førstehjelp ved selvmordsfare,Vest,Lukket kurs
END:VEVENT
BEGIN:VEVENT
DTSTART;VALUE=DATE:20230913
DTEND;VALUE=DATE:20230915
DTSTAMP:20260420T045516
CREATED:20230825T113135Z
LAST-MODIFIED:20230825T113135Z
UID:10385-1694563200-1694735999@vivatselvmordsforebygging.net
SUMMARY:Stavanger\, Førstehjelp ved selvmordsfare
DESCRIPTION:Kurset Førstehjelp ved selvmordsfare arrangeres på KNMHH Madlaleiren. \nKurset er for ansatte i Forsvaret og Politiet. Kurset er lukket for andre deltakere. \nKontaktperson er Torhild Levik\, epost: torhild.levik@politiet.no \n
URL:https://vivatselvmordsforebygging.net/event/stavanger-forstehjelp-ved-selvmordsfare-33/
LOCATION:Stavanger\, Troms\, Norge
CATEGORIES:Kurs,Førstehjelp ved selvmordsfare,Vest,Lukket kurs
GEO:60.472024;8.468946
END:VEVENT
BEGIN:VEVENT
DTSTART;VALUE=DATE:20230914
DTEND;VALUE=DATE:20230916
DTSTAMP:20260420T045516
CREATED:20230608T114750Z
LAST-MODIFIED:20230608T114750Z
UID:10207-1694649600-1694822399@vivatselvmordsforebygging.net
SUMMARY:Bergen\, Førstehjelp ved selvmordsfare
DESCRIPTION:Nav Bergen arrangerer kurset Førstehjelp ved selvmordsfare. \nKurset er lukket. \nKontaktperson er Randi T. Nordvik\, epost: randi@mennesketifokus.no \n
URL:https://vivatselvmordsforebygging.net/event/bergen-forstehjelp-ved-selvmordsfare-124/
LOCATION:Bergen\, Troms\, Norge
CATEGORIES:Kurs,Førstehjelp ved selvmordsfare,Vest,Lukket kurs
GEO:60.472024;8.468946
END:VEVENT
BEGIN:VEVENT
DTSTART;VALUE=DATE:20230914
DTEND;VALUE=DATE:20230915
DTSTAMP:20260420T045516
CREATED:20230809T073940Z
LAST-MODIFIED:20230809T073940Z
UID:10307-1694649600-1694735999@vivatselvmordsforebygging.net
SUMMARY:Ørlandet\, Oppmerksom på selvmordstanker
DESCRIPTION:Forsvaret arrangerer kurset Oppmerksom på selvmordstanker. \nKurset er lukket. \nKontaktperson er Lars Erichsen\, epost: laerichsen@mil.no \n
URL:https://vivatselvmordsforebygging.net/event/orlandet-oppmerksom-pa-selvmordstanker-4/
LOCATION:Ørlandet\, Troms\, Norge
CATEGORIES:Kurs,Oppmerksom på selvmordstanker,Øst,Lukket kurs
END:VEVENT
BEGIN:VEVENT
DTSTART;VALUE=DATE:20230914
DTEND;VALUE=DATE:20230915
DTSTAMP:20260420T045516
CREATED:20230825T115237Z
LAST-MODIFIED:20230825T115237Z
UID:10387-1694649600-1694735999@vivatselvmordsforebygging.net
SUMMARY:Kristiansand\, Oppmerksom på selvmordstanker
DESCRIPTION:RVTS Sør arrangerer kurset Oppmerksom på selvmordstanker. \nKurset er åpent for alle å melde seg på. \nPåmelding \nKontaktperson er Øyvind Dåsvatn\, epost: oyvind.dasvatn@rvtssor.no \n
URL:https://vivatselvmordsforebygging.net/event/kristiansand-oppmerksom-pa-selvmordstanker-6/
LOCATION:Kristiansand\, Kristiansand\, Vest-Agder\, 4600\, Norge
CATEGORIES:Kurs,Oppmerksom på selvmordstanker,Sør,Lukket kurs
GEO:58.1611426;8.0307271
END:VEVENT
BEGIN:VEVENT
DTSTART;VALUE=DATE:20230914
DTEND;VALUE=DATE:20230915
DTSTAMP:20260420T045516
CREATED:20230829T124605Z
LAST-MODIFIED:20230829T124605Z
UID:10480-1694649600-1694735999@vivatselvmordsforebygging.net
SUMMARY:Heggenes\, Oppmerksom på selvmordstanker
DESCRIPTION:Øystre Slidre kommune arrangerer kurset Oppmerksom på selvmordstanker. \nKurset er åpent for alle å melde seg på. \nKontaktperson er Tore Granli\, mail: Tore.Granli@oystre-slidre.kommune.no \n
URL:https://vivatselvmordsforebygging.net/event/heggenes-oppmerksom-pa-selvmordstanker/
LOCATION:Basen for tilrettelagte tjenester\, Brennbakkin 5\, Heggenes\, Troms\, 2940\, Norge
CATEGORIES:Kurs,Oppmerksom på selvmordstanker,Øst,Åpent/delvis åpent kurs
END:VEVENT
BEGIN:VEVENT
DTSTART;VALUE=DATE:20230914
DTEND;VALUE=DATE:20230916
DTSTAMP:20260420T045516
CREATED:20230901T074513Z
LAST-MODIFIED:20230901T074514Z
UID:10504-1694649600-1694822399@vivatselvmordsforebygging.net
SUMMARY:Oslo\, Førstehjelp ved selvmordsfare
DESCRIPTION:RVTS Øst arrangerer kurset Førstehjelp ved selvmordsfare. \nKurset er åpent for alle å melde seg på. \nInvitasjon og påmelding \nKontaktperson er Dorte Brodersen\, epost: dorte.brodersen@rvtsost.no \n  \n
URL:https://vivatselvmordsforebygging.net/event/oslo-forstehjelp-ved-selvmordsfare-115/
LOCATION:Oslo\, Troms\, Norge
CATEGORIES:Kurs,Førstehjelp ved selvmordsfare,Øst,Åpent/delvis åpent kurs
GEO:60.472024;8.468946
END:VEVENT
END:VCALENDAR