BEGIN:VCALENDAR
VERSION:2.0
PRODID:-//vivat - ECPv4.9.14//NONSGML v1.0//EN
CALSCALE:GREGORIAN
METHOD:PUBLISH
X-WR-CALNAME:vivat
X-ORIGINAL-URL:https://vivatselvmordsforebygging.net
X-WR-CALDESC:Events for vivat
BEGIN:VTIMEZONE
TZID:Europe/Oslo
BEGIN:DAYLIGHT
TZOFFSETFROM:+0100
TZOFFSETTO:+0200
TZNAME:CEST
DTSTART:20230326T010000
END:DAYLIGHT
BEGIN:STANDARD
TZOFFSETFROM:+0200
TZOFFSETTO:+0100
TZNAME:CET
DTSTART:20231029T010000
END:STANDARD
END:VTIMEZONE
BEGIN:VEVENT
DTSTART;VALUE=DATE:20230925
DTEND;VALUE=DATE:20230927
DTSTAMP:20260420T031244
CREATED:20230608T110523Z
LAST-MODIFIED:20230608T110523Z
UID:10199-1695600000-1695772799@vivatselvmordsforebygging.net
SUMMARY:Oslo\, Førstehjelp ved selvmordsfare
DESCRIPTION:NAV Frogner arrangerer kurset Førstehjelp ved selvmordsfare. \nKurset er lukket. \nKontaktperson er Åsfrid Øybekk. \n
URL:https://vivatselvmordsforebygging.net/event/oslo-forstehjelp-ved-selvmordsfare-108/
LOCATION:Oslo\, Norge
CATEGORIES:Kurs,Førstehjelp ved selvmordsfare,Øst,Lukket kurs
GEO:60.472024;8.468946
END:VEVENT
BEGIN:VEVENT
DTSTART;VALUE=DATE:20230926
DTEND;VALUE=DATE:20230928
DTSTAMP:20260420T031244
CREATED:20230608T105254Z
LAST-MODIFIED:20230608T105254Z
UID:10195-1695686400-1695859199@vivatselvmordsforebygging.net
SUMMARY:Bergen\, Førstehjelp ved selvmordsfare
DESCRIPTION:KRUS arrangerer kurset Førstehjelp ved selvmordsfare. \nKurset er for aspiranter ved Bergen Fengsel\, og er lukket for andre deltakere. \nKontaktperson er Kjetil Næstby\, epost: Kjetil.Naestby@krus.no \n
URL:https://vivatselvmordsforebygging.net/event/bergen-forstehjelp-ved-selvmordsfare-123/
LOCATION:Bergen\, Norge
CATEGORIES:Kurs,Førstehjelp ved selvmordsfare,Vest,Lukket kurs
GEO:60.472024;8.468946
END:VEVENT
BEGIN:VEVENT
DTSTART;VALUE=DATE:20230926
DTEND;VALUE=DATE:20230927
DTSTAMP:20260420T031244
CREATED:20230914T125911Z
LAST-MODIFIED:20230914T125911Z
UID:10582-1695686400-1695772799@vivatselvmordsforebygging.net
SUMMARY:Bodø\, Oppmerksom på selvmordstanker
DESCRIPTION:Nordland fylkeskommune\, Finans og organisasjonen FO arrangerer kurset Oppmerksom på selvmordstanker. \nKurset er lukket. \nKontaktperson er Torunn Blokhus\, epost: torunn.blokhus@sbnett.no \n
URL:https://vivatselvmordsforebygging.net/event/bodo-oppmerksom-pa-selvmordstanker-16/
LOCATION:Bodø\, Norge
CATEGORIES:Kurs,Oppmerksom på selvmordstanker,Nord,Lukket kurs
GEO:60.472024;8.468946
END:VEVENT
END:VCALENDAR