BEGIN:VCALENDAR
VERSION:2.0
PRODID:-//vivat - ECPv4.9.14//NONSGML v1.0//EN
CALSCALE:GREGORIAN
METHOD:PUBLISH
X-WR-CALNAME:vivat
X-ORIGINAL-URL:https://vivatselvmordsforebygging.net
X-WR-CALDESC:Events for vivat
BEGIN:VTIMEZONE
TZID:Europe/Oslo
BEGIN:DAYLIGHT
TZOFFSETFROM:+0100
TZOFFSETTO:+0200
TZNAME:CEST
DTSTART:20230326T010000
END:DAYLIGHT
BEGIN:STANDARD
TZOFFSETFROM:+0200
TZOFFSETTO:+0100
TZNAME:CET
DTSTART:20231029T010000
END:STANDARD
END:VTIMEZONE
BEGIN:VEVENT
DTSTART;VALUE=DATE:20230926
DTEND;VALUE=DATE:20230928
DTSTAMP:20260420T030620
CREATED:20230608T105254Z
LAST-MODIFIED:20230608T105254Z
UID:10195-1695686400-1695859199@vivatselvmordsforebygging.net
SUMMARY:Bergen\, Førstehjelp ved selvmordsfare
DESCRIPTION:KRUS arrangerer kurset Førstehjelp ved selvmordsfare. \nKurset er for aspiranter ved Bergen Fengsel\, og er lukket for andre deltakere. \nKontaktperson er Kjetil Næstby\, epost: Kjetil.Naestby@krus.no \n
URL:https://vivatselvmordsforebygging.net/event/bergen-forstehjelp-ved-selvmordsfare-123/
LOCATION:Bergen\, Norge
CATEGORIES:Kurs,Førstehjelp ved selvmordsfare,Vest,Lukket kurs
GEO:60.472024;8.468946
END:VEVENT
BEGIN:VEVENT
DTSTART;VALUE=DATE:20230927
DTEND;VALUE=DATE:20230928
DTSTAMP:20260420T030620
CREATED:20230620T090556Z
LAST-MODIFIED:20230620T090556Z
UID:10252-1695772800-1695859199@vivatselvmordsforebygging.net
SUMMARY:Respons - digital undervisning
DESCRIPTION:Barn av Rus arrangerer kurset Respons. \nKurset er lukket. \n
URL:https://vivatselvmordsforebygging.net/event/respons-digital-undervisning-2/
CATEGORIES:Kurs,Lukket kurs,Respons - å svare på selvmordstanker,Digital undervisning
END:VEVENT
BEGIN:VEVENT
DTSTART;VALUE=DATE:20230927
DTEND;VALUE=DATE:20230929
DTSTAMP:20260420T030620
CREATED:20230811T083429Z
LAST-MODIFIED:20230811T083429Z
UID:10317-1695772800-1695945599@vivatselvmordsforebygging.net
SUMMARY:Rissa\, Førstehjelp ved selvmordsfare
DESCRIPTION:Indre Fosen kommune arrangerer kurset Førstehjelp ved selvmordsfare. \nKurset er lukket. \nKontaktperson er Eva Steinkjer\, epost: eva_steinkjer@hotmail.com \n  \n
URL:https://vivatselvmordsforebygging.net/event/rissa-forstehjelp-ved-selvmordsfare-2/
LOCATION:Rissa\, Sør-Trøndelag\, 7100\, Norge
CATEGORIES:Kurs,Førstehjelp ved selvmordsfare,Midt,Lukket kurs
GEO:63.6700627;10.1773983
END:VEVENT
BEGIN:VEVENT
DTSTART;VALUE=DATE:20230927
DTEND;VALUE=DATE:20230929
DTSTAMP:20260420T030620
CREATED:20230823T132336Z
LAST-MODIFIED:20230823T132336Z
UID:10364-1695772800-1695945599@vivatselvmordsforebygging.net
SUMMARY:Oslo\, Førstehjelp ved selvmordsfare
DESCRIPTION:Oslo kommune arrangerer kurset Førstehjelp ved selvmordsfare. \nKurset er for ansatte i kommunen\, og er lukket for andre deltakere. \nPåmelding \nKontaktperson er Rita Småvik\, epost: rita.smavik@hel.oslo.kommune.no \n
URL:https://vivatselvmordsforebygging.net/event/oslo-forstehjelp-ved-selvmordsfare-112/
LOCATION:Oslo\, Norge
CATEGORIES:Kurs,Førstehjelp ved selvmordsfare,Øst,Lukket kurs
GEO:60.472024;8.468946
END:VEVENT
BEGIN:VEVENT
DTSTART;VALUE=DATE:20230927
DTEND;VALUE=DATE:20230929
DTSTAMP:20260420T030620
CREATED:20230825T120250Z
LAST-MODIFIED:20230825T120250Z
UID:10393-1695772800-1695945599@vivatselvmordsforebygging.net
SUMMARY:Kristiansand\, Førstehjelp ved selvmordsfare
DESCRIPTION:RVTS Sør arrangerer kurset Førstehjelp ved selvmordsfare. \nKurset er åpent for alle å melde seg på. \nPåmelding \nKontaktperson er Øyvind Dåsvatn\, epost: oyvind.dasvatn@rvtssor.no \n
URL:https://vivatselvmordsforebygging.net/event/kristiansand-forstehjelp-ved-selvmordsfare-42/
LOCATION:Kristiansand\, Kristiansand\, Vest-Agder\, 4600\, Norge
CATEGORIES:Kurs,Førstehjelp ved selvmordsfare,Sør,Åpent/delvis åpent kurs
GEO:58.1611426;8.0307271
END:VEVENT
BEGIN:VEVENT
DTSTART;VALUE=DATE:20230927
DTEND;VALUE=DATE:20230928
DTSTAMP:20260420T030620
CREATED:20230914T130011Z
LAST-MODIFIED:20230914T130011Z
UID:10584-1695772800-1695859199@vivatselvmordsforebygging.net
SUMMARY:Bodø\, Oppmerksom på selvmordstanker
DESCRIPTION:Nordland fylkeskommune\, Finans og organisasjonen FO arrangerer kurset Oppmerksom på selvmordstanker. \nKurset er lukket. \nKontaktperson er Torunn Blokhus\, epost: torunn.blokhus@sbnett.no \n
URL:https://vivatselvmordsforebygging.net/event/bodo-oppmerksom-pa-selvmordstanker-17/
LOCATION:Bodø\, Norge
CATEGORIES:Kurs,Oppmerksom på selvmordstanker,Nord,Lukket kurs
GEO:60.472024;8.468946
END:VEVENT
END:VCALENDAR