BEGIN:VCALENDAR
VERSION:2.0
PRODID:-//vivat - ECPv4.9.14//NONSGML v1.0//EN
CALSCALE:GREGORIAN
METHOD:PUBLISH
X-WR-CALNAME:vivat
X-ORIGINAL-URL:https://vivatselvmordsforebygging.net
X-WR-CALDESC:Events for vivat
BEGIN:VTIMEZONE
TZID:Europe/Oslo
BEGIN:DAYLIGHT
TZOFFSETFROM:+0100
TZOFFSETTO:+0200
TZNAME:CEST
DTSTART:20230326T010000
END:DAYLIGHT
BEGIN:STANDARD
TZOFFSETFROM:+0200
TZOFFSETTO:+0100
TZNAME:CET
DTSTART:20231029T010000
END:STANDARD
END:VTIMEZONE
BEGIN:VEVENT
DTSTART;VALUE=DATE:20231009
DTEND;VALUE=DATE:20231011
DTSTAMP:20260420T031055
CREATED:20230310T135140Z
LAST-MODIFIED:20230310T135140Z
UID:9954-1696809600-1696982399@vivatselvmordsforebygging.net
SUMMARY:Rælingen\, Førstehjelp ved selvmordsfare
DESCRIPTION:Øvre Rælingen kirke arrangerer kurset Førstehjelp ved selvmordsfare. \nKurset er åpnet for alle å melde seg på. \nKontaktperson er: \nDiakon i Rælingen\nLeder for omsorgs- og frivillighetsarbeidet i kirken \nKarin Kverneland Oyenuga \nkarin.oyenuga@ralingen.kirken.no \nJobbmobil: 96 74 58 78 \n
URL:https://vivatselvmordsforebygging.net/event/raelingen-forstehjelp-ved-selvmordsfare-2/
LOCATION:Rælingen\, Norge
CATEGORIES:Kurs,Førstehjelp ved selvmordsfare,Øst,Åpent/delvis åpent kurs
END:VEVENT
BEGIN:VEVENT
DTSTART;VALUE=DATE:20231009
DTEND;VALUE=DATE:20231011
DTSTAMP:20260420T031055
CREATED:20230815T111320Z
LAST-MODIFIED:20230815T113548Z
UID:10327-1696809600-1696982399@vivatselvmordsforebygging.net
SUMMARY:Ålesund\, Førstehjelp ved selvmordsfare
DESCRIPTION:Helse Møre og Romsdal\, Prehospital avdeling arrangerer kurset Førstehjelp ved selvmordsfare. \nKurset er for ambulansepersonell/lærling ambulanse\, og er lukket for andre deltakere. \nKontaktperson er Bård Tokle\, epost: baard.tokle@helse-mr.no \n
URL:https://vivatselvmordsforebygging.net/event/alesund-forstehjelp-ved-selvmordsfare-12/
LOCATION:Ålesund\, Norge
CATEGORIES:Kurs,Førstehjelp ved selvmordsfare,Midt,Lukket kurs
GEO:60.472024;8.468946
END:VEVENT
BEGIN:VEVENT
DTSTART;VALUE=DATE:20231009
DTEND;VALUE=DATE:20231011
DTSTAMP:20260420T031055
CREATED:20230831T081411Z
LAST-MODIFIED:20230831T081411Z
UID:10488-1696809600-1696982399@vivatselvmordsforebygging.net
SUMMARY:Båtsfjord\, Førstehjelp ved selvmordsfare
DESCRIPTION:Båtsfjord kommune arrangerer kurset Førstehjelp ved selvmordsfare. \nKurset er gratis for alle ansatte i kommunen og andre aktuelle tjenester som inviteres med støtte fra Troms og Finnmark fylkeskommune. Kurset er lukket for andre deltakere. \nKontaktperson/påmelding: Tone.Sund.Wahl@batsfjord.kommune.no innen 2.oktober \n
URL:https://vivatselvmordsforebygging.net/event/batsfjord-forstehjelp-ved-selvmordsfare-2/
LOCATION:Båtsfjord
CATEGORIES:Kurs,Førstehjelp ved selvmordsfare,Nord,Lukket kurs
END:VEVENT
BEGIN:VEVENT
DTSTART;VALUE=DATE:20231010
DTEND;VALUE=DATE:20231012
DTSTAMP:20260420T031055
CREATED:20230922T084637Z
LAST-MODIFIED:20230922T084637Z
UID:10606-1696896000-1697068799@vivatselvmordsforebygging.net
SUMMARY:Frøya\, Førstehjelp ved selvmordsfare
DESCRIPTION:Hitra og Frøya kommuner arrangerer kurset Førstehjelp ved selvmordsfare. \nKurset er åpent for alle å melde seg på\, men er fullt. \nPåmelding/kontaktperson: Eva Måsøval Antonsen\, epost:  Eva.Masoval.Antonsen@hitra.kommune.no \n
URL:https://vivatselvmordsforebygging.net/event/froya-forstehjelp-ved-selvmordsfare-4/
LOCATION:Frøya ungdomsskole\, Norge
CATEGORIES:Kurs,Førstehjelp ved selvmordsfare,Midt,Åpent/delvis åpent kurs
END:VEVENT
BEGIN:VEVENT
DTSTART;VALUE=DATE:20231010
DTEND;VALUE=DATE:20231012
DTSTAMP:20260420T031055
CREATED:20230922T090156Z
LAST-MODIFIED:20230922T090156Z
UID:10611-1696896000-1697068799@vivatselvmordsforebygging.net
SUMMARY:Asker\, Førstehjelp ved selvmordsfare
DESCRIPTION:Asker kommune arrangerer kurset Førstehjelp ved selvmordsfare. \nKurset er lukket. \nKontaktperson er Synøve Bjorøy Tronvik\, epost: synovetronvik@gmail.com \n
URL:https://vivatselvmordsforebygging.net/event/asker-forstehjelp-ved-selvmordsfare-11/
LOCATION:Asker\, Asker\, Akershus\, 1373\, Norge
CATEGORIES:Kurs,Førstehjelp ved selvmordsfare,Øst,Lukket kurs
GEO:59.8316353;10.4297237
END:VEVENT
END:VCALENDAR