BEGIN:VCALENDAR
VERSION:2.0
PRODID:-//vivat - ECPv4.9.14//NONSGML v1.0//EN
CALSCALE:GREGORIAN
METHOD:PUBLISH
X-WR-CALNAME:vivat
X-ORIGINAL-URL:https://vivatselvmordsforebygging.net
X-WR-CALDESC:Events for vivat
BEGIN:VTIMEZONE
TZID:Europe/Oslo
BEGIN:DAYLIGHT
TZOFFSETFROM:+0100
TZOFFSETTO:+0200
TZNAME:CEST
DTSTART:20230326T010000
END:DAYLIGHT
BEGIN:STANDARD
TZOFFSETFROM:+0200
TZOFFSETTO:+0100
TZNAME:CET
DTSTART:20231029T010000
END:STANDARD
END:VTIMEZONE
BEGIN:VEVENT
DTSTART;VALUE=DATE:20231017
DTEND;VALUE=DATE:20231019
DTSTAMP:20260420T031039
CREATED:20230818T085151Z
LAST-MODIFIED:20230818T085151Z
UID:10335-1697500800-1697673599@vivatselvmordsforebygging.net
SUMMARY:Jørstadmoen\, Førstehjelp ved selvmordsfare
DESCRIPTION:Forsvaret arrangerer kurset Førstehjelp ved selvmordsfare. \nKurset er lukket. \nKontaktperson er Lars Erichsen\, epost: laerichsen@mil.no \n
URL:https://vivatselvmordsforebygging.net/event/jorstadmoen-forstehjelp-ved-selvmordsfare-2/
LOCATION:Jørstadmoen\, Norge
CATEGORIES:Kurs,Førstehjelp ved selvmordsfare,Øst,Lukket kurs
GEO:60.472024;8.468946
END:VEVENT
BEGIN:VEVENT
DTSTART;VALUE=DATE:20231017
DTEND;VALUE=DATE:20231019
DTSTAMP:20260420T031039
CREATED:20230831T081630Z
LAST-MODIFIED:20230920T132840Z
UID:10491-1697500800-1697673599@vivatselvmordsforebygging.net
SUMMARY:Kirkenes\, Førstehjelp ved selvmordsfare
DESCRIPTION:Sør-Varanger kommune arrangerer kurset Førstehjelp ved selvmordsfare. \nKurset er gratis for alle ansatte i kommunen og andre aktuelle tjenester som inviteres med støtte fra Troms og Finnmark fylkeskommune. Kurset er lukket for andre deltakere. \nKontaktperson/påmelding: Anita.Gade-Lundlie@sor-varanger.kommune.no innen 13.oktober \n
URL:https://vivatselvmordsforebygging.net/event/kirkenes-forstehjelp-ved-selvmordsfare/
LOCATION:Kirkenes
CATEGORIES:Kurs,Førstehjelp ved selvmordsfare,Nord,Lukket kurs
END:VEVENT
BEGIN:VEVENT
DTSTART;VALUE=DATE:20231018
DTEND;VALUE=DATE:20231019
DTSTAMP:20260420T031039
CREATED:20230822T103502Z
LAST-MODIFIED:20230822T103502Z
UID:10347-1697587200-1697673599@vivatselvmordsforebygging.net
SUMMARY:Tromsø\, Oppmerksom på selvmordstanker
DESCRIPTION:Tromsø kommune arrangerer kurset Oppmerksom på selvmordstanker. \nKurset er voksenopplæringa og andre lærere\, og er lukket for andre deltakere. \nKontaktperson er Arja Mubanga-Bjørn\, epost: Arja.Bjorn@tromso.kommune.no \n  \n
URL:https://vivatselvmordsforebygging.net/event/tromso-oppmerksom-pa-selvmordstanker-52/
LOCATION:Tromsø\, Norge
CATEGORIES:Kurs,Oppmerksom på selvmordstanker,Nord,Lukket kurs
END:VEVENT
BEGIN:VEVENT
DTSTART;VALUE=DATE:20231018
DTEND;VALUE=DATE:20231020
DTSTAMP:20260420T031039
CREATED:20230913T080728Z
LAST-MODIFIED:20230913T080728Z
UID:10544-1697587200-1697759999@vivatselvmordsforebygging.net
SUMMARY:Bergen\, Førstehjelp ved selvmordsfare
DESCRIPTION:Forsvaret arrangerer kurset Førstehjelp ved selvmorsfare. \nKurset er lukket. \nKontaktperson er Hans Kenneth Sundsbø\, epost: sundsbo.fpk@gmail.com \n
URL:https://vivatselvmordsforebygging.net/event/bergen-forstehjelp-ved-selvmordsfare-129/
LOCATION:Haakonsvern\, Mathopen\, Bergen\, Hordaland\, 5173\, Norge
CATEGORIES:Kurs,Førstehjelp ved selvmordsfare,Vest,Lukket kurs
GEO:60.3380604;5.2093597
X-APPLE-STRUCTURED-LOCATION;VALUE=URI;X-ADDRESS=Haakonsvern Mathopen Bergen Hordaland 5173 Norge;X-APPLE-RADIUS=500;X-TITLE=Mathopen:geo:5.2093597,60.3380604
END:VEVENT
BEGIN:VEVENT
DTSTART;VALUE=DATE:20231018
DTEND;VALUE=DATE:20231020
DTSTAMP:20260420T031039
CREATED:20230927T074437Z
LAST-MODIFIED:20230927T074437Z
UID:10627-1697587200-1697759999@vivatselvmordsforebygging.net
SUMMARY:Harstad\, Førstehjelp ved selvmordsfare
DESCRIPTION:Harstad kommune arrangerer kurset Førstehjelp ved selvmordsfare. \nKurset er lukket. \nKontaktperson er Vibeke Vang\, epost: Vibeke.Vang@harstad.kommune.no \n
URL:https://vivatselvmordsforebygging.net/event/harstad-forstehjelp-ved-selvmordsfare-18/
LOCATION:Harstad\, Norge
CATEGORIES:Kurs,Førstehjelp ved selvmordsfare,Nord,Lukket kurs
GEO:60.472024;8.468946
END:VEVENT
END:VCALENDAR