BEGIN:VCALENDAR
VERSION:2.0
PRODID:-//vivat - ECPv4.9.14//NONSGML v1.0//EN
CALSCALE:GREGORIAN
METHOD:PUBLISH
X-WR-CALNAME:vivat
X-ORIGINAL-URL:https://vivatselvmordsforebygging.net
X-WR-CALDESC:Events for vivat
BEGIN:VTIMEZONE
TZID:Europe/Oslo
BEGIN:DAYLIGHT
TZOFFSETFROM:+0100
TZOFFSETTO:+0200
TZNAME:CEST
DTSTART:20230326T010000
END:DAYLIGHT
BEGIN:STANDARD
TZOFFSETFROM:+0200
TZOFFSETTO:+0100
TZNAME:CET
DTSTART:20231029T010000
END:STANDARD
END:VTIMEZONE
BEGIN:VEVENT
DTSTART;VALUE=DATE:20231019
DTEND;VALUE=DATE:20231021
DTSTAMP:20260420T031208
CREATED:20230609T110813Z
LAST-MODIFIED:20230818T085307Z
UID:10227-1697673600-1697846399@vivatselvmordsforebygging.net
SUMMARY:Trondheim\, Førstehjelp ved selvmordsfare
DESCRIPTION:Kriminalomsorgens høgskole og utdanningssenter – KRUS arrangerer kurset Førstehjelp ved selvmordsfare. \nKurset er for ansatte i kriminalomsorgen i region Nord \, og er lukket for andre deltakere. \nKontaktperson er Vidar Skogvoll\, epost: vidar.skogvoll@krus.no \n
URL:https://vivatselvmordsforebygging.net/event/trondheim/
LOCATION:Trondheim\, Trondheim\, Sør-Trøndelag\, 7000\, Norge
CATEGORIES:Kurs,Førstehjelp ved selvmordsfare,Midt,Lukket kurs
GEO:63.427569;10.393207
END:VEVENT
BEGIN:VEVENT
DTSTART;VALUE=DATE:20231019
DTEND;VALUE=DATE:20231021
DTSTAMP:20260420T031208
CREATED:20230913T083145Z
LAST-MODIFIED:20230913T083145Z
UID:10551-1697673600-1697846399@vivatselvmordsforebygging.net
SUMMARY:Samnanger\, Førstehjelp ved selvmordsfare
DESCRIPTION:Samnanger kommune arrangerer kurset Førstehjelp ved selvmordsfare. \nKurset er lukket. \nKontaktperson er kommunepsykolog Venla Arponen Snilstveit\, tlf: 96 62 52 85 \n
URL:https://vivatselvmordsforebygging.net/event/samnanger-forstehjelp-ved-selvmordsfare/
LOCATION:Samnanger\, Sør-Trøndelag\, Norge
CATEGORIES:Kurs,Førstehjelp ved selvmordsfare,Vest,Lukket kurs
END:VEVENT
BEGIN:VEVENT
DTSTART;VALUE=DATE:20231019
DTEND;VALUE=DATE:20231021
DTSTAMP:20260420T031208
CREATED:20231003T092637Z
LAST-MODIFIED:20231003T092637Z
UID:10649-1697673600-1697846399@vivatselvmordsforebygging.net
SUMMARY:Bergen\, Førstehjelp ved selvmordsfare
DESCRIPTION:Bergen kommune arrangerer kurset Førstehjelp ved selvmordsfare. \nKurset er for kommunens ansatte og er lukket for andre deltakere. \nKontaktperson er Anette Johannessen\, epost: Anette.Johannessen2@bergen.kommune.no \n
URL:https://vivatselvmordsforebygging.net/event/bergen-forstehjelp-ved-selvmordsfare-133/
LOCATION:Bergen\, Sør-Trøndelag\, Norge
CATEGORIES:Kurs,Førstehjelp ved selvmordsfare,Vest,Lukket kurs
GEO:60.472024;8.468946
END:VEVENT
BEGIN:VEVENT
DTSTART;VALUE=DATE:20231020
DTEND;VALUE=DATE:20231021
DTSTAMP:20260420T031208
CREATED:20231016T081112Z
LAST-MODIFIED:20231016T081112Z
UID:10677-1697760000-1697846399@vivatselvmordsforebygging.net
SUMMARY:Evenes\, Oppmerksom på selvmordstanker
DESCRIPTION:Forsvaret arrangerer kurset Oppmerksom på selvmordstanker. \nKurset er lukket. \nKontaktperson er Hanna Mikalsen\, epost: hanna.mikalsen@hotmail.com \n
URL:https://vivatselvmordsforebygging.net/event/evenes-oppmerksom-pa-selvmordstanker-7/
LOCATION:Evenes Flystasjon\, Sør-Trøndelag\, Norge
CATEGORIES:Kurs,Oppmerksom på selvmordstanker,Nord,Lukket kurs
GEO:60.472024;8.468946
END:VEVENT
END:VCALENDAR