BEGIN:VCALENDAR
VERSION:2.0
PRODID:-//vivat - ECPv4.9.14//NONSGML v1.0//EN
CALSCALE:GREGORIAN
METHOD:PUBLISH
X-WR-CALNAME:vivat
X-ORIGINAL-URL:https://vivatselvmordsforebygging.net
X-WR-CALDESC:Events for vivat
BEGIN:VTIMEZONE
TZID:Europe/Oslo
BEGIN:DAYLIGHT
TZOFFSETFROM:+0100
TZOFFSETTO:+0200
TZNAME:CEST
DTSTART:20230326T010000
END:DAYLIGHT
BEGIN:STANDARD
TZOFFSETFROM:+0200
TZOFFSETTO:+0100
TZNAME:CET
DTSTART:20231029T010000
END:STANDARD
END:VTIMEZONE
BEGIN:VEVENT
DTSTART;VALUE=DATE:20231026
DTEND;VALUE=DATE:20231028
DTSTAMP:20260420T031207
CREATED:20230830T073239Z
LAST-MODIFIED:20230913T083254Z
UID:10484-1698278400-1698451199@vivatselvmordsforebygging.net
SUMMARY:Bergen\, Førstehjelp ved selvmordsfare
DESCRIPTION:Mennesket i Fokus arrangerer kurset Førstehjelp ved selvmordsfare. \nKurset er åpent for alle å melde seg på. Kurset er fullbooket. \nInvitasjon Vivat 26. og 27. oktober 2023 \nKontaktperson er Randi T. Nordvik\, epost: randi@mennesketifokus.no \n
URL:https://vivatselvmordsforebygging.net/event/bergen-forstehjelp-ved-selvmordsfare-128/
LOCATION:Bergen\, Norge
CATEGORIES:Kurs,Førstehjelp ved selvmordsfare,Vest,Åpent/delvis åpent kurs
GEO:60.472024;8.468946
END:VEVENT
BEGIN:VEVENT
DTSTART;VALUE=DATE:20231026
DTEND;VALUE=DATE:20231028
DTSTAMP:20260420T031207
CREATED:20230905T075443Z
LAST-MODIFIED:20230905T075443Z
UID:10519-1698278400-1698451199@vivatselvmordsforebygging.net
SUMMARY:Karmøy\, Førstehjelp ved selvmordsfare
DESCRIPTION:Karmøy kommune arrangerer kurset Førstehjelp ved selvmordsfare. \nKurset er lukket. \nKontaktperson er Marion Bjørgan\, epost: Marion.Bjorgan@bergen.kommune.no \n
URL:https://vivatselvmordsforebygging.net/event/karmoy-forstehjelp-ved-selvmordsfare-6/
LOCATION:Karmøy\, Norge
CATEGORIES:Kurs,Førstehjelp ved selvmordsfare,Vest,Lukket kurs
GEO:60.472024;8.468946
END:VEVENT
BEGIN:VEVENT
DTSTART;VALUE=DATE:20231026
DTEND;VALUE=DATE:20231028
DTSTAMP:20260420T031207
CREATED:20231019T090452Z
LAST-MODIFIED:20231019T090452Z
UID:10691-1698278400-1698451199@vivatselvmordsforebygging.net
SUMMARY:Øverbø\, Førstehjelp ved selvmorsfare
DESCRIPTION:Kurset Førstehjelp ved selvmordsfare arrangeres ved Øvrebø mottak. \nKurset er lukket. \nKontaktperson er Gunnar Eide\, tlf: 920 60624 \n
URL:https://vivatselvmordsforebygging.net/event/overbo-forstehjelp-ved-selvmorsfare/
LOCATION:Øvrebø\, Norge
CATEGORIES:Kurs,Førstehjelp ved selvmordsfare,Sør,Lukket kurs
GEO:60.472024;8.468946
END:VEVENT
BEGIN:VEVENT
DTSTART;VALUE=DATE:20231027
DTEND;VALUE=DATE:20231028
DTSTAMP:20260420T031207
CREATED:20230926T080214Z
LAST-MODIFIED:20230926T080214Z
UID:10624-1698364800-1698451199@vivatselvmordsforebygging.net
SUMMARY:Nærbø\, Oppmerksom på selvmordstanker
DESCRIPTION:Tryggheim videregående skole arrangerer kurset Oppmerksom på selvmordstanker. \nKurset er lukket. \nKontaktperson er Einar Steen Jakobsen\, epost: einar.steen.jakobsen@lyse.net \n
URL:https://vivatselvmordsforebygging.net/event/naerbo-oppmerksom-pa-selvmordstanker/
LOCATION:Nærbø\, Norge
CATEGORIES:Kurs,Oppmerksom på selvmordstanker,Øst,Lukket kurs
END:VEVENT
END:VCALENDAR