BEGIN:VCALENDAR
VERSION:2.0
PRODID:-//vivat - ECPv4.9.14//NONSGML v1.0//EN
CALSCALE:GREGORIAN
METHOD:PUBLISH
X-WR-CALNAME:vivat
X-ORIGINAL-URL:https://vivatselvmordsforebygging.net
X-WR-CALDESC:Events for vivat
BEGIN:VTIMEZONE
TZID:Europe/Oslo
BEGIN:DAYLIGHT
TZOFFSETFROM:+0100
TZOFFSETTO:+0200
TZNAME:CEST
DTSTART:20230326T010000
END:DAYLIGHT
BEGIN:STANDARD
TZOFFSETFROM:+0200
TZOFFSETTO:+0100
TZNAME:CET
DTSTART:20231029T010000
END:STANDARD
END:VTIMEZONE
BEGIN:VEVENT
DTSTART;VALUE=DATE:20231101
DTEND;VALUE=DATE:20231103
DTSTAMP:20260420T014218
CREATED:20230609T111438Z
LAST-MODIFIED:20230609T111438Z
UID:10229-1698796800-1698969599@vivatselvmordsforebygging.net
SUMMARY:Lillestrøm\, Førstehjelp ved selvmordsfare
DESCRIPTION:Kriminalomsorgens høgskole og utdanningssenter – KRUS arrangerer kurset Førstehjelp ved selvmordsfare. \nKurset er for ansatte i kriminalomsorgen og samarbeidspartnere \, og er lukket for andre deltakere. \nKontaktperson er Anne Natrud\, epost: Anne.Natrud@krus.no \n
URL:https://vivatselvmordsforebygging.net/event/lillestrom-forstehjelp-ved-selvmordsfare-14/
LOCATION:Lillestrøm
CATEGORIES:Kurs,Førstehjelp ved selvmordsfare,Øst,Lukket kurs
END:VEVENT
BEGIN:VEVENT
DTSTART;VALUE=DATE:20231101
DTEND;VALUE=DATE:20231103
DTSTAMP:20260420T014218
CREATED:20231003T092342Z
LAST-MODIFIED:20231003T092342Z
UID:10647-1698796800-1698969599@vivatselvmordsforebygging.net
SUMMARY:Bergen\, Førstehjelp ved selvmordsfare
DESCRIPTION:Kirkens SOS Bjørgvin arrangerer kurset Førstehjelp ved selvmordsfare. \nKurset er lukket. \nKontaktperson er Andreas Heldal\, epost: andreas.heldal@gmail.com \n
URL:https://vivatselvmordsforebygging.net/event/bergen-forstehjelp-ved-selvmordsfare-132/
LOCATION:Bergen\, Norge
CATEGORIES:Kurs,Førstehjelp ved selvmordsfare,Vest,Lukket kurs
GEO:60.472024;8.468946
END:VEVENT
BEGIN:VEVENT
DTSTART;VALUE=DATE:20231101
DTEND;VALUE=DATE:20231102
DTSTAMP:20260420T014218
CREATED:20231004T110131Z
LAST-MODIFIED:20231004T110131Z
UID:10658-1698796800-1698883199@vivatselvmordsforebygging.net
SUMMARY:Bardufoss\, Oppmerksom på selvmordstanker
DESCRIPTION:Forsvaret arrangerer kurset Oppmerksom på selvmordstanker. \nKurset er lukket. \nKontaktperson er Geirulf Grødem\, epost: geigrodem@mil.no \n
URL:https://vivatselvmordsforebygging.net/event/bardufoss-oppmerksom-pa-selvmordstanker-15/
LOCATION:Bardufoss
CATEGORIES:Kurs,Oppmerksom på selvmordstanker,Nord,Lukket kurs
END:VEVENT
BEGIN:VEVENT
DTSTART;VALUE=DATE:20231101
DTEND;VALUE=DATE:20231103
DTSTAMP:20260420T014218
CREATED:20231010T142722Z
LAST-MODIFIED:20231010T142722Z
UID:10669-1698796800-1698969599@vivatselvmordsforebygging.net
SUMMARY:Kvinnherad\, Førstehjelp ved selvmordsfare
DESCRIPTION:Kvinnherad kommune arrangerer kurset Førstehjelp ved selvmordsfare. \nKurset er lukket. \nKontaktperson er Randi Nordvik\, epost: randi@mennesketifokus.no \n
URL:https://vivatselvmordsforebygging.net/event/kvinnherad-forstehjelp-ved-selvmordsfare-4/
LOCATION:Kvinnherad
CATEGORIES:Kurs,Førstehjelp ved selvmordsfare,Vest,Lukket kurs
END:VEVENT
BEGIN:VEVENT
DTSTART;TZID=Europe/Oslo:20231101T113000
DTEND;TZID=Europe/Oslo:20231101T153000
DTSTAMP:20260420T014218
CREATED:20230904T115209Z
LAST-MODIFIED:20230904T115209Z
UID:10513-1698838200-1698852600@vivatselvmordsforebygging.net
SUMMARY:Hå\, Oppmerksom på selvmordtanker
DESCRIPTION:Hå kommune arrangerer kurset Oppmerksom på selvmordstanker. \nKurset er for ansatte i SLT og miljøterapeuter i kommunen\, og er lukket for andre deltakere. \nKontaktperson er Einar Steen Jakobsen\, epost: einar.steen.jakobsen@lyse.net \n
URL:https://vivatselvmordsforebygging.net/event/ha-oppmerksom-pa-selvmordtanker/
LOCATION:Hå\, Norge
CATEGORIES:Kurs,Oppmerksom på selvmordstanker,Vest,Lukket kurs
END:VEVENT
BEGIN:VEVENT
DTSTART;TZID=Europe/Oslo:20231101T113000
DTEND;TZID=Europe/Oslo:20231101T153000
DTSTAMP:20260420T014218
CREATED:20230922T125257Z
LAST-MODIFIED:20230922T125257Z
UID:10616-1698838200-1698852600@vivatselvmordsforebygging.net
SUMMARY:Drammen\, Oppmerksom på selvmordstanker
DESCRIPTION:Drammen kommune arrangerer kurset Oppmerksom på selvmordstanker. \nKurset er for for ansatte i kommunen og frivillige organisasjoner kommunen samarbeider med. \nKontaktperson er Norunn Størdal\, epost: norunn.stordal@drammen.kommune.no \n
URL:https://vivatselvmordsforebygging.net/event/drammen-oppmerksom-pa-selvmordstanker-5/
LOCATION:Drammen\, Norge
CATEGORIES:Kurs,Oppmerksom på selvmordstanker,Øst,Lukket kurs
GEO:60.472024;8.468946
END:VEVENT
END:VCALENDAR