BEGIN:VCALENDAR
VERSION:2.0
PRODID:-//vivat - ECPv4.9.14//NONSGML v1.0//EN
CALSCALE:GREGORIAN
METHOD:PUBLISH
X-WR-CALNAME:vivat
X-ORIGINAL-URL:https://vivatselvmordsforebygging.net
X-WR-CALDESC:Events for vivat
BEGIN:VTIMEZONE
TZID:Europe/Oslo
BEGIN:DAYLIGHT
TZOFFSETFROM:+0100
TZOFFSETTO:+0200
TZNAME:CEST
DTSTART:20230326T010000
END:DAYLIGHT
BEGIN:STANDARD
TZOFFSETFROM:+0200
TZOFFSETTO:+0100
TZNAME:CET
DTSTART:20231029T010000
END:STANDARD
END:VTIMEZONE
BEGIN:VEVENT
DTSTART;VALUE=DATE:20231106
DTEND;VALUE=DATE:20231107
DTSTAMP:20260420T014111
CREATED:20230913T090205Z
LAST-MODIFIED:20230913T090205Z
UID:10571-1699228800-1699315199@vivatselvmordsforebygging.net
SUMMARY:Oslo\, Oppmerksom på selvmordstanker
DESCRIPTION:VID Oslo arrangerer kurset Oppmerksom på selvmordstanker. \nKurset er lukket. \nKontaktperson er Elisabeth Nilsen Aas\, epost: elisabeth.aas@vid.no \n
URL:https://vivatselvmordsforebygging.net/event/oslo-oppmerksom-pa-selvmordstanker-56/
LOCATION:Oslo\, Norge
CATEGORIES:Kurs,Oppmerksom på selvmordstanker,Øst,Lukket kurs
GEO:60.472024;8.468946
END:VEVENT
BEGIN:VEVENT
DTSTART;VALUE=DATE:20231106
DTEND;VALUE=DATE:20231107
DTSTAMP:20260420T014111
CREATED:20231002T122730Z
LAST-MODIFIED:20231002T122730Z
UID:10632-1699228800-1699315199@vivatselvmordsforebygging.net
SUMMARY:Drammen\, Oppmerksom på selvmordstanker
DESCRIPTION:Drammen kommune arrangerer kurset Oppmerksom på selvmordstanker. \nKurset er for for ansatte i kommunen og frivillige organisasjoner kommunen samarbeider med. \nKontaktperson er Norunn Størdal\, epost: norunn.stordal@drammen.kommune.no \n
URL:https://vivatselvmordsforebygging.net/event/drammen-oppmerksom-pa-selvmordstanker-8/
LOCATION:Drammen\, Norge
CATEGORIES:Kurs,Oppmerksom på selvmordstanker,Øst,Lukket kurs
GEO:60.472024;8.468946
END:VEVENT
BEGIN:VEVENT
DTSTART;TZID=Europe/Oslo:20231106T083000
DTEND;TZID=Europe/Oslo:20231106T151500
DTSTAMP:20260420T014111
CREATED:20230828T105508Z
LAST-MODIFIED:20230828T105508Z
UID:10458-1699259400-1699283700@vivatselvmordsforebygging.net
SUMMARY:Respons - digital undervisning
DESCRIPTION:Oslo kommune arrangerer kurset Respons. \nKurset er for kommunens ansatte\, og er lukket for andre deltakere. \nPåmelding \nKontaktperson er Rita Småvik\, epost: rita.smavik@hel.oslo.kommune.no \n
URL:https://vivatselvmordsforebygging.net/event/respons-digital-undervisning-7/
CATEGORIES:Kurs,Øst,Respons - å svare på selvmordstanker,Digital undervisning
END:VEVENT
END:VCALENDAR