BEGIN:VCALENDAR
VERSION:2.0
PRODID:-//vivat - ECPv4.9.14//NONSGML v1.0//EN
CALSCALE:GREGORIAN
METHOD:PUBLISH
X-WR-CALNAME:vivat
X-ORIGINAL-URL:https://vivatselvmordsforebygging.net
X-WR-CALDESC:Events for vivat
BEGIN:VTIMEZONE
TZID:Europe/Oslo
BEGIN:DAYLIGHT
TZOFFSETFROM:+0100
TZOFFSETTO:+0200
TZNAME:CEST
DTSTART:20230326T010000
END:DAYLIGHT
BEGIN:STANDARD
TZOFFSETFROM:+0200
TZOFFSETTO:+0100
TZNAME:CET
DTSTART:20231029T010000
END:STANDARD
END:VTIMEZONE
BEGIN:VEVENT
DTSTART;VALUE=DATE:20231107
DTEND;VALUE=DATE:20231108
DTSTAMP:20260420T014039
CREATED:20230913T090310Z
LAST-MODIFIED:20230913T090310Z
UID:10573-1699315200-1699401599@vivatselvmordsforebygging.net
SUMMARY:Oslo\, Oppmerksom på selvmordstanker
DESCRIPTION:VID Oslo arrangerer kurset Oppmerksom på selvmordstanker. \nKurset er lukket. \nKontaktperson er Elisabeth Nilsen Aas\, epost: elisabeth.aas@vid.no \n
URL:https://vivatselvmordsforebygging.net/event/oslo-oppmerksom-pa-selvmordstanker-57/
LOCATION:Oslo\, Norge
CATEGORIES:Kurs,Oppmerksom på selvmordstanker,Øst,Lukket kurs
GEO:60.472024;8.468946
END:VEVENT
BEGIN:VEVENT
DTSTART;VALUE=DATE:20231107
DTEND;VALUE=DATE:20231109
DTSTAMP:20260420T014039
CREATED:20230922T075555Z
LAST-MODIFIED:20230922T075555Z
UID:10597-1699315200-1699487999@vivatselvmordsforebygging.net
SUMMARY:Bergen\, Førstehjelp ved selvmordsfare
DESCRIPTION:Mennesket i Fokus arrangerer kurset Førstehjelp ved selvmordsfare. \nKurset er åpent for alle å melde seg på. \nInvitasjon og påmelding \nKontaktperson er Randi Nordvik\, epost: randi@mennesketifokus.no \n
URL:https://vivatselvmordsforebygging.net/event/bergen-forstehjelp-ved-selvmordsfare-130/
LOCATION:Bergen\, Norge
CATEGORIES:Kurs,Førstehjelp ved selvmordsfare,Vest,Åpent/delvis åpent kurs
GEO:60.472024;8.468946
END:VEVENT
BEGIN:VEVENT
DTSTART;VALUE=DATE:20231107
DTEND;VALUE=DATE:20231108
DTSTAMP:20260420T014039
CREATED:20230922T084217Z
LAST-MODIFIED:20230922T084835Z
UID:10600-1699315200-1699401599@vivatselvmordsforebygging.net
SUMMARY:Frøya\, Oppmerksom på selvmordstanker
DESCRIPTION:Hitra og Frøya kommuner arrangerer kurset Oppmerksom på selvmordstanker. \nKurset er åpent for alle å melde seg på. \nPåmelding/kontaktperson: Eva Måsøval Antonsen\, Eva.Masoval.Antonsen@hitra.kommune.no \n
URL:https://vivatselvmordsforebygging.net/event/froya-oppmerksom-pa-selvmordstanker-2/
LOCATION:Frøya kultur og kompetansesenter\, Norge
CATEGORIES:Kurs,Oppmerksom på selvmordstanker,Midt,Åpent/delvis åpent kurs
END:VEVENT
BEGIN:VEVENT
DTSTART;VALUE=DATE:20231107
DTEND;VALUE=DATE:20231108
DTSTAMP:20260420T014039
CREATED:20231019T084454Z
LAST-MODIFIED:20231019T084454Z
UID:10688-1699315200-1699401599@vivatselvmordsforebygging.net
SUMMARY:Stavanger\, Oppmerksom på selvmordstanker
DESCRIPTION:Helse Vest arrangerer kurset OPpmerkosm på selvmordstanker. \nKurset er lukket. \nKontaktperson er Jan F. Raae\, epost: jfraae@gmail.com \n
URL:https://vivatselvmordsforebygging.net/event/stavanger-oppmerksom-pa-selvmordstanker-12/
LOCATION:Stavanger\, Norge
CATEGORIES:Kurs,Oppmerksom på selvmordstanker,Vest,Lukket kurs
GEO:60.472024;8.468946
END:VEVENT
BEGIN:VEVENT
DTSTART;VALUE=DATE:20231107
DTEND;VALUE=DATE:20231109
DTSTAMP:20260420T014039
CREATED:20231019T090605Z
LAST-MODIFIED:20231019T090605Z
UID:10693-1699315200-1699487999@vivatselvmordsforebygging.net
SUMMARY:Rjukan\, Førstehjelp ved selvmordsfare
DESCRIPTION:Kurset Førstehjelp ved selvmordsfare arrangeres ved Rjukan mottak. \nKurset er lukket. \nKontaktperson er Gunnar Eide\, tlf: 920 60624 \n
URL:https://vivatselvmordsforebygging.net/event/rjukan-forstehjelp-ved-selvmordsfare/
LOCATION:Rjukan\, Norge
CATEGORIES:Kurs,Førstehjelp ved selvmordsfare,Sør,Lukket kurs
END:VEVENT
BEGIN:VEVENT
DTSTART;VALUE=DATE:20231107
DTEND;VALUE=DATE:20231108
DTSTAMP:20260420T014039
CREATED:20231023T082517Z
LAST-MODIFIED:20231023T082517Z
UID:10706-1699315200-1699401599@vivatselvmordsforebygging.net
SUMMARY:Oslo\, Oppmerksom på selvmordstanker
DESCRIPTION:Intrum arrangerer kurset Oppmerksom på selvmordstanker. \nKurset er lukket. \nKontaktperson er Anette S. Skrindo\, epost: Anette.Seierstad.Skrindo@unn.no \n
URL:https://vivatselvmordsforebygging.net/event/oslo-oppmerksom-pa-selvmordstanker-59/
LOCATION:Oslo\, Norge
CATEGORIES:Kurs,Oppmerksom på selvmordstanker,Øst,Lukket kurs
GEO:60.472024;8.468946
END:VEVENT
END:VCALENDAR