BEGIN:VCALENDAR
VERSION:2.0
PRODID:-//vivat - ECPv4.9.14//NONSGML v1.0//EN
CALSCALE:GREGORIAN
METHOD:PUBLISH
X-WR-CALNAME:vivat
X-ORIGINAL-URL:https://vivatselvmordsforebygging.net
X-WR-CALDESC:Events for vivat
BEGIN:VTIMEZONE
TZID:Europe/Oslo
BEGIN:DAYLIGHT
TZOFFSETFROM:+0100
TZOFFSETTO:+0200
TZNAME:CEST
DTSTART:20230326T010000
END:DAYLIGHT
BEGIN:STANDARD
TZOFFSETFROM:+0200
TZOFFSETTO:+0100
TZNAME:CET
DTSTART:20231029T010000
END:STANDARD
END:VTIMEZONE
BEGIN:VEVENT
DTSTART;VALUE=DATE:20231108
DTEND;VALUE=DATE:20231110
DTSTAMP:20260420T031244
CREATED:20231017T111947Z
LAST-MODIFIED:20231017T111947Z
UID:10683-1699401600-1699574399@vivatselvmordsforebygging.net
SUMMARY:Stavanger\, Førstehjelp ved selvmordsfare
DESCRIPTION:Politiet og Forsvaret arrangerer kurset Førstehjelp ved selvmordsfare. \nKurset er for ansatte i begge etater\, og lukket for andre deltakere. \nKontaktperson er Torhild Levik\, epost: torhild.levik@politiet.no \n
URL:https://vivatselvmordsforebygging.net/event/stavanger-forstehjelp-ved-selvmordsfare-34/
LOCATION:Madlaleiren\, Norge
CATEGORIES:Kurs,Førstehjelp ved selvmordsfare,Vest,Lukket kurs
END:VEVENT
BEGIN:VEVENT
DTSTART;VALUE=DATE:20231109
DTEND;VALUE=DATE:20231110
DTSTAMP:20260420T031244
CREATED:20230901T111959Z
LAST-MODIFIED:20230901T111959Z
UID:10506-1699488000-1699574399@vivatselvmordsforebygging.net
SUMMARY:Oslo\, FriskOpp
DESCRIPTION:Kors på halsen\, Røde Kors arrangerer kurset FriskOpp. \nKurset er for frivillige i organisasjonen\, og er lukket for andre deltakere. \nKontaktperson er Monica Børresen\, epost: monica.borresen@redcross.no \n
URL:https://vivatselvmordsforebygging.net/event/oslo-friskopp-4/
LOCATION:Oslo\, Norge
CATEGORIES:Kurs,FriskOpp,Øst,Lukket kurs
GEO:60.472024;8.468946
END:VEVENT
BEGIN:VEVENT
DTSTART;VALUE=DATE:20231109
DTEND;VALUE=DATE:20231110
DTSTAMP:20260420T031244
CREATED:20231023T084232Z
LAST-MODIFIED:20231023T084232Z
UID:10710-1699488000-1699574399@vivatselvmordsforebygging.net
SUMMARY:Skjold\, Oppmerksom på selvmordstanker
DESCRIPTION:Forsvaret arrangerer kurset Oppmerksom på selvmordstanker på Skjold/Øverbygd. \nKurset er lukket. \nKontaktperson er Robin Mork\, epost: romork@mil.no \n
URL:https://vivatselvmordsforebygging.net/event/skjold-oppmerksom-pa-selvmordstanker-3/
LOCATION:Skjold\, Norge
CATEGORIES:Kurs,Oppmerksom på selvmordstanker,Nord,Lukket kurs
GEO:60.472024;8.468946
END:VEVENT
BEGIN:VEVENT
DTSTART;VALUE=DATE:20231109
DTEND;VALUE=DATE:20231110
DTSTAMP:20260420T031244
CREATED:20231031T085824Z
LAST-MODIFIED:20231031T085824Z
UID:10739-1699488000-1699574399@vivatselvmordsforebygging.net
SUMMARY:Trondheim\, Oppmerksom på selvmordstanker
DESCRIPTION:Intrum arrangerer kurset Oppmerksom på selvmordstanker. \nKurset er lukket. \nKontaktperson er Runi Elisabeth Nilsen \n
URL:https://vivatselvmordsforebygging.net/event/trondheim-oppmerksom-pa-selvmordstanker-46/
LOCATION:Trondheim\, Norge
CATEGORIES:Kurs,Oppmerksom på selvmordstanker,Midt,Lukket kurs
END:VEVENT
END:VCALENDAR