BEGIN:VCALENDAR
VERSION:2.0
PRODID:-//vivat - ECPv4.9.14//NONSGML v1.0//EN
CALSCALE:GREGORIAN
METHOD:PUBLISH
X-WR-CALNAME:vivat
X-ORIGINAL-URL:https://vivatselvmordsforebygging.net
X-WR-CALDESC:Events for vivat
BEGIN:VTIMEZONE
TZID:Europe/Oslo
BEGIN:DAYLIGHT
TZOFFSETFROM:+0100
TZOFFSETTO:+0200
TZNAME:CEST
DTSTART:20230326T010000
END:DAYLIGHT
BEGIN:STANDARD
TZOFFSETFROM:+0200
TZOFFSETTO:+0100
TZNAME:CET
DTSTART:20231029T010000
END:STANDARD
END:VTIMEZONE
BEGIN:VEVENT
DTSTART;VALUE=DATE:20231120
DTEND;VALUE=DATE:20231122
DTSTAMP:20260420T014147
CREATED:20231003T092856Z
LAST-MODIFIED:20231003T092856Z
UID:10654-1700438400-1700611199@vivatselvmordsforebygging.net
SUMMARY:Bergen\, Førstehjelp ved selvmordsfare
DESCRIPTION:Bergen kommune arrangerer kurset Førstehjelp ved selvmordsfare. \nKurset er for kommunens ansatte og er lukket for andre deltakere. \nKontaktperson er Anette Johannessen\, epost: Anette.Johannessen2@bergen.kommune.no \n
URL:https://vivatselvmordsforebygging.net/event/bergen-forstehjelp-ved-selvmordsfare-135/
LOCATION:Bergen\, Norge
CATEGORIES:Kurs,Førstehjelp ved selvmordsfare,Vest,Lukket kurs
GEO:60.472024;8.468946
END:VEVENT
BEGIN:VEVENT
DTSTART;VALUE=DATE:20231120
DTEND;VALUE=DATE:20231121
DTSTAMP:20260420T014147
CREATED:20231019T082317Z
LAST-MODIFIED:20231019T082409Z
UID:10686-1700438400-1700524799@vivatselvmordsforebygging.net
SUMMARY:Bamble\, Oppmerksom på selvmordstanker
DESCRIPTION:Bamble kommune arrangerer kurset Oppmerksom på selvmordstanker. \nKurset er for ansatte i kommunen. Ved ledige plasser kan andre delta. \nKontaktperson er Karin Baann\, epost: KarinIrene.Baann@bamble.kommune.no \n
URL:https://vivatselvmordsforebygging.net/event/bamble-oppmerksom-pa-selvmordstanker/
LOCATION:Bamble\, Norge
CATEGORIES:Kurs,Oppmerksom på selvmordstanker,Sør,Åpent/delvis åpent kurs,Lukket kurs
GEO:60.472024;8.468946
END:VEVENT
BEGIN:VEVENT
DTSTART;VALUE=DATE:20231120
DTEND;VALUE=DATE:20231122
DTSTAMP:20260420T014147
CREATED:20231020T120446Z
LAST-MODIFIED:20231020T120446Z
UID:10696-1700438400-1700611199@vivatselvmordsforebygging.net
SUMMARY:Lillestrøm\, Førstehjelp ved selvmordsfare
DESCRIPTION:Lillestrøm kommune arrangerer kurset Førstehjelp ved selvmordsfare. \nKurset er lukket. \nKontaktperson er Maj Liss Hofseth\, epost: MajLiss.Hofseth@lillestrom.kommune.no \n
URL:https://vivatselvmordsforebygging.net/event/lillestrom-forstehjelp-ved-selvmordsfare-15/
LOCATION:kommunehuset i Fet\, Norge
CATEGORIES:Kurs,Førstehjelp ved selvmordsfare,Øst,Lukket kurs
END:VEVENT
BEGIN:VEVENT
DTSTART;VALUE=DATE:20231120
DTEND;VALUE=DATE:20231121
DTSTAMP:20260420T014147
CREATED:20231031T090226Z
LAST-MODIFIED:20231031T115722Z
UID:10745-1700438400-1700524799@vivatselvmordsforebygging.net
SUMMARY:Heim\, Oppmerksom på selvmordstanker
DESCRIPTION:Heim kommune arrangerer kurset Oppmerksom på selvmordstanker. \nKurset er åpent for alle å melde seg på \nPåmelding/Kontaktperson er Trine Sæter Sødal\, epost: trine.sodahl@heim.kommune.no \n
URL:https://vivatselvmordsforebygging.net/event/heim-oppmerksom-pa-selvmordstanker-2/
LOCATION:Heim\, Norge
CATEGORIES:Kurs,Oppmerksom på selvmordstanker,Midt,Lukket kurs
END:VEVENT
END:VCALENDAR