BEGIN:VCALENDAR
VERSION:2.0
PRODID:-//vivat - ECPv4.9.14//NONSGML v1.0//EN
CALSCALE:GREGORIAN
METHOD:PUBLISH
X-WR-CALNAME:vivat
X-ORIGINAL-URL:https://vivatselvmordsforebygging.net
X-WR-CALDESC:Events for vivat
BEGIN:VTIMEZONE
TZID:Europe/Oslo
BEGIN:DAYLIGHT
TZOFFSETFROM:+0100
TZOFFSETTO:+0200
TZNAME:CEST
DTSTART:20230326T010000
END:DAYLIGHT
BEGIN:STANDARD
TZOFFSETFROM:+0200
TZOFFSETTO:+0100
TZNAME:CET
DTSTART:20231029T010000
END:STANDARD
END:VTIMEZONE
BEGIN:VEVENT
DTSTART;VALUE=DATE:20231127
DTEND;VALUE=DATE:20231129
DTSTAMP:20260420T000816
CREATED:20230725T123047Z
LAST-MODIFIED:20230919T090618Z
UID:10293-1701043200-1701215999@vivatselvmordsforebygging.net
SUMMARY:Notodden\, Førstehjelp ved selvmordsfare
DESCRIPTION:Kirkens SOS Telemark arrangerer kurset Førstehjelp ved selvmordsfare. \nKurset er åpent for alle å melde seg på. \nPris er 2000\,- pr. deltaker\, 1500\,- om det er flere fra samme sted. \nKontaktperson er Mette Johnsen Strand\, epost: mette.j.strand@kirkens-sos.no \n
URL:https://vivatselvmordsforebygging.net/event/notodden-forstehjelp-ved-selvmordsfare-2/
LOCATION:Notodden\, Telemark\, 3670\, Norge
CATEGORIES:Kurs,Førstehjelp ved selvmordsfare,Sør,Lukket kurs
GEO:37.361066;-76.7719232
END:VEVENT
BEGIN:VEVENT
DTSTART;VALUE=DATE:20231128
DTEND;VALUE=DATE:20231130
DTSTAMP:20260420T000816
CREATED:20231005T111609Z
LAST-MODIFIED:20231005T111609Z
UID:10662-1701129600-1701302399@vivatselvmordsforebygging.net
SUMMARY:Ålesund\, Førstehjelp ved selvmordsfare
DESCRIPTION:Ålesund kommune arrangerer kurset Førstehjelp ved selvmordsfare. \nKurset er lukket. \nKontaktperson er Ingrid Nesland\, epost: ing-nesl@online.no \n
URL:https://vivatselvmordsforebygging.net/event/alesund-forstehjelp-ved-selvmordsfare-13/
LOCATION:Ålesund\, Telemark\, Norge
CATEGORIES:Kurs,Førstehjelp ved selvmordsfare,Midt,Lukket kurs
GEO:60.472024;8.468946
END:VEVENT
BEGIN:VEVENT
DTSTART;VALUE=DATE:20231128
DTEND;VALUE=DATE:20231130
DTSTAMP:20260420T000816
CREATED:20231017T074844Z
LAST-MODIFIED:20231017T074844Z
UID:10681-1701129600-1701302399@vivatselvmordsforebygging.net
SUMMARY:Drammen\, Førstehjelp ved selvmordsfare
DESCRIPTION:NAV Drammen arrangerer kurset Førstehjelp ved selvmordsfare for sine ansatte. \nKurset er lukket. \nKontaktperson er Sandra Bye\, epost: sandra.bye@nav.no \n
URL:https://vivatselvmordsforebygging.net/event/drammen-forstehjelp-ved-selvmordsfare-22/
LOCATION:Drammen\, Telemark\, Norge
CATEGORIES:Kurs,Førstehjelp ved selvmordsfare,Øst,Lukket kurs
GEO:60.472024;8.468946
END:VEVENT
BEGIN:VEVENT
DTSTART;VALUE=DATE:20231128
DTEND;VALUE=DATE:20231129
DTSTAMP:20260420T000816
CREATED:20231027T120948Z
LAST-MODIFIED:20231027T120948Z
UID:10728-1701129600-1701215999@vivatselvmordsforebygging.net
SUMMARY:Ørlandet\, Oppmerksom på selvmordstanker
DESCRIPTION:Forsvaret arrangerer kurset Oppmerksom på selvmordstanker. \nKurset er lukket. \nKontaktperson er Lars Erichsen\, epost: laerichsen@mil.no \n
URL:https://vivatselvmordsforebygging.net/event/orlandet-oppmerksom-pa-selvmordstanker-5/
LOCATION:Ørlandet\, Telemark\, Norge
CATEGORIES:Kurs,Oppmerksom på selvmordstanker,Øst,Lukket kurs
END:VEVENT
BEGIN:VEVENT
DTSTART;VALUE=DATE:20231128
DTEND;VALUE=DATE:20231129
DTSTAMP:20260420T000816
CREATED:20231031T090435Z
LAST-MODIFIED:20231031T090435Z
UID:10747-1701129600-1701215999@vivatselvmordsforebygging.net
SUMMARY:Trondheim\, Oppmerksom på selvmordstanker
DESCRIPTION:Intrum arrangerer kurset Oppmerksom på selvmordstanker. \nKurset er lukket. \nKontaktperson er Runi Elisabeth Olsen. \n
URL:https://vivatselvmordsforebygging.net/event/trondheim-oppmerksom-pa-selvmordstanker-47/
LOCATION:Trondheim\, Trondheim\, Sør-Trøndelag\, 7000\, Norge
CATEGORIES:Kurs,Oppmerksom på selvmordstanker,Midt,Lukket kurs
GEO:63.427569;10.393207
END:VEVENT
END:VCALENDAR