BEGIN:VCALENDAR
VERSION:2.0
PRODID:-//vivat - ECPv4.9.14//NONSGML v1.0//EN
CALSCALE:GREGORIAN
METHOD:PUBLISH
X-WR-CALNAME:vivat
X-ORIGINAL-URL:https://vivatselvmordsforebygging.net
X-WR-CALDESC:Events for vivat
BEGIN:VTIMEZONE
TZID:Europe/Oslo
BEGIN:DAYLIGHT
TZOFFSETFROM:+0100
TZOFFSETTO:+0200
TZNAME:CEST
DTSTART:20230326T010000
END:DAYLIGHT
BEGIN:STANDARD
TZOFFSETFROM:+0200
TZOFFSETTO:+0100
TZNAME:CET
DTSTART:20231029T010000
END:STANDARD
END:VTIMEZONE
BEGIN:VEVENT
DTSTART;VALUE=DATE:20231130
DTEND;VALUE=DATE:20231202
DTSTAMP:20260420T000731
CREATED:20230825T121352Z
LAST-MODIFIED:20231005T113004Z
UID:10399-1701302400-1701475199@vivatselvmordsforebygging.net
SUMMARY:Hægebostad\, Førstehjelp ved selvmordsfare
DESCRIPTION:Hægebostad kommune arrangerer kurset Førstehjelp ved selvmordsfare. \nKurset er åpent for alle å melde seg på. Påmeldingsfrist: 30.oktober 2023 \nKontaktperson/påmelding: Johanna Spilde\, epost: johanna.spilde@haegebostad.kommune.no \nPris pr person inkludert lunsj 2 dager: 1350\,-. Faktura ettersendes\, fakturaadresse oppgis ved påmelding. \n  \n
URL:https://vivatselvmordsforebygging.net/event/haegebostad-forstehjelp-ved-selvmordsfare/
LOCATION:Hægebostad\, Norge
CATEGORIES:Kurs,Førstehjelp ved selvmordsfare,Sør,Åpent/delvis åpent kurs
END:VEVENT
BEGIN:VEVENT
DTSTART;VALUE=DATE:20231201
DTEND;VALUE=DATE:20231202
DTSTAMP:20260420T000731
CREATED:20230828T105619Z
LAST-MODIFIED:20230828T105619Z
UID:10460-1701388800-1701475199@vivatselvmordsforebygging.net
SUMMARY:Respons - digital undervisning
DESCRIPTION:Oslo kommune arrangerer kurset Respons. \nKurset er for kommunens ansatte\, og er lukket for andre deltakere. \nPåmelding \nKontaktperson er Rita Småvik\, epost: rita.smavik@hel.oslo.kommune.no \n
URL:https://vivatselvmordsforebygging.net/event/respons-digital-undervisning-8/
CATEGORIES:Kurs,Øst,Respons - å svare på selvmordstanker,Digital undervisning
END:VEVENT
BEGIN:VEVENT
DTSTART;VALUE=DATE:20231201
DTEND;VALUE=DATE:20231202
DTSTAMP:20260420T000731
CREATED:20231027T121050Z
LAST-MODIFIED:20231027T121050Z
UID:10730-1701388800-1701475199@vivatselvmordsforebygging.net
SUMMARY:Ørlandet\, Oppmerksom på selvmordstanker
DESCRIPTION:Forsvaret arrangerer kurset Oppmerksom på selvmordstanker. \nKurset er lukket. \nKontaktperson er Lars Erichsen\, epost: laerichsen@mil.no \n
URL:https://vivatselvmordsforebygging.net/event/orlandet-oppmerksom-pa-selvmordstanker-6/
LOCATION:Ørlandet Flystasjon
CATEGORIES:Kurs,Oppmerksom på selvmordstanker,Øst,Lukket kurs
END:VEVENT
END:VCALENDAR