BEGIN:VCALENDAR
VERSION:2.0
PRODID:-//vivat - ECPv4.9.14//NONSGML v1.0//EN
CALSCALE:GREGORIAN
METHOD:PUBLISH
X-WR-CALNAME:vivat
X-ORIGINAL-URL:https://vivatselvmordsforebygging.net
X-WR-CALDESC:Events for vivat
BEGIN:VTIMEZONE
TZID:Europe/Oslo
BEGIN:DAYLIGHT
TZOFFSETFROM:+0100
TZOFFSETTO:+0200
TZNAME:CEST
DTSTART:20230326T010000
END:DAYLIGHT
BEGIN:STANDARD
TZOFFSETFROM:+0200
TZOFFSETTO:+0100
TZNAME:CET
DTSTART:20231029T010000
END:STANDARD
END:VTIMEZONE
BEGIN:VEVENT
DTSTART;VALUE=DATE:20231204
DTEND;VALUE=DATE:20231206
DTSTAMP:20260420T000731
CREATED:20231121T082622Z
LAST-MODIFIED:20231121T082622Z
UID:10777-1701648000-1701820799@vivatselvmordsforebygging.net
SUMMARY:Stavanger\, Førstehjelp ved selvmordsfare
DESCRIPTION:Stavanger universitetssykehus arrangerer  kurset Førstehjelp ved selvmordsfare. \nKurset er lukket. \nKontaktperson er Ingvil Trana\, epost: ingvil.trana@sus.no \n  \n
URL:https://vivatselvmordsforebygging.net/event/stavanger-forstehjelp-ved-selvmordsfare-35/
LOCATION:Stavanger\, Norge
CATEGORIES:Kurs,Førstehjelp ved selvmordsfare,Vest,Lukket kurs
GEO:60.472024;8.468946
END:VEVENT
BEGIN:VEVENT
DTSTART;VALUE=DATE:20231205
DTEND;VALUE=DATE:20231207
DTSTAMP:20260420T000731
CREATED:20230831T082422Z
LAST-MODIFIED:20230831T082422Z
UID:10498-1701734400-1701907199@vivatselvmordsforebygging.net
SUMMARY:Kautokeino\, Førstehjelp ved selvmordsfare
DESCRIPTION:Kautokeino kommune arrangerer kurset Førstehjelp ved selvmordsfare . \nKurset er gratis for alle ansatte i kommunen og andre aktuelle tjenester som inviteres med støtte fra Troms og Finnmark fylkeskommune og Sametinget. Det er lukket for andre deltakere. \nKontaktperson/ påmelding: guro.nordgaard.siri@kautokeino.kommune.no innen 27.november \n
URL:https://vivatselvmordsforebygging.net/event/kautokeino-forstehjelp-ved-selvmordsfare-2/
LOCATION:Kautokeino\, Norge
CATEGORIES:Kurs,Førstehjelp ved selvmordsfare,Nord,Lukket kurs
END:VEVENT
BEGIN:VEVENT
DTSTART;VALUE=DATE:20231205
DTEND;VALUE=DATE:20231206
DTSTAMP:20260420T000731
CREATED:20231106T085525Z
LAST-MODIFIED:20231106T085525Z
UID:10758-1701734400-1701820799@vivatselvmordsforebygging.net
SUMMARY:Øygarden\, Oppmerksom på selvmordstanker
DESCRIPTION:Øygarden kommune arrangerer kurset Oppmerksom på selvmordstanker. \nKurset er lukket. \nKontaktperson er Tine Hammerich\, epost: tine.hammerich@online.no \n  \n
URL:https://vivatselvmordsforebygging.net/event/oygarden-oppmerksom-pa-selvmordstanker/
LOCATION:Øygarden
CATEGORIES:Kurs,Oppmerksom på selvmordstanker,Vest,Lukket kurs
END:VEVENT
END:VCALENDAR