BEGIN:VCALENDAR
VERSION:2.0
PRODID:-//vivat - ECPv4.9.14//NONSGML v1.0//EN
CALSCALE:GREGORIAN
METHOD:PUBLISH
X-WR-CALNAME:vivat
X-ORIGINAL-URL:https://vivatselvmordsforebygging.net
X-WR-CALDESC:Events for vivat
BEGIN:VTIMEZONE
TZID:Europe/Oslo
BEGIN:DAYLIGHT
TZOFFSETFROM:+0100
TZOFFSETTO:+0200
TZNAME:CEST
DTSTART:20240331T010000
END:DAYLIGHT
BEGIN:STANDARD
TZOFFSETFROM:+0200
TZOFFSETTO:+0100
TZNAME:CET
DTSTART:20241027T010000
END:STANDARD
END:VTIMEZONE
BEGIN:VEVENT
DTSTART;VALUE=DATE:20240206
DTEND;VALUE=DATE:20240208
DTSTAMP:20260419T210420
CREATED:20240115T084619Z
LAST-MODIFIED:20240115T084619Z
UID:10848-1707177600-1707350399@vivatselvmordsforebygging.net
SUMMARY:Svolvær\, Førstehjelp ved selvmordsfare
DESCRIPTION:Nordland fylkeskommune arrangerer kurset Førstehjelp ved selvmordsfare. \nKurset er for inviterte fra fylkeskommunen og kommuner i Nordland. \nKontaktperson er Torunn Blokhus\, epost: torunn.blokhus@sbnett.no \n  \n
URL:https://vivatselvmordsforebygging.net/event/svolvaer-forstehjelp-ved-selvmordsfare-4/
LOCATION:Svolvær\, Nordland\, Norge
CATEGORIES:Kurs,Førstehjelp ved selvmordsfare,Nord,Lukket kurs
GEO:67.097529;14.5736287
END:VEVENT
BEGIN:VEVENT
DTSTART;VALUE=DATE:20240206
DTEND;VALUE=DATE:20240208
DTSTAMP:20260419T210420
CREATED:20240115T091229Z
LAST-MODIFIED:20240115T091229Z
UID:10850-1707177600-1707350399@vivatselvmordsforebygging.net
SUMMARY:Bergen\, Førstehjelp ved selvmordsfare
DESCRIPTION:Bergen kommune arrangerer kurset Førstehjelp ved selvmordsfare. \nKurset er lukket. \nKontaktperson er Anette Johannessen\, epost: Anette.Johannessen2@bergen.kommune.no \n
URL:https://vivatselvmordsforebygging.net/event/bergen-forstehjelp-ved-selvmordsfare-139/
LOCATION:Bergen\, Nordland\, Norge
CATEGORIES:Kurs,Førstehjelp ved selvmordsfare,Vest,Lukket kurs
GEO:60.472024;8.468946
END:VEVENT
BEGIN:VEVENT
DTSTART;VALUE=DATE:20240207
DTEND;VALUE=DATE:20240208
DTSTAMP:20260419T210420
CREATED:20240119T085248Z
LAST-MODIFIED:20240119T085248Z
UID:10859-1707264000-1707350399@vivatselvmordsforebygging.net
SUMMARY:Oslo\, Oppmerksom på selvmordstanker
DESCRIPTION:VID Oslo arrangerer kurset Oppmerksom på selvmordstanker. \nKurset er lukket. \nKontaktperson er Elisabeth Nilsen Aas\, epost: elisabeth.aas@vid.no \n
URL:https://vivatselvmordsforebygging.net/event/oslo-oppmerksom-pa-selvmordstanker-65/
LOCATION:Oslo\, Nordland\, Norge
CATEGORIES:Kurs,Oppmerksom på selvmordstanker,Øst,Lukket kurs
GEO:60.472024;8.468946
END:VEVENT
END:VCALENDAR