BEGIN:VCALENDAR
VERSION:2.0
PRODID:-//vivat - ECPv4.9.14//NONSGML v1.0//EN
CALSCALE:GREGORIAN
METHOD:PUBLISH
X-WR-CALNAME:vivat
X-ORIGINAL-URL:https://vivatselvmordsforebygging.net
X-WR-CALDESC:Events for vivat
BEGIN:VTIMEZONE
TZID:Europe/Oslo
BEGIN:DAYLIGHT
TZOFFSETFROM:+0100
TZOFFSETTO:+0200
TZNAME:CEST
DTSTART:20240331T010000
END:DAYLIGHT
BEGIN:STANDARD
TZOFFSETFROM:+0200
TZOFFSETTO:+0100
TZNAME:CET
DTSTART:20241027T010000
END:STANDARD
END:VTIMEZONE
BEGIN:VEVENT
DTSTART;VALUE=DATE:20240227
DTEND;VALUE=DATE:20240229
DTSTAMP:20260419T194216
CREATED:20240110T102140Z
LAST-MODIFIED:20240110T102140Z
UID:10839-1708992000-1709164799@vivatselvmordsforebygging.net
SUMMARY:Dale i Sunnfjord\, Førstehjelp ved selvmordsfare
DESCRIPTION:Fjaler og Askvoll kommuner arrangerer kurset Førstehjelp ved selvmordsfare. \nKurset er lukket. \nKontaktperson er Håvard Yndestad\, epost: Havard.Soreide.Yndestad@Askvoll.kommune.no \n
URL:https://vivatselvmordsforebygging.net/event/dale-i-sunnfjord-forstehjelp-ved-selvmordsfare-3/
LOCATION:Dale i Sunnfjord\, Norge
CATEGORIES:Kurs,Førstehjelp ved selvmordsfare,Vest,Lukket kurs
END:VEVENT
BEGIN:VEVENT
DTSTART;VALUE=DATE:20240227
DTEND;VALUE=DATE:20240229
DTSTAMP:20260419T194216
CREATED:20240119T092952Z
LAST-MODIFIED:20240119T092952Z
UID:10864-1708992000-1709164799@vivatselvmordsforebygging.net
SUMMARY:Sortland\, Førstehjelp ved selvmordsfare
DESCRIPTION:Sortland kommune arrangerer kurset Førstehjelp ved selvmordsfare. \nKurset er for ansatte i Sortland kommune. Eksterne deltakere vurderes. \nKontaktperson er Randulf Nedrum\, epost:  randulf.nedrum@sortland.kommune.no \n
URL:https://vivatselvmordsforebygging.net/event/sortland-forstehjelp-ved-selvmordsfare-10/
LOCATION:Sortland\, Norge
CATEGORIES:Kurs,Førstehjelp ved selvmordsfare,Nord,Lukket kurs
END:VEVENT
BEGIN:VEVENT
DTSTART;VALUE=DATE:20240228
DTEND;VALUE=DATE:20240301
DTSTAMP:20260419T194216
CREATED:20231109T125336Z
LAST-MODIFIED:20231109T125336Z
UID:10767-1709078400-1709251199@vivatselvmordsforebygging.net
SUMMARY:Sandefjord\, Førstehjelp ved selvmordsfare
DESCRIPTION:Sandefjord kommune og Sykehuset i Vestfold HF arrangerer kurset Førstehjelp ved selvmordsfare. \nKurset er for ansatte i Sandefjord kommune og Sykehuset i Vestfold HF samt andre med tilknytning til Sandefjord. \nInvitasjon og påmelding \nKurset er åpent for målgruppen\, men personer utenfor målgruppen får kun delta dersom det er ledige plasser. \nKontaktperson er Harald Heggernes\, epost:  harald.heggernes@sandefjord.kommune.no \n
URL:https://vivatselvmordsforebygging.net/event/sandefjord-forstehjelp-ved-selvmordsfare-20/
LOCATION:Sandefjord\, Storgata 20\, Sandefjord\, Vestfold\, 3210\, Norge
CATEGORIES:Kurs,Førstehjelp ved selvmordsfare,Sør,Lukket kurs
GEO:59.1260689;10.221326
X-APPLE-STRUCTURED-LOCATION;VALUE=URI;X-ADDRESS=Sandefjord Storgata 20 Sandefjord Vestfold 3210 Norge;X-APPLE-RADIUS=500;X-TITLE=Storgata 20:geo:10.221326,59.1260689
END:VEVENT
BEGIN:VEVENT
DTSTART;VALUE=DATE:20240228
DTEND;VALUE=DATE:20240229
DTSTAMP:20260419T194216
CREATED:20240123T114414Z
LAST-MODIFIED:20240123T114414Z
UID:10875-1709078400-1709164799@vivatselvmordsforebygging.net
SUMMARY:Trondheim\, Oppmerksom på selvmordstanker
DESCRIPTION:Luftkrigsskolen arrangerer kurset Oppmerksom på selvmordstanker. \nKurset er lukket. \nKontaktperson er Hilde Ivarrud\, epost hivarrud@mil.no \n
URL:https://vivatselvmordsforebygging.net/event/trondheim-oppmerksom-pa-selvmordstanker-49/
LOCATION:Trondheim\, Norge
CATEGORIES:Kurs,Oppmerksom på selvmordstanker,Midt,Lukket kurs
GEO:60.472024;8.468946
END:VEVENT
END:VCALENDAR