BEGIN:VCALENDAR
VERSION:2.0
PRODID:-//vivat - ECPv4.9.14//NONSGML v1.0//EN
CALSCALE:GREGORIAN
METHOD:PUBLISH
X-WR-CALNAME:vivat
X-ORIGINAL-URL:https://vivatselvmordsforebygging.net
X-WR-CALDESC:Events for vivat
BEGIN:VTIMEZONE
TZID:Europe/Oslo
BEGIN:DAYLIGHT
TZOFFSETFROM:+0100
TZOFFSETTO:+0200
TZNAME:CEST
DTSTART:20240331T010000
END:DAYLIGHT
BEGIN:STANDARD
TZOFFSETFROM:+0200
TZOFFSETTO:+0100
TZNAME:CET
DTSTART:20241027T010000
END:STANDARD
END:VTIMEZONE
BEGIN:VEVENT
DTSTART;VALUE=DATE:20240522
DTEND;VALUE=DATE:20240524
DTSTAMP:20260419T164124
CREATED:20240315T091705Z
LAST-MODIFIED:20240315T091705Z
UID:10988-1716336000-1716508799@vivatselvmordsforebygging.net
SUMMARY:Isdalstø\, Førstehjelp ved selvmordsfare
DESCRIPTION:Kurset Førstehjelp ved selvmordsfare arrangeres på region NOrdhordaland Helsehus. \nKurset er åpent for alle å melde seg på. \nInvitasjon og påmelding \nKontaktperson er Jorunn Hårvik Brekkhus\, e-post: jorunn.harvik.brekkhus@modalen.kommune.no \n
URL:https://vivatselvmordsforebygging.net/event/isdalsto-forstehjelp-ved-selvmordsfare-8/
LOCATION:Isdalstø
CATEGORIES:Kurs,Førstehjelp ved selvmordsfare,Vest,Åpent/delvis åpent kurs
END:VEVENT
BEGIN:VEVENT
DTSTART;VALUE=DATE:20240522
DTEND;VALUE=DATE:20240523
DTSTAMP:20260419T164124
CREATED:20240508T120717Z
LAST-MODIFIED:20240508T120717Z
UID:11051-1716336000-1716422399@vivatselvmordsforebygging.net
SUMMARY:Bergen\, Oppmerksom på selvmordstanker
DESCRIPTION:Forsvaret arrangerer kurset Oppmerksom på selvmordstanker. \nKurset er for vernepliktige frå Velferden og tillitsvalde. Kurset er lukket for andre deltakere. \nKontaktperson er Helge Bjørgaas Helle\, epost: h.b.helle98@gmail.com. \n
URL:https://vivatselvmordsforebygging.net/event/bergen-oppmerksom-pa-selvmordstanker-36/
LOCATION:Bergen\, Norge
CATEGORIES:Kurs,Oppmerksom på selvmordstanker,Vest,Lukket kurs
GEO:60.472024;8.468946
END:VEVENT
BEGIN:VEVENT
DTSTART;TZID=Europe/Oslo:20240522T083000
DTEND;TZID=Europe/Oslo:20240523T160000
DTSTAMP:20260419T164124
CREATED:20240221T101317Z
LAST-MODIFIED:20240221T101317Z
UID:10959-1716366600-1716480000@vivatselvmordsforebygging.net
SUMMARY:Oslo\, Førstehjelp ved selvmordsfare
DESCRIPTION:Norsk Selskap for Gjenoppliving arrangerer kurset Førstehjelp ved selvmordsfare. \nKurset er åpent for alle å melde seg på. \nInvitasjon og påmelding \nKontaktperson er Evelyn Støen\, tlf: 977 41414\, epost: evelyn@gjenoppliving.no \n
URL:https://vivatselvmordsforebygging.net/event/oslo-forstehjelp-ved-selvmordsfare-122/
LOCATION:Oslo\, Norge
CATEGORIES:Kurs,Førstehjelp ved selvmordsfare,Øst,Åpent/delvis åpent kurs
GEO:60.472024;8.468946
END:VEVENT
END:VCALENDAR