BEGIN:VCALENDAR
VERSION:2.0
PRODID:-//vivat - ECPv4.9.14//NONSGML v1.0//EN
CALSCALE:GREGORIAN
METHOD:PUBLISH
X-WR-CALNAME:vivat
X-ORIGINAL-URL:https://vivatselvmordsforebygging.net
X-WR-CALDESC:Events for vivat
BEGIN:VTIMEZONE
TZID:Europe/Oslo
BEGIN:DAYLIGHT
TZOFFSETFROM:+0100
TZOFFSETTO:+0200
TZNAME:CEST
DTSTART:20240331T010000
END:DAYLIGHT
BEGIN:STANDARD
TZOFFSETFROM:+0200
TZOFFSETTO:+0100
TZNAME:CET
DTSTART:20241027T010000
END:STANDARD
END:VTIMEZONE
BEGIN:VEVENT
DTSTART;VALUE=DATE:20240529
DTEND;VALUE=DATE:20240531
DTSTAMP:20260419T151036
CREATED:20240201T093147Z
LAST-MODIFIED:20240201T093147Z
UID:10898-1716940800-1717113599@vivatselvmordsforebygging.net
SUMMARY:Fredrikstad\, Førstehjelp ved selvmordsfare
DESCRIPTION:Kriminalomsorgens høgskole og utdanningssenter – KRUS arrangerer kurset Førstehjelp ved selvmordsfare. \nKurset er for ansatte i kriminalomsorgen – Østfold friomsorgskontor og Ravneberget fengsel \nKontaktperson er Anne Natrud\, epost: Anne.Natrud@krus.no \n
URL:https://vivatselvmordsforebygging.net/event/fredrikstad-forstehjelp-ved-selvmordsfare-4/
LOCATION:Fredrikstad\, Norge
CATEGORIES:Kurs,Førstehjelp ved selvmordsfare,Øst,Lukket kurs
GEO:60.472024;8.468946
END:VEVENT
BEGIN:VEVENT
DTSTART;VALUE=DATE:20240529
DTEND;VALUE=DATE:20240531
DTSTAMP:20260419T151036
CREATED:20240513T114234Z
LAST-MODIFIED:20240513T114234Z
UID:11055-1716940800-1717113599@vivatselvmordsforebygging.net
SUMMARY:Oslo\, Førstehjelp ved selvmordsfare
DESCRIPTION:Forsvaret arrangerer kurset Førstehjelp ved selvmordsfare. \nSted er ikke bestemt. \nKurset er åpent for alle å melde seg på. \nPåmelding/kontaktperson: Lars Erichsen\, epost: lars.erichsen@hotmail.com \n  \n
URL:https://vivatselvmordsforebygging.net/event/oslo-forstehjelp-ved-selvmordsfare-125/
LOCATION:Oslo\, Norge
CATEGORIES:Kurs,Førstehjelp ved selvmordsfare,Øst,Åpent/delvis åpent kurs
GEO:60.472024;8.468946
END:VEVENT
BEGIN:VEVENT
DTSTART;VALUE=DATE:20240530
DTEND;VALUE=DATE:20240601
DTSTAMP:20260419T151036
CREATED:20240410T103914Z
LAST-MODIFIED:20240410T103914Z
UID:11039-1717027200-1717199999@vivatselvmordsforebygging.net
SUMMARY:Bergen\, Førstehjelp ved selvmordsfare
DESCRIPTION:NHIC med Mennesket i Fokus arrangerer kurset Førstehjelp ved selvmordsfare. \nKurset er åpent for alle å melde seg på. \nInvitasjon og påmelding \nKontaktperson er Randi T. Nordvik\, epost: randi@mennesketifokus.no \n
URL:https://vivatselvmordsforebygging.net/event/bergen-forstehjelp-ved-selvmordsfare-142/
LOCATION:Bergen\, Norge
CATEGORIES:Kurs,Førstehjelp ved selvmordsfare,Vest,Åpent/delvis åpent kurs
GEO:60.472024;8.468946
END:VEVENT
END:VCALENDAR