BEGIN:VCALENDAR
VERSION:2.0
PRODID:-//vivat - ECPv4.9.14//NONSGML v1.0//EN
CALSCALE:GREGORIAN
METHOD:PUBLISH
X-WR-CALNAME:vivat
X-ORIGINAL-URL:https://vivatselvmordsforebygging.net
X-WR-CALDESC:Events for vivat
BEGIN:VTIMEZONE
TZID:Europe/Oslo
BEGIN:DAYLIGHT
TZOFFSETFROM:+0100
TZOFFSETTO:+0200
TZNAME:CEST
DTSTART:20240331T010000
END:DAYLIGHT
BEGIN:STANDARD
TZOFFSETFROM:+0200
TZOFFSETTO:+0100
TZNAME:CET
DTSTART:20241027T010000
END:STANDARD
END:VTIMEZONE
BEGIN:VEVENT
DTSTART;VALUE=DATE:20240930
DTEND;VALUE=DATE:20241002
DTSTAMP:20260421T081500
CREATED:20240527T084821Z
LAST-MODIFIED:20240819T124918Z
UID:11075-1727654400-1727827199@vivatselvmordsforebygging.net
SUMMARY:Alta\, Førstehjelp ved selvmordsfare
DESCRIPTION:Alta videregående skole arrangerer kurset Førstehjelp ved selvmordsfare. \nKurset er for skolens elevtjeneste\, ansatte ved elevboligene og skolens ledelse. Hvis ledig plass\, kan vi være åpne for å ta inn andre. \nKontaktperson er  Beate Helms Ålien\,  epost:  beate.helms.aalien@ffk.no eller beate.helms.alien@gmail.com \n  \n
URL:https://vivatselvmordsforebygging.net/event/alta-forstehjelp-ved-selvmordsfare-2/
LOCATION:Alta\, Finnmark\, 9500\, Norge
CATEGORIES:Kurs,Førstehjelp ved selvmordsfare,Nord,Åpent/delvis åpent kurs
GEO:59.9208539;10.7751841
END:VEVENT
BEGIN:VEVENT
DTSTART;VALUE=DATE:20241001
DTEND;VALUE=DATE:20241003
DTSTAMP:20260421T081500
CREATED:20240902T121421Z
LAST-MODIFIED:20240902T121421Z
UID:11243-1727740800-1727913599@vivatselvmordsforebygging.net
SUMMARY:Ørnes\, Førstehjelp ved selvmordsfare
DESCRIPTION:Meløy kommune arrangerer kurset Førstehjelp ved selvmordsfare. \nKurset er for ansatte i offentlig sektor for helse- og sosial. \nKontaktperson er Maritha J. Birkelund\, epost: marithaJB_89@hotmail.com \n
URL:https://vivatselvmordsforebygging.net/event/ornes-forstehjelp-ved-selvmordsfare/
LOCATION:Ørnes i Meløy\, Finnmark\, Norge
CATEGORIES:Kurs,Førstehjelp ved selvmordsfare,Nord,Lukket kurs
GEO:60.472024;8.468946
END:VEVENT
BEGIN:VEVENT
DTSTART;VALUE=DATE:20241001
DTEND;VALUE=DATE:20241003
DTSTAMP:20260421T081500
CREATED:20240925T120808Z
LAST-MODIFIED:20240925T120915Z
UID:11290-1727740800-1727913599@vivatselvmordsforebygging.net
SUMMARY:Tromsø\, Førstehjelp ved selvmordsfare
DESCRIPTION:Kirkens SOS arrangerer kurset Førstehjelp ved selvmordsfare. \nKurset er åpent for frivillige organisasjoner. \nKontaktperson er Gry Heggås Jensen\, epost: gry.jensen@kirkens-sos.no \n
URL:https://vivatselvmordsforebygging.net/event/tromso-forstehjelp-ved-selvmordsfare-88/
LOCATION:Tromsø\, Finnmark\, Norge
CATEGORIES:Kurs,Førstehjelp ved selvmordsfare,Nord,Lukket kurs
GEO:60.472024;8.468946
END:VEVENT
END:VCALENDAR